BEGIN:VCALENDAR
VERSION:2.0
PRODID:-//Tervisekool - ECPv6.2.9//NONSGML v1.0//EN
CALSCALE:GREGORIAN
METHOD:PUBLISH
X-WR-CALNAME:Tervisekool
X-ORIGINAL-URL:https://dev.manguteraapia.ee
X-WR-CALDESC:Events for Tervisekool
REFRESH-INTERVAL;VALUE=DURATION:PT1H
X-Robots-Tag:noindex
X-PUBLISHED-TTL:PT1H
BEGIN:VTIMEZONE
TZID:Europe/Tallinn
BEGIN:DAYLIGHT
TZOFFSETFROM:+0200
TZOFFSETTO:+0300
TZNAME:EEST
DTSTART:20210328T010000
END:DAYLIGHT
BEGIN:STANDARD
TZOFFSETFROM:+0300
TZOFFSETTO:+0200
TZNAME:EET
DTSTART:20211031T010000
END:STANDARD
END:VTIMEZONE
BEGIN:VEVENT
DTSTART;VALUE=DATE:20211026
DTEND;VALUE=DATE:20211027
DTSTAMP:20260422T025707
CREATED:20210609T100140Z
LAST-MODIFIED:20210609T100140Z
UID:10959-1635206400-1635292799@dev.manguteraapia.ee
SUMMARY:Mänguteraapia V tsükkel Seksuaalne ahistamine ja väärkohtlemine.
DESCRIPTION:
URL:https://dev.manguteraapia.ee/syndmus/manguteraapia-v-tsukkel-seksuaalne-ahistamine-ja-vaarkohtlemine-2/
LOCATION:Tartu\, Kalevi 108\, Tartu\, 50104\, Eesti
END:VEVENT
BEGIN:VEVENT
DTSTART;VALUE=DATE:20211025
DTEND;VALUE=DATE:20211026
DTSTAMP:20260422T025707
CREATED:20210609T100056Z
LAST-MODIFIED:20210609T100056Z
UID:10957-1635120000-1635206399@dev.manguteraapia.ee
SUMMARY:Mänguteraapia V tsükkel Seksuaalne ahistamine ja väärkohtlemine.
DESCRIPTION:
URL:https://dev.manguteraapia.ee/syndmus/manguteraapia-v-tsukkel-seksuaalne-ahistamine-ja-vaarkohtlemine/
LOCATION:Tartu\, Kalevi 108\, Tartu\, 50104\, Eesti
END:VEVENT
BEGIN:VEVENT
DTSTART;VALUE=DATE:20211024
DTEND;VALUE=DATE:20211025
DTSTAMP:20260422T025707
CREATED:20210609T093009Z
LAST-MODIFIED:20210609T093009Z
UID:10938-1635033600-1635119999@dev.manguteraapia.ee
SUMMARY:Mänguteraapia XVIII tsükkel Autism ja mänguteraapia.
DESCRIPTION:
URL:https://dev.manguteraapia.ee/syndmus/manguteraapia-xviii-tsukkel-autism-ja-manguteraapia-2/
LOCATION:Tartu\, Kalevi 108\, Tartu\, 50104\, Eesti
END:VEVENT
BEGIN:VEVENT
DTSTART;VALUE=DATE:20211024
DTEND;VALUE=DATE:20211025
DTSTAMP:20260422T025707
CREATED:20210531T065448Z
LAST-MODIFIED:20210928T174729Z
UID:10668-1635033600-1635119999@dev.manguteraapia.ee
SUMMARY:Tln41 Toitumisnõustamise tehnikad. Annely Soots (zoom)
DESCRIPTION:
URL:https://dev.manguteraapia.ee/syndmus/tln41-toitumisnoustamise-alused/
LOCATION:Zoom
END:VEVENT
BEGIN:VEVENT
DTSTART;VALUE=DATE:20211023
DTEND;VALUE=DATE:20211024
DTSTAMP:20260422T025707
CREATED:20210609T092947Z
LAST-MODIFIED:20210609T092947Z
UID:10936-1634947200-1635033599@dev.manguteraapia.ee
SUMMARY:Mänguteraapia XVIII tsükkel Autism ja mänguteraapia.
DESCRIPTION:
URL:https://dev.manguteraapia.ee/syndmus/manguteraapia-xviii-tsukkel-autism-ja-manguteraapia/
LOCATION:Tartu\, Kalevi 108\, Tartu\, 50104\, Eesti
END:VEVENT
BEGIN:VEVENT
DTSTART;VALUE=DATE:20211023
DTEND;VALUE=DATE:20211024
DTSTAMP:20260422T025707
CREATED:20210531T065601Z
LAST-MODIFIED:20210928T174725Z
UID:10671-1634947200-1635033599@dev.manguteraapia.ee
SUMMARY:Tln41 Toitumisnõustamise alused. Triin Muiste (zoom)
DESCRIPTION:
URL:https://dev.manguteraapia.ee/syndmus/tln41-toiutmisnoustamise-alused/
LOCATION:Zoom
END:VEVENT
BEGIN:VEVENT
DTSTART;VALUE=DATE:20211021
DTEND;VALUE=DATE:20211022
DTSTAMP:20260422T025707
CREATED:20210531T065321Z
LAST-MODIFIED:20210928T174722Z
UID:10664-1634774400-1634860799@dev.manguteraapia.ee
SUMMARY:Tartu15 Raseda toitumine. Külli Holsting (zoom)
DESCRIPTION:
URL:https://dev.manguteraapia.ee/syndmus/tartu15-raseda-toitumine-kulli-holsting/
LOCATION:Zoom
END:VEVENT
BEGIN:VEVENT
DTSTART;VALUE=DATE:20211020
DTEND;VALUE=DATE:20211021
DTSTAMP:20260422T025707
CREATED:20210531T065402Z
LAST-MODIFIED:20210928T174718Z
UID:10666-1634688000-1634774399@dev.manguteraapia.ee
SUMMARY:Tartu15 Söömishäirete äratundmine. Pille Javed (zoom)
DESCRIPTION:
URL:https://dev.manguteraapia.ee/syndmus/tartu15-soomishairete-aratundmine/
LOCATION:Zoom
END:VEVENT
BEGIN:VEVENT
DTSTART;TZID=Europe/Tallinn:20211017T080000
DTEND;TZID=Europe/Tallinn:20211017T170000
DTSTAMP:20260422T025707
CREATED:20210929T094650Z
LAST-MODIFIED:20210929T112038Z
UID:11917-1634457600-1634490000@dev.manguteraapia.ee
SUMMARY:Tartu 14 Viimane õppepäev. Õpilaste ettekanded (referaadid ja menüü analüüsid). Annely Soots
DESCRIPTION:
URL:https://dev.manguteraapia.ee/syndmus/tartu-14-viimane-oppepaev-opilaste-ettekanded-referaadid-ja-menuu-analuusid-annely-soots/
END:VEVENT
BEGIN:VEVENT
DTSTART;VALUE=DATE:20211016
DTEND;VALUE=DATE:20211017
DTSTAMP:20260422T025707
CREATED:20210531T065227Z
LAST-MODIFIED:20210929T094523Z
UID:10662-1634342400-1634428799@dev.manguteraapia.ee
SUMMARY:Tartu14 TN praktika\, erinevad juhtumid. Pille Javed (zoom)
DESCRIPTION:
URL:https://dev.manguteraapia.ee/syndmus/tartu-14-tn-praktika-ja-opilaste-ettekanded/
LOCATION:Zoom
END:VEVENT
BEGIN:VEVENT
DTSTART;VALUE=DATE:20211014
DTEND;VALUE=DATE:20211015
DTSTAMP:20260422T025707
CREATED:20210531T065131Z
LAST-MODIFIED:20210928T121718Z
UID:10660-1634169600-1634255999@dev.manguteraapia.ee
SUMMARY:Tln40 Esmaaabi. Reet Saia (zoom)
DESCRIPTION:
URL:https://dev.manguteraapia.ee/syndmus/tln40-esmaaabi-reet-saia/
LOCATION:Zoom
END:VEVENT
BEGIN:VEVENT
DTSTART;TZID=Europe/Tallinn:20211013T080000
DTEND;TZID=Europe/Tallinn:20211013T170000
DTSTAMP:20260422T025707
CREATED:20210929T102553Z
LAST-MODIFIED:20210929T102553Z
UID:11945-1634112000-1634144400@dev.manguteraapia.ee
SUMMARY:FTT praktikum
DESCRIPTION:
URL:https://dev.manguteraapia.ee/syndmus/ftt-praktikum/
END:VEVENT
BEGIN:VEVENT
DTSTART;VALUE=DATE:20211013
DTEND;VALUE=DATE:20211014
DTSTAMP:20260422T025707
CREATED:20210531T074635Z
LAST-MODIFIED:20211011T092244Z
UID:10686-1634083200-1634169599@dev.manguteraapia.ee
SUMMARY:Tln40 Vaimse tervise toetamine toiduga. Pille Javed
DESCRIPTION:
URL:https://dev.manguteraapia.ee/syndmus/tln40-vaimse-tervise-toetamine-toiduga/
LOCATION:Zoom
END:VEVENT
BEGIN:VEVENT
DTSTART;VALUE=DATE:20211010
DTEND;VALUE=DATE:20211011
DTSTAMP:20260422T025707
CREATED:20210531T064941Z
LAST-MODIFIED:20210928T120304Z
UID:10656-1633824000-1633910399@dev.manguteraapia.ee
SUMMARY:Tln39 Probleemne klient. Annely Soots (zoom)
DESCRIPTION:
URL:https://dev.manguteraapia.ee/syndmus/tln39-probleemne-klient-a-soots/
LOCATION:Zoom
END:VEVENT
BEGIN:VEVENT
DTSTART;VALUE=DATE:20211009
DTEND;VALUE=DATE:20211010
DTSTAMP:20260422T025707
CREATED:20210531T064851Z
LAST-MODIFIED:20210929T100337Z
UID:10654-1633737600-1633823999@dev.manguteraapia.ee
SUMMARY:Tln39 Südamehaiguste ja diabeedi ennetamine. Pille Javed (zoom)
DESCRIPTION:
URL:https://dev.manguteraapia.ee/syndmus/tln39-toiduhugieen-laivi-mesikapp/
LOCATION:Zoom
END:VEVENT
BEGIN:VEVENT
DTSTART;TZID=Europe/Tallinn:20211008T080000
DTEND;TZID=Europe/Tallinn:20211008T170000
DTSTAMP:20260422T025707
CREATED:20210531T062815Z
LAST-MODIFIED:20210929T094217Z
UID:10630-1633680000-1633712400@dev.manguteraapia.ee
SUMMARY:TT5 Haigused ja TT. Annely Soots (zoom)
DESCRIPTION:
URL:https://dev.manguteraapia.ee/syndmus/tt5-haigused-ja-tt-p-javed/
LOCATION:Zoom
END:VEVENT
BEGIN:VEVENT
DTSTART;TZID=Europe/Tallinn:20211007T080000
DTEND;TZID=Europe/Tallinn:20211007T170000
DTSTAMP:20260422T025707
CREATED:20210929T094409Z
LAST-MODIFIED:20210929T094409Z
UID:11914-1633593600-1633626000@dev.manguteraapia.ee
SUMMARY:TT5 Haigused ja toitumisteraapia. Pille Javed.
DESCRIPTION:
URL:https://dev.manguteraapia.ee/syndmus/tt5-haigused-ja-toitumisteraapia-pille-javed/
END:VEVENT
BEGIN:VEVENT
DTSTART;VALUE=DATE:20211006
DTEND;VALUE=DATE:20211007
DTSTAMP:20260422T025707
CREATED:20210928T115308Z
LAST-MODIFIED:20210928T115656Z
UID:11883-1633478400-1633564799@dev.manguteraapia.ee
SUMMARY:TN2 I tsükkel. Triin Muiste (zoom)
DESCRIPTION:
URL:https://dev.manguteraapia.ee/syndmus/tn2-i-tsukkel-annely-soots-ja-triin-muiste-zoom/
LOCATION:Zoom
END:VEVENT
BEGIN:VEVENT
DTSTART;VALUE=DATE:20211005
DTEND;VALUE=DATE:20211006
DTSTAMP:20260422T025707
CREATED:20210531T075618Z
LAST-MODIFIED:20210928T115653Z
UID:10700-1633392000-1633478399@dev.manguteraapia.ee
SUMMARY:TN2 I tsükkel. Annely Soots (zoom)
DESCRIPTION:
URL:https://dev.manguteraapia.ee/syndmus/tartu16-i-tsukkel/
LOCATION:Zoom
END:VEVENT
BEGIN:VEVENT
DTSTART;VALUE=DATE:20211003
DTEND;VALUE=DATE:20211004
DTSTAMP:20260422T025707
CREATED:20210928T115733Z
LAST-MODIFIED:20210929T093651Z
UID:11885-1633219200-1633305599@dev.manguteraapia.ee
SUMMARY:TN1 I tsükkel. Triin Muiste ja Mari Liis Väli (zoom)
DESCRIPTION:
URL:https://dev.manguteraapia.ee/syndmus/tn1-i-tsukkel-triin-muiste-zoom/
LOCATION:Zoom
END:VEVENT
BEGIN:VEVENT
DTSTART;VALUE=DATE:20211002
DTEND;VALUE=DATE:20211003
DTSTAMP:20260422T025707
CREATED:20210531T075911Z
LAST-MODIFIED:20210928T115719Z
UID:10706-1633132800-1633219199@dev.manguteraapia.ee
SUMMARY:TN1 I tsükkel. Annely Soots (zoom)
DESCRIPTION:
URL:https://dev.manguteraapia.ee/syndmus/tln43-i-tsukkel/
LOCATION:Zoom
END:VEVENT
BEGIN:VEVENT
DTSTART;VALUE=DATE:20211001
DTEND;VALUE=DATE:20211002
DTSTAMP:20260422T025707
CREATED:20210531T064054Z
LAST-MODIFIED:20210907T072742Z
UID:10652-1633046400-1633132799@dev.manguteraapia.ee
SUMMARY:Tln42 Menüü analüüs Nutridatas. Mari-Liis Väli (zoom)
DESCRIPTION:
URL:https://dev.manguteraapia.ee/syndmus/tln42-menuu-analuus-nutridatas-m-l-vali/
LOCATION:Zoom
END:VEVENT
BEGIN:VEVENT
DTSTART;VALUE=DATE:20210930
DTEND;VALUE=DATE:20211001
DTSTAMP:20260422T025707
CREATED:20210531T064008Z
LAST-MODIFIED:20210909T050152Z
UID:10650-1632960000-1633046399@dev.manguteraapia.ee
SUMMARY:Tln42 Menüü analüüs portsjonitega. Mari-Liis Väli (zoom)
DESCRIPTION:
URL:https://dev.manguteraapia.ee/syndmus/tln42-menuu-analuus-portsjonitega-m-l-vali/
LOCATION:Zoom
END:VEVENT
BEGIN:VEVENT
DTSTART;VALUE=DATE:20210928
DTEND;VALUE=DATE:20210929
DTSTAMP:20260422T025707
CREATED:20210621T043757Z
LAST-MODIFIED:20210907T072344Z
UID:11185-1632787200-1632873599@dev.manguteraapia.ee
SUMMARY:Tln38 Praktiline kliendinõustamine. Mari-Liis Väli (zoom)
DESCRIPTION:
URL:https://dev.manguteraapia.ee/syndmus/tln38-praktiline-kliendinoustamine/
END:VEVENT
BEGIN:VEVENT
DTSTART;VALUE=DATE:20210928
DTEND;VALUE=DATE:20210929
DTSTAMP:20260422T025707
CREATED:20210609T092700Z
LAST-MODIFIED:20210609T092700Z
UID:10934-1632787200-1632873599@dev.manguteraapia.ee
SUMMARY:Mänguteraapia XVII tsükkel Lapseea söömishäired.
DESCRIPTION:
URL:https://dev.manguteraapia.ee/syndmus/manguteraapia-xvii-tsukkel-lapseea-soomishaired-2/
LOCATION:Tartu\, Kalevi 108\, Tartu\, 50104\, Eesti
END:VEVENT
BEGIN:VEVENT
DTSTART;VALUE=DATE:20210927
DTEND;VALUE=DATE:20210928
DTSTAMP:20260422T025707
CREATED:20210609T092604Z
LAST-MODIFIED:20210609T093348Z
UID:10932-1632700800-1632787199@dev.manguteraapia.ee
SUMMARY:Mänguteraapia XVII tsükkel Lapseea söömishäired.
DESCRIPTION:
URL:https://dev.manguteraapia.ee/syndmus/manguteraapia-xvii-tsukkel-lapseea-soomishaired/
LOCATION:Tartu\, Kalevi 108\, Tartu\, 50104\, Eesti
END:VEVENT
BEGIN:VEVENT
DTSTART;VALUE=DATE:20210927
DTEND;VALUE=DATE:20210928
DTSTAMP:20260422T025707
CREATED:20210531T063905Z
LAST-MODIFIED:20210907T072348Z
UID:10648-1632700800-1632787199@dev.manguteraapia.ee
SUMMARY:Tln38 TN praktika\, juhtumite analüüsid. Pille Javed (zoom)
DESCRIPTION:
URL:https://dev.manguteraapia.ee/syndmus/tln38-tn-praktika-juhtumite-analuusid/
LOCATION:Zoom
END:VEVENT
BEGIN:VEVENT
DTSTART;TZID=Europe/Tallinn:20210925T080000
DTEND;TZID=Europe/Tallinn:20210926T170000
DTSTAMP:20260422T025707
CREATED:20210531T063820Z
LAST-MODIFIED:20210907T072007Z
UID:10646-1632556800-1632675600@dev.manguteraapia.ee
SUMMARY:Tln41 Kehakaalu teooria ja praktika. Triin Muiste (zoom)
DESCRIPTION:
URL:https://dev.manguteraapia.ee/syndmus/tln41-kehakaalu-teooria-ja-praktika/
LOCATION:Zoom
END:VEVENT
BEGIN:VEVENT
DTSTART;VALUE=DATE:20210924
DTEND;VALUE=DATE:20210925
DTSTAMP:20260422T025707
CREATED:20210609T095951Z
LAST-MODIFIED:20210609T095951Z
UID:10955-1632441600-1632527999@dev.manguteraapia.ee
SUMMARY:Mänguteraapia IV tsükkel Vihaga toimetuleku mänguterapeutilise tehnikad.
DESCRIPTION:
URL:https://dev.manguteraapia.ee/syndmus/manguteraapia-iv-tsukkel-vihaga-toimetuleku-manguterapeutilise-tehnikad-2/
LOCATION:Tartu\, Kalevi 108\, Tartu\, 50104\, Eesti
END:VEVENT
BEGIN:VEVENT
DTSTART;VALUE=DATE:20210923
DTEND;VALUE=DATE:20210924
DTSTAMP:20260422T025707
CREATED:20210609T095917Z
LAST-MODIFIED:20210609T095917Z
UID:10953-1632355200-1632441599@dev.manguteraapia.ee
SUMMARY:Mänguteraapia IV tsükkel Vihaga toimetuleku mänguterapeutilise tehnikad.
DESCRIPTION:
URL:https://dev.manguteraapia.ee/syndmus/manguteraapia-iv-tsukkel-vihaga-toimetuleku-manguterapeutilise-tehnikad/
LOCATION:Tartu\, Kalevi 108\, Tartu\, 50104\, Eesti
END:VEVENT
END:VCALENDAR