BEGIN:VCALENDAR
VERSION:2.0
PRODID:-//Tervisekool - ECPv6.2.9//NONSGML v1.0//EN
CALSCALE:GREGORIAN
METHOD:PUBLISH
X-WR-CALNAME:Tervisekool
X-ORIGINAL-URL:https://dev.manguteraapia.ee
X-WR-CALDESC:Events for Tervisekool
REFRESH-INTERVAL;VALUE=DURATION:PT1H
X-Robots-Tag:noindex
X-PUBLISHED-TTL:PT1H
BEGIN:VTIMEZONE
TZID:Europe/Tallinn
BEGIN:DAYLIGHT
TZOFFSETFROM:+0200
TZOFFSETTO:+0300
TZNAME:EEST
DTSTART:20210328T010000
END:DAYLIGHT
BEGIN:STANDARD
TZOFFSETFROM:+0300
TZOFFSETTO:+0200
TZNAME:EET
DTSTART:20211031T010000
END:STANDARD
END:VTIMEZONE
BEGIN:VEVENT
DTSTART;VALUE=DATE:20210921
DTEND;VALUE=DATE:20210922
DTSTAMP:20260421T174212
CREATED:20210531T063437Z
LAST-MODIFIED:20210907T071932Z
UID:10644-1632182400-1632268799@dev.manguteraapia.ee
SUMMARY:Tartu15 Eaka toitumine. Pille Javed (zoom)
DESCRIPTION:
URL:https://dev.manguteraapia.ee/syndmus/tartu-15-eaka-toitumine/
LOCATION:Zoom
END:VEVENT
BEGIN:VEVENT
DTSTART;VALUE=DATE:20210920
DTEND;VALUE=DATE:20210921
DTSTAMP:20260421T174213
CREATED:20210531T063340Z
LAST-MODIFIED:20210907T071929Z
UID:10642-1632096000-1632182399@dev.manguteraapia.ee
SUMMARY:Tartu15 Lapse toitumine. Triin Muiste (zoom)
DESCRIPTION:
URL:https://dev.manguteraapia.ee/syndmus/tartu15-lapse-toitumine-t-muiste/
LOCATION:Zoom
END:VEVENT
BEGIN:VEVENT
DTSTART;VALUE=DATE:20210919
DTEND;VALUE=DATE:20210920
DTSTAMP:20260421T174213
CREATED:20210916T061728Z
LAST-MODIFIED:20210916T061808Z
UID:11853-1632009600-1632095999@dev.manguteraapia.ee
SUMMARY:TLN37 Kursuse lõpetamine\, õppijate ettekanded. Annely Soots
DESCRIPTION:
URL:https://dev.manguteraapia.ee/syndmus/tln37-kursuse-lopetamine-oppijate-ettekanded-annely-soots/
END:VEVENT
BEGIN:VEVENT
DTSTART;VALUE=DATE:20210918
DTEND;VALUE=DATE:20210919
DTSTAMP:20260421T174213
CREATED:20210531T063252Z
LAST-MODIFIED:20210916T061636Z
UID:10640-1631923200-1632009599@dev.manguteraapia.ee
SUMMARY:Tln37 TN praktika\, juhtumianalüüsid. Pille Javed
DESCRIPTION:
URL:https://dev.manguteraapia.ee/syndmus/tln37-tn-praktika-opilaste-ettekanded/
LOCATION:Zoom
END:VEVENT
BEGIN:VEVENT
DTSTART;VALUE=DATE:20210916
DTEND;VALUE=DATE:20210917
DTSTAMP:20260421T174213
CREATED:20210531T063143Z
LAST-MODIFIED:20210906T192946Z
UID:10638-1631750400-1631836799@dev.manguteraapia.ee
SUMMARY:Tln40 Seedimise toetamine. Pille Javed (zoom)
DESCRIPTION:
URL:https://dev.manguteraapia.ee/syndmus/tln40-seedimise-toetamine-p-javed/
LOCATION:Zoom
END:VEVENT
BEGIN:VEVENT
DTSTART;VALUE=DATE:20210915
DTEND;VALUE=DATE:20210916
DTSTAMP:20260421T174213
CREATED:20210531T063054Z
LAST-MODIFIED:20210906T192956Z
UID:10636-1631664000-1631750399@dev.manguteraapia.ee
SUMMARY:Tln40 Seedimise anat/füsiol. Annely Soots (zoom)
DESCRIPTION:
URL:https://dev.manguteraapia.ee/syndmus/tln40-seedimise-anat-fusiol-a-soots/
LOCATION:Zoom
END:VEVENT
BEGIN:VEVENT
DTSTART;VALUE=DATE:20210912
DTEND;VALUE=DATE:20210913
DTSTAMP:20260421T174213
CREATED:20210531T062916Z
LAST-MODIFIED:20210907T074102Z
UID:10632-1631404800-1631491199@dev.manguteraapia.ee
SUMMARY:Tln39 Tervislik liikumine. Mari-Liis Väli (zoom)
DESCRIPTION:
URL:https://dev.manguteraapia.ee/syndmus/tln39-tervislik-liikumine-m-l-vali/
LOCATION:Zoom
END:VEVENT
BEGIN:VEVENT
DTSTART;VALUE=DATE:20210911
DTEND;VALUE=DATE:20210912
DTSTAMP:20260421T174213
CREATED:20210531T063001Z
LAST-MODIFIED:20210907T074106Z
UID:10634-1631318400-1631404799@dev.manguteraapia.ee
SUMMARY:Tln39 Esmaabi. Reet Saia (zoom)
DESCRIPTION:
URL:https://dev.manguteraapia.ee/syndmus/tln39-esmaabi-reet-saia/
LOCATION:Zoom
END:VEVENT
BEGIN:VEVENT
DTSTART;VALUE=DATE:20210910
DTEND;VALUE=DATE:20210911
DTSTAMP:20260421T174213
CREATED:20210531T062724Z
LAST-MODIFIED:20210906T192517Z
UID:10628-1631232000-1631318399@dev.manguteraapia.ee
SUMMARY:TT5 Seedetrakti tervis ja TT\, pädevuse piirid. Pille Javed (zoom)
DESCRIPTION:
URL:https://dev.manguteraapia.ee/syndmus/tt5-seedetrakti-tervis-ja-tt-padevuse-piirid-p-javed/
LOCATION:Zoom
END:VEVENT
BEGIN:VEVENT
DTSTART;VALUE=DATE:20210909
DTEND;VALUE=DATE:20210910
DTSTAMP:20260421T174213
CREATED:20210531T062606Z
LAST-MODIFIED:20210906T192522Z
UID:10625-1631145600-1631231999@dev.manguteraapia.ee
SUMMARY:TT5 Psüühika ja toitumine. Annely Soots (zoom)
DESCRIPTION:
URL:https://dev.manguteraapia.ee/syndmus/tt5-psuuhika-ja-toitumine/
LOCATION:Zoom
END:VEVENT
BEGIN:VEVENT
DTSTART;VALUE=DATE:20210829
DTEND;VALUE=DATE:20210830
DTSTAMP:20260421T174213
CREATED:20210531T062322Z
LAST-MODIFIED:20210812T125254Z
UID:10623-1630195200-1630281599@dev.manguteraapia.ee
SUMMARY:Tln41 Menüü analüüs Nutridataga. Mari-Liis Väli (zoom)
DESCRIPTION:
URL:https://dev.manguteraapia.ee/syndmus/tln41-menuu-analuus-nutridataga-m-l-vali/
LOCATION:Zoom
END:VEVENT
BEGIN:VEVENT
DTSTART;VALUE=DATE:20210828
DTEND;VALUE=DATE:20210829
DTSTAMP:20260421T174213
CREATED:20210407T110745Z
LAST-MODIFIED:20210629T062137Z
UID:9477-1630108800-1630195199@dev.manguteraapia.ee
SUMMARY:Tln41 Põhitoitained. Mari-Liis Väli (zoom)
DESCRIPTION:
URL:https://dev.manguteraapia.ee/syndmus/tln41-pohitoitained-mari-liis-vali/
END:VEVENT
BEGIN:VEVENT
DTSTART;VALUE=DATE:20210826
DTEND;VALUE=DATE:20210827
DTSTAMP:20260421T174213
CREATED:20210531T062141Z
LAST-MODIFIED:20210812T125252Z
UID:10619-1629936000-1630022399@dev.manguteraapia.ee
SUMMARY:Tln42 Põhitoitained. Annely Soots (zoom)
DESCRIPTION:
URL:https://dev.manguteraapia.ee/syndmus/tln42-pohitoitained-a-soots/
LOCATION:Zoom
END:VEVENT
BEGIN:VEVENT
DTSTART;VALUE=DATE:20210825
DTEND;VALUE=DATE:20210826
DTSTAMP:20260421T174213
CREATED:20210531T062024Z
LAST-MODIFIED:20210812T125250Z
UID:10617-1629849600-1629935999@dev.manguteraapia.ee
SUMMARY:Tln42 Vitamiinid/mineraalained. Annely Soots (zoom)
DESCRIPTION:
URL:https://dev.manguteraapia.ee/syndmus/tln42-vitamiinid-mineraalained-a-soots/
LOCATION:Zoom
END:VEVENT
BEGIN:VEVENT
DTSTART;VALUE=DATE:20210824
DTEND;VALUE=DATE:20210825
DTSTAMP:20260421T174213
CREATED:20210531T061930Z
LAST-MODIFIED:20210812T125239Z
UID:10615-1629763200-1629849599@dev.manguteraapia.ee
SUMMARY:Tln38 Psüühilise häirega klient. Annely Soots (zoom)
DESCRIPTION:
URL:https://dev.manguteraapia.ee/syndmus/tln38-psuuhilise-hairega-klient-a-soots/
LOCATION:Zoom
END:VEVENT
BEGIN:VEVENT
DTSTART;VALUE=DATE:20210823
DTEND;VALUE=DATE:20210824
DTSTAMP:20260421T174213
CREATED:20210531T061847Z
LAST-MODIFIED:20210812T125237Z
UID:10613-1629676800-1629763199@dev.manguteraapia.ee
SUMMARY:Tln38 Taimetoitlus. Pille Javed (zoom)
DESCRIPTION:
URL:https://dev.manguteraapia.ee/syndmus/tln38-taimetoitlus-p-javed/
LOCATION:Zoom
END:VEVENT
BEGIN:VEVENT
DTSTART;VALUE=DATE:20210822
DTEND;VALUE=DATE:20210823
DTSTAMP:20260421T174213
CREATED:20210531T061759Z
LAST-MODIFIED:20210812T125234Z
UID:10611-1629590400-1629676799@dev.manguteraapia.ee
SUMMARY:Tln39 Seedimise toetamine. Pille Javed (zoom)
DESCRIPTION:
URL:https://dev.manguteraapia.ee/syndmus/tln39-seedimise-toetamine-pille-javed/
LOCATION:Zoom
END:VEVENT
BEGIN:VEVENT
DTSTART;VALUE=DATE:20210821
DTEND;VALUE=DATE:20210822
DTSTAMP:20260421T174213
CREATED:20210531T061652Z
LAST-MODIFIED:20210621T084000Z
UID:10609-1629504000-1629590399@dev.manguteraapia.ee
SUMMARY:Tln39 Raseda toitumine. Külli Holsting (zoom)
DESCRIPTION:
URL:https://dev.manguteraapia.ee/syndmus/tln39-seedimise-anat-fusiol-a-soots/
LOCATION:Zoom
END:VEVENT
BEGIN:VEVENT
DTSTART;VALUE=DATE:20210819
DTEND;VALUE=DATE:20210820
DTSTAMP:20260421T174213
CREATED:20210531T061350Z
LAST-MODIFIED:20210812T125139Z
UID:10603-1629331200-1629417599@dev.manguteraapia.ee
SUMMARY:Tln40 Söömishäirete äratundmine. Pille Javed (zoom)
DESCRIPTION:
URL:https://dev.manguteraapia.ee/syndmus/tln40-soomishairete-aratundmine/
LOCATION:Zoom
END:VEVENT
BEGIN:VEVENT
DTSTART;VALUE=DATE:20210818
DTEND;VALUE=DATE:20210819
DTSTAMP:20260421T174213
CREATED:20210531T061540Z
LAST-MODIFIED:20210812T124929Z
UID:10607-1629244800-1629331199@dev.manguteraapia.ee
SUMMARY:TT5. Aneemiad ja TT. Annely Soots (skype)
DESCRIPTION:
URL:https://dev.manguteraapia.ee/syndmus/tt5-aneemiad-ja-tt-a-soots/
LOCATION:Zoom
END:VEVENT
BEGIN:VEVENT
DTSTART;VALUE=DATE:20210818
DTEND;VALUE=DATE:20210819
DTSTAMP:20260421T174213
CREATED:20210531T061131Z
LAST-MODIFIED:20210812T125121Z
UID:10601-1629244800-1629331199@dev.manguteraapia.ee
SUMMARY:Tln40 Raseda toitumine. Külli Holsting (zoom)
DESCRIPTION:
URL:https://dev.manguteraapia.ee/syndmus/tln40-raseda-toitumine/
LOCATION:Zoom
END:VEVENT
BEGIN:VEVENT
DTSTART;TZID=Europe/Tallinn:20210817T080000
DTEND;TZID=Europe/Tallinn:20210817T170000
DTSTAMP:20260421T174213
CREATED:20210531T060112Z
LAST-MODIFIED:20210812T125121Z
UID:10592-1629187200-1629219600@dev.manguteraapia.ee
SUMMARY:Tartu15 Anatoomia/füsioloogia. Annely Soots (zoom)
DESCRIPTION:
URL:https://dev.manguteraapia.ee/syndmus/tartu14-tn-juhtumid/
END:VEVENT
BEGIN:VEVENT
DTSTART;VALUE=DATE:20210817
DTEND;VALUE=DATE:20210818
DTSTAMP:20260421T174213
CREATED:20210609T092448Z
LAST-MODIFIED:20210609T092448Z
UID:10930-1629158400-1629244799@dev.manguteraapia.ee
SUMMARY:Mänguteraapia XVI tsükkel Lugude jutustamine\, sümbolite ja mandalate kasutamine.
DESCRIPTION:
URL:https://dev.manguteraapia.ee/syndmus/manguteraapia-xvi-tsukkel-lugude-jutustamine-sumbolite-ja-mandalate-kasutamine-2/
LOCATION:Tartu\, Kalevi 108\, Tartu\, 50104\, Eesti
END:VEVENT
BEGIN:VEVENT
DTSTART;VALUE=DATE:20210817
DTEND;VALUE=DATE:20210818
DTSTAMP:20260421T174213
CREATED:20210531T061453Z
LAST-MODIFIED:20210812T125227Z
UID:10605-1629158400-1629244799@dev.manguteraapia.ee
SUMMARY:TT5 Südame-veresoonkonnahaiguste TT. Pille Javed (skype)
DESCRIPTION:
URL:https://dev.manguteraapia.ee/syndmus/tt5-sudame-veresoonkonnahaiguste-tt-pille-javed/
LOCATION:Zoom
END:VEVENT
BEGIN:VEVENT
DTSTART;TZID=Europe/Tallinn:20210816T080000
DTEND;TZID=Europe/Tallinn:20210816T170000
DTSTAMP:20260421T174213
CREATED:20210531T060324Z
LAST-MODIFIED:20210812T125225Z
UID:10591-1629100800-1629133200@dev.manguteraapia.ee
SUMMARY:Tartu15 Kliendijuhtumid\, referaadid. Annely Soots ja Mari-Liis Väli (zoom)
DESCRIPTION:
URL:https://dev.manguteraapia.ee/syndmus/tartu15-kliendijuhtumid-referaadid/
END:VEVENT
BEGIN:VEVENT
DTSTART;VALUE=DATE:20210816
DTEND;VALUE=DATE:20210817
DTSTAMP:20260421T174213
CREATED:20210609T092054Z
LAST-MODIFIED:20210609T092054Z
UID:10928-1629072000-1629158399@dev.manguteraapia.ee
SUMMARY:Mänguteraapia XVI tsükkel Lugude jutustamine\, sümbolite ja mandalate kasutamine.
DESCRIPTION:
URL:https://dev.manguteraapia.ee/syndmus/manguteraapia-xvi-tsukkel-lugude-jutustamine-sumbolite-ja-mandalate-kasutamine/
LOCATION:Tartu\, Kalevi 108\, Tartu\, 50104\, Eesti
END:VEVENT
BEGIN:VEVENT
DTSTART;TZID=Europe/Tallinn:20210815T080000
DTEND;TZID=Europe/Tallinn:20210815T170000
DTSTAMP:20260421T174213
CREATED:20210531T060200Z
LAST-MODIFIED:20210812T125230Z
UID:10594-1629014400-1629046800@dev.manguteraapia.ee
SUMMARY:Tartu14 Praktiline nõustamine. Annely Soots\, Mari-Liis Väli (zoom)
DESCRIPTION:
URL:https://dev.manguteraapia.ee/syndmus/tartu14-praktiline-noustamine/
END:VEVENT
BEGIN:VEVENT
DTSTART;VALUE=DATE:20210815
DTEND;VALUE=DATE:20210816
DTSTAMP:20260421T174213
CREATED:20210609T094915Z
LAST-MODIFIED:20210609T094915Z
UID:10951-1628985600-1629071999@dev.manguteraapia.ee
SUMMARY:Mänguteraapia III tsükkel Mänguterapeutilised tehnikad kaotuse ja leinaga toimetulekul.
DESCRIPTION:
URL:https://dev.manguteraapia.ee/syndmus/manguteraapia-iii-tsukkel-manguterapeutilised-tehnikad-kaotuse-ja-leinaga-toimetulekul-2/
LOCATION:Tartu\, Kalevi 108\, Tartu\, 50104\, Eesti
END:VEVENT
BEGIN:VEVENT
DTSTART;TZID=Europe/Tallinn:20210814T080000
DTEND;TZID=Europe/Tallinn:20210814T170000
DTSTAMP:20260421T174213
CREATED:20210531T060820Z
LAST-MODIFIED:20210812T125232Z
UID:10599-1628928000-1628960400@dev.manguteraapia.ee
SUMMARY:Tartu14 TN juhtumid. Annely Soots (zoom)
DESCRIPTION:
URL:https://dev.manguteraapia.ee/syndmus/tartu14-tn-juhtumid-2/
END:VEVENT
BEGIN:VEVENT
DTSTART;VALUE=DATE:20210814
DTEND;VALUE=DATE:20210815
DTSTAMP:20260421T174213
CREATED:20210609T094848Z
LAST-MODIFIED:20210609T094848Z
UID:10949-1628899200-1628985599@dev.manguteraapia.ee
SUMMARY:Mänguteraapia III tsükkel Mänguterapeutilised tehnikad kaotuse ja leinaga toimetulekul.
DESCRIPTION:
URL:https://dev.manguteraapia.ee/syndmus/manguteraapia-iii-tsukkel-manguterapeutilised-tehnikad-kaotuse-ja-leinaga-toimetulekul/
LOCATION:Tartu\, Kalevi 108\, Tartu\, 50104\, Eesti
END:VEVENT
END:VCALENDAR