BEGIN:VCALENDAR
VERSION:2.0
PRODID:-//Tervisekool - ECPv6.2.9//NONSGML v1.0//EN
CALSCALE:GREGORIAN
METHOD:PUBLISH
X-WR-CALNAME:Tervisekool
X-ORIGINAL-URL:https://dev.manguteraapia.ee
X-WR-CALDESC:Events for Tervisekool
REFRESH-INTERVAL;VALUE=DURATION:PT1H
X-Robots-Tag:noindex
X-PUBLISHED-TTL:PT1H
BEGIN:VTIMEZONE
TZID:Europe/Tallinn
BEGIN:DAYLIGHT
TZOFFSETFROM:+0200
TZOFFSETTO:+0300
TZNAME:EEST
DTSTART:20210328T010000
END:DAYLIGHT
BEGIN:STANDARD
TZOFFSETFROM:+0300
TZOFFSETTO:+0200
TZNAME:EET
DTSTART:20211031T010000
END:STANDARD
END:VTIMEZONE
BEGIN:VEVENT
DTSTART;VALUE=DATE:20210818
DTEND;VALUE=DATE:20210819
DTSTAMP:20260421T211804
CREATED:20210531T061131Z
LAST-MODIFIED:20210812T125121Z
UID:10601-1629244800-1629331199@dev.manguteraapia.ee
SUMMARY:Tln40 Raseda toitumine. Külli Holsting (zoom)
DESCRIPTION:
URL:https://dev.manguteraapia.ee/syndmus/tln40-raseda-toitumine/
LOCATION:Zoom
END:VEVENT
BEGIN:VEVENT
DTSTART;TZID=Europe/Tallinn:20210817T080000
DTEND;TZID=Europe/Tallinn:20210817T170000
DTSTAMP:20260421T211804
CREATED:20210531T060112Z
LAST-MODIFIED:20210812T125121Z
UID:10592-1629187200-1629219600@dev.manguteraapia.ee
SUMMARY:Tartu15 Anatoomia/füsioloogia. Annely Soots (zoom)
DESCRIPTION:
URL:https://dev.manguteraapia.ee/syndmus/tartu14-tn-juhtumid/
END:VEVENT
BEGIN:VEVENT
DTSTART;VALUE=DATE:20210817
DTEND;VALUE=DATE:20210818
DTSTAMP:20260421T211804
CREATED:20210609T092448Z
LAST-MODIFIED:20210609T092448Z
UID:10930-1629158400-1629244799@dev.manguteraapia.ee
SUMMARY:Mänguteraapia XVI tsükkel Lugude jutustamine\, sümbolite ja mandalate kasutamine.
DESCRIPTION:
URL:https://dev.manguteraapia.ee/syndmus/manguteraapia-xvi-tsukkel-lugude-jutustamine-sumbolite-ja-mandalate-kasutamine-2/
LOCATION:Tartu\, Kalevi 108\, Tartu\, 50104\, Eesti
END:VEVENT
BEGIN:VEVENT
DTSTART;VALUE=DATE:20210817
DTEND;VALUE=DATE:20210818
DTSTAMP:20260421T211804
CREATED:20210531T061453Z
LAST-MODIFIED:20210812T125227Z
UID:10605-1629158400-1629244799@dev.manguteraapia.ee
SUMMARY:TT5 Südame-veresoonkonnahaiguste TT. Pille Javed (skype)
DESCRIPTION:
URL:https://dev.manguteraapia.ee/syndmus/tt5-sudame-veresoonkonnahaiguste-tt-pille-javed/
LOCATION:Zoom
END:VEVENT
BEGIN:VEVENT
DTSTART;TZID=Europe/Tallinn:20210816T080000
DTEND;TZID=Europe/Tallinn:20210816T170000
DTSTAMP:20260421T211804
CREATED:20210531T060324Z
LAST-MODIFIED:20210812T125225Z
UID:10591-1629100800-1629133200@dev.manguteraapia.ee
SUMMARY:Tartu15 Kliendijuhtumid\, referaadid. Annely Soots ja Mari-Liis Väli (zoom)
DESCRIPTION:
URL:https://dev.manguteraapia.ee/syndmus/tartu15-kliendijuhtumid-referaadid/
END:VEVENT
BEGIN:VEVENT
DTSTART;VALUE=DATE:20210816
DTEND;VALUE=DATE:20210817
DTSTAMP:20260421T211804
CREATED:20210609T092054Z
LAST-MODIFIED:20210609T092054Z
UID:10928-1629072000-1629158399@dev.manguteraapia.ee
SUMMARY:Mänguteraapia XVI tsükkel Lugude jutustamine\, sümbolite ja mandalate kasutamine.
DESCRIPTION:
URL:https://dev.manguteraapia.ee/syndmus/manguteraapia-xvi-tsukkel-lugude-jutustamine-sumbolite-ja-mandalate-kasutamine/
LOCATION:Tartu\, Kalevi 108\, Tartu\, 50104\, Eesti
END:VEVENT
BEGIN:VEVENT
DTSTART;TZID=Europe/Tallinn:20210815T080000
DTEND;TZID=Europe/Tallinn:20210815T170000
DTSTAMP:20260421T211804
CREATED:20210531T060200Z
LAST-MODIFIED:20210812T125230Z
UID:10594-1629014400-1629046800@dev.manguteraapia.ee
SUMMARY:Tartu14 Praktiline nõustamine. Annely Soots\, Mari-Liis Väli (zoom)
DESCRIPTION:
URL:https://dev.manguteraapia.ee/syndmus/tartu14-praktiline-noustamine/
END:VEVENT
BEGIN:VEVENT
DTSTART;VALUE=DATE:20210815
DTEND;VALUE=DATE:20210816
DTSTAMP:20260421T211804
CREATED:20210609T094915Z
LAST-MODIFIED:20210609T094915Z
UID:10951-1628985600-1629071999@dev.manguteraapia.ee
SUMMARY:Mänguteraapia III tsükkel Mänguterapeutilised tehnikad kaotuse ja leinaga toimetulekul.
DESCRIPTION:
URL:https://dev.manguteraapia.ee/syndmus/manguteraapia-iii-tsukkel-manguterapeutilised-tehnikad-kaotuse-ja-leinaga-toimetulekul-2/
LOCATION:Tartu\, Kalevi 108\, Tartu\, 50104\, Eesti
END:VEVENT
BEGIN:VEVENT
DTSTART;TZID=Europe/Tallinn:20210814T080000
DTEND;TZID=Europe/Tallinn:20210814T170000
DTSTAMP:20260421T211804
CREATED:20210531T060820Z
LAST-MODIFIED:20210812T125232Z
UID:10599-1628928000-1628960400@dev.manguteraapia.ee
SUMMARY:Tartu14 TN juhtumid. Annely Soots (zoom)
DESCRIPTION:
URL:https://dev.manguteraapia.ee/syndmus/tartu14-tn-juhtumid-2/
END:VEVENT
BEGIN:VEVENT
DTSTART;VALUE=DATE:20210814
DTEND;VALUE=DATE:20210815
DTSTAMP:20260421T211804
CREATED:20210609T094848Z
LAST-MODIFIED:20210609T094848Z
UID:10949-1628899200-1628985599@dev.manguteraapia.ee
SUMMARY:Mänguteraapia III tsükkel Mänguterapeutilised tehnikad kaotuse ja leinaga toimetulekul.
DESCRIPTION:
URL:https://dev.manguteraapia.ee/syndmus/manguteraapia-iii-tsukkel-manguterapeutilised-tehnikad-kaotuse-ja-leinaga-toimetulekul/
LOCATION:Tartu\, Kalevi 108\, Tartu\, 50104\, Eesti
END:VEVENT
BEGIN:VEVENT
DTSTART;VALUE=DATE:20210713
DTEND;VALUE=DATE:20210714
DTSTAMP:20260421T211804
CREATED:20201020T131808Z
LAST-MODIFIED:20210629T110950Z
UID:6975-1626134400-1626220799@dev.manguteraapia.ee
SUMMARY:Tln38 TN igapäevatöö. Pille Javed (zoom)
DESCRIPTION:
URL:https://dev.manguteraapia.ee/syndmus/tln38-tn-igapaevatoo/
LOCATION:Tallinn\, Pirita tee 26c-33\, Tallinn\, Eesti
END:VEVENT
BEGIN:VEVENT
DTSTART;VALUE=DATE:20210712
DTEND;VALUE=DATE:20210713
DTSTAMP:20260421T211804
CREATED:20201020T131740Z
LAST-MODIFIED:20210629T111203Z
UID:6973-1626048000-1626134399@dev.manguteraapia.ee
SUMMARY:Tln38 Toidutalumatus ja -allergia. Triin Muiste (zoom)
DESCRIPTION:
URL:https://dev.manguteraapia.ee/syndmus/tln38-toidutalumatus-ja-allergia/
LOCATION:Tallinn\, Pirita tee 26c-33\, Tallinn\, Eesti
END:VEVENT
BEGIN:VEVENT
DTSTART;VALUE=DATE:20210711
DTEND;VALUE=DATE:20210712
DTSTAMP:20260421T211804
CREATED:20210531T062229Z
LAST-MODIFIED:20210629T062335Z
UID:10621-1625961600-1626047999@dev.manguteraapia.ee
SUMMARY:Tln41. Menüü analüüs portsjonitega. Triin Muiste (zoom)
DESCRIPTION:
URL:https://dev.manguteraapia.ee/syndmus/tln41-menuu-analuus-portsjonitega-m-l-vali/
LOCATION:Zoom
END:VEVENT
BEGIN:VEVENT
DTSTART;VALUE=DATE:20210711
DTEND;VALUE=DATE:20210712
DTSTAMP:20260421T211804
CREATED:20201020T124759Z
LAST-MODIFIED:20210609T082805Z
UID:6944-1625961600-1626047999@dev.manguteraapia.ee
SUMMARY:Tln37 TN praktika. Annely Soots (zoom)
DESCRIPTION:
URL:https://dev.manguteraapia.ee/syndmus/tln37-tn-praktika/
LOCATION:Tallinn\, Pirita tee 26c-33\, Tallinn\, Eesti
END:VEVENT
BEGIN:VEVENT
DTSTART;TZID=Europe/Tallinn:20210710T083000
DTEND;TZID=Europe/Tallinn:20210710T163000
DTSTAMP:20260421T211804
CREATED:20210407T110500Z
LAST-MODIFIED:20210628T163445Z
UID:9475-1625905800-1625934600@dev.manguteraapia.ee
SUMMARY:Tln41 Vitamiinid ja mineraalained. Annely Soots (zoom)
DESCRIPTION:
URL:https://dev.manguteraapia.ee/syndmus/tln41-vitamiinid-ja-mineraalained-mari-liis-vali/
END:VEVENT
BEGIN:VEVENT
DTSTART;VALUE=DATE:20210710
DTEND;VALUE=DATE:20210711
DTSTAMP:20260421T211804
CREATED:20201020T124825Z
LAST-MODIFIED:20210609T082751Z
UID:6946-1625875200-1625961599@dev.manguteraapia.ee
SUMMARY:Tln37 TN praktika ja juhtumid. Triin Muiste (zoom)
DESCRIPTION:
URL:https://dev.manguteraapia.ee/syndmus/tln37-tn-praktika-ja-teooria/
LOCATION:Tallinn\, Pirita tee 26c-33\, Tallinn\, Eesti
END:VEVENT
BEGIN:VEVENT
DTSTART;VALUE=DATE:20210708
DTEND;VALUE=DATE:20210709
DTSTAMP:20260421T211804
CREATED:20201021T112356Z
LAST-MODIFIED:20210621T044555Z
UID:7111-1625702400-1625788799@dev.manguteraapia.ee
SUMMARY:Tln40 Anatoomia-füsioloogia. Annely Soots (zoom)
DESCRIPTION:
URL:https://dev.manguteraapia.ee/syndmus/tln40-anatoomia-fusioloogia/
LOCATION:Tallinn\, Pirita tee 26c-33\, Tallinn\, Eesti
END:VEVENT
BEGIN:VEVENT
DTSTART;VALUE=DATE:20210707
DTEND;VALUE=DATE:20210708
DTSTAMP:20260421T211804
CREATED:20201021T112534Z
LAST-MODIFIED:20210621T044632Z
UID:7117-1625616000-1625702399@dev.manguteraapia.ee
SUMMARY:Tln40 Eaka toitumine. Pille Javed (zoom)
DESCRIPTION:
URL:https://dev.manguteraapia.ee/syndmus/tln40-eaka-toitumine/
LOCATION:Tallinn\, Pirita tee 26c-33\, Tallinn\, Eesti
END:VEVENT
BEGIN:VEVENT
DTSTART;VALUE=DATE:20210706
DTEND;VALUE=DATE:20210707
DTSTAMP:20260421T211804
CREATED:20201021T104012Z
LAST-MODIFIED:20210609T082148Z
UID:7087-1625529600-1625615999@dev.manguteraapia.ee
SUMMARY:Tartu15 Kaalunõustamise praktika. Triin Muiste (zoom)
DESCRIPTION:
URL:https://dev.manguteraapia.ee/syndmus/tartu15-kaalunoustamise-praktika/
LOCATION:Tartu\, Kalevi 108\, Tartu\, 50104\, Eesti
END:VEVENT
BEGIN:VEVENT
DTSTART;VALUE=DATE:20210705
DTEND;VALUE=DATE:20210706
DTSTAMP:20260421T211804
CREATED:20201021T103905Z
LAST-MODIFIED:20210609T082127Z
UID:7085-1625443200-1625529599@dev.manguteraapia.ee
SUMMARY:Tartu15 Nõustamise tehnikad. Annely Soots (zoom)
DESCRIPTION:
URL:https://dev.manguteraapia.ee/syndmus/tartu15-noustamise-tehnikad/
LOCATION:Tartu\, Kalevi 108\, Tartu\, 50104\, Eesti
END:VEVENT
BEGIN:VEVENT
DTSTART;VALUE=DATE:20210704
DTEND;VALUE=DATE:20210705
DTSTAMP:20260421T211804
CREATED:20201021T090420Z
LAST-MODIFIED:20210628T163154Z
UID:7058-1625356800-1625443199@dev.manguteraapia.ee
SUMMARY:Tartu14 Psüühikahäired. Annely Soots (zoom)
DESCRIPTION:
URL:https://dev.manguteraapia.ee/syndmus/tartu14-psuuhikahaired/
LOCATION:Tartu\, Kalevi 108\, Tartu\, 50104\, Eesti
END:VEVENT
BEGIN:VEVENT
DTSTART;VALUE=DATE:20210704
DTEND;VALUE=DATE:20210705
DTSTAMP:20260421T211804
CREATED:20201020T132654Z
LAST-MODIFIED:20210609T082102Z
UID:7009-1625356800-1625443199@dev.manguteraapia.ee
SUMMARY:Tln39 Söömishäired. Pille Javed (zoom)
DESCRIPTION:
URL:https://dev.manguteraapia.ee/syndmus/tln39-soomishaired/
LOCATION:Tallinn\, Pirita tee 26c-33\, Tallinn\, Eesti
END:VEVENT
BEGIN:VEVENT
DTSTART;VALUE=DATE:20210703
DTEND;VALUE=DATE:20210704
DTSTAMP:20260421T211804
CREATED:20201021T090351Z
LAST-MODIFIED:20210628T163148Z
UID:7056-1625270400-1625356799@dev.manguteraapia.ee
SUMMARY:Tartu14 Taimetoitlus. Pille Javed (zoom)
DESCRIPTION:
URL:https://dev.manguteraapia.ee/syndmus/tartu14-taimetoitlus/
LOCATION:Tartu\, Kalevi 108\, Tartu\, 50104\, Eesti
END:VEVENT
BEGIN:VEVENT
DTSTART;VALUE=DATE:20210703
DTEND;VALUE=DATE:20210704
DTSTAMP:20260421T211804
CREATED:20201020T132633Z
LAST-MODIFIED:20210609T082007Z
UID:7007-1625270400-1625356799@dev.manguteraapia.ee
SUMMARY:Tln39. Seedimise anat/füsioloogia. A. Soots (zoom)
DESCRIPTION:
URL:https://dev.manguteraapia.ee/syndmus/tln39-raseda-toitumine/
LOCATION:Tallinn\, Pirita tee 26c-33\, Tallinn\, Eesti
END:VEVENT
BEGIN:VEVENT
DTSTART;VALUE=DATE:20210702
DTEND;VALUE=DATE:20210703
DTSTAMP:20260421T211804
CREATED:20210330T114224Z
LAST-MODIFIED:20210609T081937Z
UID:9324-1625184000-1625270399@dev.manguteraapia.ee
SUMMARY:Tln42 III tsükkel (süsivesikud). Mari-Liis Väli (zoom)
DESCRIPTION:
URL:https://dev.manguteraapia.ee/syndmus/tln42-iii-tsukkel-susivesikud-mari-liis-vali/
LOCATION:Tallinn\, Pirita tee 26c-33\, Tallinn\, Eesti
END:VEVENT
BEGIN:VEVENT
DTSTART;VALUE=DATE:20210701
DTEND;VALUE=DATE:20210702
DTSTAMP:20260421T211804
CREATED:20210330T114152Z
LAST-MODIFIED:20210609T081923Z
UID:9322-1625097600-1625183999@dev.manguteraapia.ee
SUMMARY:Tln42 III tsükkel (süsivesikud). Triin Muiste (zoom)
DESCRIPTION:
URL:https://dev.manguteraapia.ee/syndmus/tln42-iii-tsukkel-susivesikud-pille-javed/
LOCATION:Tallinn\, Pirita tee 26c-33\, Tallinn\, Eesti
END:VEVENT
BEGIN:VEVENT
DTSTART;VALUE=DATE:20210630
DTEND;VALUE=DATE:20210701
DTSTAMP:20260421T211804
CREATED:20210330T123906Z
LAST-MODIFIED:20210628T161453Z
UID:9353-1625011200-1625097599@dev.manguteraapia.ee
SUMMARY:TT5 Bariaatriline kirurgia kaalulangetamisel\, toitumisteraapia (zoom)
DESCRIPTION:
URL:https://dev.manguteraapia.ee/syndmus/tt5-bariaatriline-kirurgia-kaalulangetamisel-toitumisteraapia/
END:VEVENT
BEGIN:VEVENT
DTSTART;VALUE=DATE:20210629
DTEND;VALUE=DATE:20210630
DTSTAMP:20260421T211804
CREATED:20210330T123821Z
LAST-MODIFIED:20210628T161449Z
UID:9351-1624924800-1625011199@dev.manguteraapia.ee
SUMMARY:TT5 Diabeedi toitumisteraapia (zoom)
DESCRIPTION:
URL:https://dev.manguteraapia.ee/syndmus/tt5-diabeedi-toitumisteraapia/
END:VEVENT
BEGIN:VEVENT
DTSTART;VALUE=DATE:20210622
DTEND;VALUE=DATE:20210623
DTSTAMP:20260421T211804
CREATED:20210420T104332Z
LAST-MODIFIED:20210420T104332Z
UID:9577-1624320000-1624406399@dev.manguteraapia.ee
SUMMARY:Mänguteraapia II tsükkel
DESCRIPTION:
URL:https://dev.manguteraapia.ee/syndmus/manguteraapia-ii-tsukkel-4/
LOCATION:Tartu\, Kalevi 108\, Tartu\, 50104\, Eesti
END:VEVENT
BEGIN:VEVENT
DTSTART;VALUE=DATE:20210622
DTEND;VALUE=DATE:20210623
DTSTAMP:20260421T211804
CREATED:20201020T131716Z
LAST-MODIFIED:20210601T124746Z
UID:6971-1624320000-1624406399@dev.manguteraapia.ee
SUMMARY:Tln38 Vaimne tervis. Pille Javed (zoom)
DESCRIPTION:
URL:https://dev.manguteraapia.ee/syndmus/tln38-vaimne-tervis/
LOCATION:Tallinn\, Pirita tee 26c-33\, Tallinn\, Eesti
END:VEVENT
END:VCALENDAR