BEGIN:VCALENDAR
VERSION:2.0
PRODID:-//Tervisekool - ECPv6.2.9//NONSGML v1.0//EN
CALSCALE:GREGORIAN
METHOD:PUBLISH
X-WR-CALNAME:Tervisekool
X-ORIGINAL-URL:https://dev.manguteraapia.ee
X-WR-CALDESC:Events for Tervisekool
REFRESH-INTERVAL;VALUE=DURATION:PT1H
X-Robots-Tag:noindex
X-PUBLISHED-TTL:PT1H
BEGIN:VTIMEZONE
TZID:Europe/Tallinn
BEGIN:DAYLIGHT
TZOFFSETFROM:+0200
TZOFFSETTO:+0300
TZNAME:EEST
DTSTART:20210328T010000
END:DAYLIGHT
BEGIN:STANDARD
TZOFFSETFROM:+0300
TZOFFSETTO:+0200
TZNAME:EET
DTSTART:20211031T010000
END:STANDARD
END:VTIMEZONE
BEGIN:VEVENT
DTSTART;VALUE=DATE:20210704
DTEND;VALUE=DATE:20210705
DTSTAMP:20260422T010305
CREATED:20201021T090420Z
LAST-MODIFIED:20210628T163154Z
UID:7058-1625356800-1625443199@dev.manguteraapia.ee
SUMMARY:Tartu14 Psüühikahäired. Annely Soots (zoom)
DESCRIPTION:
URL:https://dev.manguteraapia.ee/syndmus/tartu14-psuuhikahaired/
LOCATION:Tartu\, Kalevi 108\, Tartu\, 50104\, Eesti
END:VEVENT
BEGIN:VEVENT
DTSTART;VALUE=DATE:20210704
DTEND;VALUE=DATE:20210705
DTSTAMP:20260422T010305
CREATED:20201020T132654Z
LAST-MODIFIED:20210609T082102Z
UID:7009-1625356800-1625443199@dev.manguteraapia.ee
SUMMARY:Tln39 Söömishäired. Pille Javed (zoom)
DESCRIPTION:
URL:https://dev.manguteraapia.ee/syndmus/tln39-soomishaired/
LOCATION:Tallinn\, Pirita tee 26c-33\, Tallinn\, Eesti
END:VEVENT
BEGIN:VEVENT
DTSTART;VALUE=DATE:20210703
DTEND;VALUE=DATE:20210704
DTSTAMP:20260422T010305
CREATED:20201021T090351Z
LAST-MODIFIED:20210628T163148Z
UID:7056-1625270400-1625356799@dev.manguteraapia.ee
SUMMARY:Tartu14 Taimetoitlus. Pille Javed (zoom)
DESCRIPTION:
URL:https://dev.manguteraapia.ee/syndmus/tartu14-taimetoitlus/
LOCATION:Tartu\, Kalevi 108\, Tartu\, 50104\, Eesti
END:VEVENT
BEGIN:VEVENT
DTSTART;VALUE=DATE:20210703
DTEND;VALUE=DATE:20210704
DTSTAMP:20260422T010305
CREATED:20201020T132633Z
LAST-MODIFIED:20210609T082007Z
UID:7007-1625270400-1625356799@dev.manguteraapia.ee
SUMMARY:Tln39. Seedimise anat/füsioloogia. A. Soots (zoom)
DESCRIPTION:
URL:https://dev.manguteraapia.ee/syndmus/tln39-raseda-toitumine/
LOCATION:Tallinn\, Pirita tee 26c-33\, Tallinn\, Eesti
END:VEVENT
BEGIN:VEVENT
DTSTART;VALUE=DATE:20210702
DTEND;VALUE=DATE:20210703
DTSTAMP:20260422T010305
CREATED:20210330T114224Z
LAST-MODIFIED:20210609T081937Z
UID:9324-1625184000-1625270399@dev.manguteraapia.ee
SUMMARY:Tln42 III tsükkel (süsivesikud). Mari-Liis Väli (zoom)
DESCRIPTION:
URL:https://dev.manguteraapia.ee/syndmus/tln42-iii-tsukkel-susivesikud-mari-liis-vali/
LOCATION:Tallinn\, Pirita tee 26c-33\, Tallinn\, Eesti
END:VEVENT
BEGIN:VEVENT
DTSTART;VALUE=DATE:20210701
DTEND;VALUE=DATE:20210702
DTSTAMP:20260422T010305
CREATED:20210330T114152Z
LAST-MODIFIED:20210609T081923Z
UID:9322-1625097600-1625183999@dev.manguteraapia.ee
SUMMARY:Tln42 III tsükkel (süsivesikud). Triin Muiste (zoom)
DESCRIPTION:
URL:https://dev.manguteraapia.ee/syndmus/tln42-iii-tsukkel-susivesikud-pille-javed/
LOCATION:Tallinn\, Pirita tee 26c-33\, Tallinn\, Eesti
END:VEVENT
BEGIN:VEVENT
DTSTART;VALUE=DATE:20210630
DTEND;VALUE=DATE:20210701
DTSTAMP:20260422T010305
CREATED:20210330T123906Z
LAST-MODIFIED:20210628T161453Z
UID:9353-1625011200-1625097599@dev.manguteraapia.ee
SUMMARY:TT5 Bariaatriline kirurgia kaalulangetamisel\, toitumisteraapia (zoom)
DESCRIPTION:
URL:https://dev.manguteraapia.ee/syndmus/tt5-bariaatriline-kirurgia-kaalulangetamisel-toitumisteraapia/
END:VEVENT
BEGIN:VEVENT
DTSTART;VALUE=DATE:20210629
DTEND;VALUE=DATE:20210630
DTSTAMP:20260422T010305
CREATED:20210330T123821Z
LAST-MODIFIED:20210628T161449Z
UID:9351-1624924800-1625011199@dev.manguteraapia.ee
SUMMARY:TT5 Diabeedi toitumisteraapia (zoom)
DESCRIPTION:
URL:https://dev.manguteraapia.ee/syndmus/tt5-diabeedi-toitumisteraapia/
END:VEVENT
BEGIN:VEVENT
DTSTART;VALUE=DATE:20210622
DTEND;VALUE=DATE:20210623
DTSTAMP:20260422T010305
CREATED:20210420T104332Z
LAST-MODIFIED:20210420T104332Z
UID:9577-1624320000-1624406399@dev.manguteraapia.ee
SUMMARY:Mänguteraapia II tsükkel
DESCRIPTION:
URL:https://dev.manguteraapia.ee/syndmus/manguteraapia-ii-tsukkel-4/
LOCATION:Tartu\, Kalevi 108\, Tartu\, 50104\, Eesti
END:VEVENT
BEGIN:VEVENT
DTSTART;VALUE=DATE:20210622
DTEND;VALUE=DATE:20210623
DTSTAMP:20260422T010305
CREATED:20201020T131716Z
LAST-MODIFIED:20210601T124746Z
UID:6971-1624320000-1624406399@dev.manguteraapia.ee
SUMMARY:Tln38 Vaimne tervis. Pille Javed (zoom)
DESCRIPTION:
URL:https://dev.manguteraapia.ee/syndmus/tln38-vaimne-tervis/
LOCATION:Tallinn\, Pirita tee 26c-33\, Tallinn\, Eesti
END:VEVENT
BEGIN:VEVENT
DTSTART;VALUE=DATE:20210621
DTEND;VALUE=DATE:20210622
DTSTAMP:20260422T010305
CREATED:20210420T104316Z
LAST-MODIFIED:20210420T104316Z
UID:9575-1624233600-1624319999@dev.manguteraapia.ee
SUMMARY:Mänguteraapia II tsükkel
DESCRIPTION:
URL:https://dev.manguteraapia.ee/syndmus/manguteraapia-ii-tsukkel-3/
LOCATION:Tartu\, Kalevi 108\, Tartu\, 50104\, Eesti
END:VEVENT
BEGIN:VEVENT
DTSTART;VALUE=DATE:20210621
DTEND;VALUE=DATE:20210622
DTSTAMP:20260422T010305
CREATED:20201020T131649Z
LAST-MODIFIED:20210601T124735Z
UID:6969-1624233600-1624319999@dev.manguteraapia.ee
SUMMARY:Tln38 Südamehaigused ja diabeet. Annely Soots (zoom)
DESCRIPTION:
URL:https://dev.manguteraapia.ee/syndmus/tln38-sudamehaigused-ja-diabeet/
LOCATION:Tallinn\, Pirita tee 26c-33\, Tallinn\, Eesti
END:VEVENT
BEGIN:VEVENT
DTSTART;VALUE=DATE:20210620
DTEND;VALUE=DATE:20210621
DTSTAMP:20260422T010305
CREATED:20201020T124735Z
LAST-MODIFIED:20210601T122919Z
UID:6942-1624147200-1624233599@dev.manguteraapia.ee
SUMMARY:Tln37 Psüühikahäired. Annely Soots (zoom)
DESCRIPTION:
URL:https://dev.manguteraapia.ee/syndmus/tln37-psuuhikahaired/
LOCATION:Tallinn\, Pirita tee 26c-33\, Tallinn\, Eesti
END:VEVENT
BEGIN:VEVENT
DTSTART;VALUE=DATE:20210619
DTEND;VALUE=DATE:20210620
DTSTAMP:20260422T010305
CREATED:20201029T133938Z
LAST-MODIFIED:20201029T133938Z
UID:7403-1624060800-1624147199@dev.manguteraapia.ee
SUMMARY:Mänguteraapia XV tsükkel Suhtlemine perekonnaga.
DESCRIPTION:
URL:https://dev.manguteraapia.ee/syndmus/manguteraapia-xv-tsukkel-suhtlemine-perekonnaga-2/
LOCATION:Tartu\, Kalevi 108\, Tartu\, 50104\, Eesti
END:VEVENT
BEGIN:VEVENT
DTSTART;VALUE=DATE:20210619
DTEND;VALUE=DATE:20210620
DTSTAMP:20260422T010305
CREATED:20201020T124646Z
LAST-MODIFIED:20210601T122903Z
UID:6940-1624060800-1624147199@dev.manguteraapia.ee
SUMMARY:Tln37 Liikumisharrastaja toitumine. Mari-Liis väli (zoom)
DESCRIPTION:
URL:https://dev.manguteraapia.ee/syndmus/tln37-taimetoitlus/
LOCATION:Tallinn\, Pirita tee 26c-33\, Tallinn\, Eesti
END:VEVENT
BEGIN:VEVENT
DTSTART;VALUE=DATE:20210618
DTEND;VALUE=DATE:20210619
DTSTAMP:20260422T010305
CREATED:20201029T133920Z
LAST-MODIFIED:20201029T133920Z
UID:7401-1623974400-1624060799@dev.manguteraapia.ee
SUMMARY:Mänguteraapia XV tsükkel Suhtlemine perekonnaga.
DESCRIPTION:
URL:https://dev.manguteraapia.ee/syndmus/manguteraapia-xv-tsukkel-suhtlemine-perekonnaga/
LOCATION:Tartu\, Kalevi 108\, Tartu\, 50104\, Eesti
END:VEVENT
BEGIN:VEVENT
DTSTART;VALUE=DATE:20210618
DTEND;VALUE=DATE:20210619
DTSTAMP:20260422T010305
CREATED:20201021T120720Z
LAST-MODIFIED:20201021T120730Z
UID:7125-1623974400-1624060799@dev.manguteraapia.ee
SUMMARY:Toidulisandite täiendkoolitus: Energia tootmine
DESCRIPTION:Täiendkoolitus on osa toidulisandite jätkukoolituse nn pilootprojektist. Endistele ja praegustele Tervisekooli õpilastele kehtib soodushind (40 eurot õppepäeva eest koos käibemaksuga). \nTähelepanu! Koolitustesarj keskendub lähemalt justnimelt toidulisanditele\, sh nende erinevatele vormidele ja põhitoimetele. Ei keskenduta toitainetele üldiselt. \n10. õppepäev toimub 18. juunil. \nTeema: Energia tootmine\, antioksüdandid\, vitamiinid\, mineraalained\, aminohapped – energia tootmine inimekehas\, toitainete vajadus\, antioksüdantide vajadus. Tarbimissoovitused ja näidustused\, ohutud annused\, kõrvaltoimed ja vastunäidustused. \nKus: Zoomi teel algusega kell 9.30. \nMaht: 8 tundi. \nKoolituspäeva lõpus väljastatakse tõend. Kui teil on aga soov saada koolituspäeva eest kompetentsi kinnitav tunnistus\, tuleb sooritada iga teema kohta arvestus (kontrolltöö). Sel juhul lisandub koolitushinnale 6.50€ (sisaldab käibemaksu).
URL:https://dev.manguteraapia.ee/syndmus/toidulisandite-taiendkoolitus-energia-tootmine/
END:VEVENT
BEGIN:VEVENT
DTSTART;VALUE=DATE:20210616
DTEND;VALUE=DATE:20210617
DTSTAMP:20260422T010305
CREATED:20210330T123748Z
LAST-MODIFIED:20210528T195446Z
UID:9349-1623801600-1623887999@dev.manguteraapia.ee
SUMMARY:TT5 Rakubioloogia (E. Lukk) Valgud (A. Soots) (zoom)
DESCRIPTION:
URL:https://dev.manguteraapia.ee/syndmus/tt5-valkude-biokeemia-pohiteadmised-seisundi-hindamine-tts/
END:VEVENT
BEGIN:VEVENT
DTSTART;VALUE=DATE:20210615
DTEND;VALUE=DATE:20210616
DTSTAMP:20260422T010306
CREATED:20210330T123712Z
LAST-MODIFIED:20210528T195442Z
UID:9347-1623715200-1623801599@dev.manguteraapia.ee
SUMMARY:TT5 Lipiidid (A. Soots)\, Seisundi hindamine (Pille Javed) (zoom)
DESCRIPTION:
URL:https://dev.manguteraapia.ee/syndmus/tt5-lipiidide-biokeemia-ja-rakubioloogia-pohiteadmised/
END:VEVENT
BEGIN:VEVENT
DTSTART;VALUE=DATE:20210615
DTEND;VALUE=DATE:20210616
DTSTAMP:20260422T010306
CREATED:20201021T103751Z
LAST-MODIFIED:20210601T112024Z
UID:7081-1623715200-1623801599@dev.manguteraapia.ee
SUMMARY:Tartu15 Kehakaal. Triin Muiste algusega 8.30 (zoom)
DESCRIPTION:
URL:https://dev.manguteraapia.ee/syndmus/tartu15-tn-alused/
LOCATION:Tartu\, Kalevi 108\, Tartu\, 50104\, Eesti
END:VEVENT
BEGIN:VEVENT
DTSTART;VALUE=DATE:20210614
DTEND;VALUE=DATE:20210615
DTSTAMP:20260422T010306
CREATED:20201021T103817Z
LAST-MODIFIED:20210601T112010Z
UID:7083-1623628800-1623715199@dev.manguteraapia.ee
SUMMARY:Tartu15 Toitumisnõustamise alused. Annely Soots (zoom)
DESCRIPTION:
URL:https://dev.manguteraapia.ee/syndmus/tartu15-tervislik-kehakaal/
LOCATION:Tartu\, Kalevi 108\, Tartu\, 50104\, Eesti
END:VEVENT
BEGIN:VEVENT
DTSTART;VALUE=DATE:20210613
DTEND;VALUE=DATE:20210614
DTSTAMP:20260422T010306
CREATED:20201022T084628Z
LAST-MODIFIED:20210528T194936Z
UID:7251-1623542400-1623628799@dev.manguteraapia.ee
SUMMARY:Tln41 III tsükkel (süsivesikud). Mari-Liis Väli ja Pille Javed (zoom)
DESCRIPTION:
URL:https://dev.manguteraapia.ee/syndmus/tln41-iii-tsukkel-susivesikud-mari-liis-vali/
LOCATION:Tallinn\, Pirita tee 26c-33\, Tallinn\, Eesti
END:VEVENT
BEGIN:VEVENT
DTSTART;VALUE=DATE:20210613
DTEND;VALUE=DATE:20210614
DTSTAMP:20260422T010306
CREATED:20201021T090250Z
LAST-MODIFIED:20210601T105204Z
UID:7052-1623542400-1623628799@dev.manguteraapia.ee
SUMMARY:Tartu14 Toidutalumatus ja -allergia. Triin Muiste (zoom)
DESCRIPTION:
URL:https://dev.manguteraapia.ee/syndmus/tartu14-toidutalumatus-ja-allergia/
LOCATION:Tartu\, Kalevi 108\, Tartu\, 50104\, Eesti
END:VEVENT
BEGIN:VEVENT
DTSTART;VALUE=DATE:20210612
DTEND;VALUE=DATE:20210613
DTSTAMP:20260422T010306
CREATED:20201022T084558Z
LAST-MODIFIED:20210528T194942Z
UID:7249-1623456000-1623542399@dev.manguteraapia.ee
SUMMARY:Tln41 III tsükkel (süsivesikud). Pille Javed (zoom)
DESCRIPTION:
URL:https://dev.manguteraapia.ee/syndmus/tln41-iii-tsukkel-susivesikud-pille-javed/
LOCATION:Tallinn\, Pirita tee 26c-33\, Tallinn\, Eesti
END:VEVENT
BEGIN:VEVENT
DTSTART;VALUE=DATE:20210612
DTEND;VALUE=DATE:20210613
DTSTAMP:20260422T010306
CREATED:20201021T090323Z
LAST-MODIFIED:20210601T105144Z
UID:7054-1623456000-1623542399@dev.manguteraapia.ee
SUMMARY:Tartu14 TN igapäevatöö. Annely Soots (zoom)
DESCRIPTION:
URL:https://dev.manguteraapia.ee/syndmus/tartu14-tn-igapaevatoo/
LOCATION:Tartu\, Kalevi 108\, Tartu\, 50104\, Eesti
END:VEVENT
BEGIN:VEVENT
DTSTART;VALUE=DATE:20210610
DTEND;VALUE=DATE:20210611
DTSTAMP:20260422T010306
CREATED:20201021T112504Z
LAST-MODIFIED:20210601T090831Z
UID:7115-1623283200-1623369599@dev.manguteraapia.ee
SUMMARY:Tln40 Lapse toitumine. Triin Muiste (zoom)
DESCRIPTION:
URL:https://dev.manguteraapia.ee/syndmus/tln40-lapse-toitumine/
LOCATION:Tallinn\, Pirita tee 26c-33\, Tallinn\, Eesti
END:VEVENT
BEGIN:VEVENT
DTSTART;VALUE=DATE:20210609
DTEND;VALUE=DATE:20210610
DTSTAMP:20260422T010306
CREATED:20201021T112431Z
LAST-MODIFIED:20210601T090816Z
UID:7113-1623196800-1623283199@dev.manguteraapia.ee
SUMMARY:Tln40 Kliendijuhtumid. Annely Soots (zoom)
DESCRIPTION:
URL:https://dev.manguteraapia.ee/syndmus/tln40-kliendijuhtumid/
LOCATION:Tallinn\, Pirita tee 26c-33\, Tallinn\, Eesti
END:VEVENT
BEGIN:VEVENT
DTSTART;VALUE=DATE:20210606
DTEND;VALUE=DATE:20210607
DTSTAMP:20260422T010306
CREATED:20210330T114057Z
LAST-MODIFIED:20210330T114057Z
UID:9320-1622937600-1623023999@dev.manguteraapia.ee
SUMMARY:Mänguteraapia XXIII tsükkel LÕPETAMINE
DESCRIPTION:
URL:https://dev.manguteraapia.ee/syndmus/manguteraapia-xxiii-tsukkel-lopetamine-4/
LOCATION:Tartu\, Kalevi 108\, Tartu\, 50104\, Eesti
END:VEVENT
BEGIN:VEVENT
DTSTART;VALUE=DATE:20210606
DTEND;VALUE=DATE:20210607
DTSTAMP:20260422T010306
CREATED:20201020T132549Z
LAST-MODIFIED:20210528T193611Z
UID:7003-1622937600-1623023999@dev.manguteraapia.ee
SUMMARY:Tln39 Lapse toitumine. Triin Muiste (zoom)
DESCRIPTION:
URL:https://dev.manguteraapia.ee/syndmus/tln39-lapse-toitumine/
LOCATION:Tallinn\, Pirita tee 26c-33\, Tallinn\, Eesti
END:VEVENT
BEGIN:VEVENT
DTSTART;VALUE=DATE:20210605
DTEND;VALUE=DATE:20210606
DTSTAMP:20260422T010306
CREATED:20210330T114040Z
LAST-MODIFIED:20210330T114040Z
UID:9318-1622851200-1622937599@dev.manguteraapia.ee
SUMMARY:Mänguteraapia XXIII tsükkel LÕPETAMINE
DESCRIPTION:
URL:https://dev.manguteraapia.ee/syndmus/manguteraapia-xxiii-tsukkel-lopetamine-3/
LOCATION:Tartu\, Kalevi 108\, Tartu\, 50104\, Eesti
END:VEVENT
END:VCALENDAR