BEGIN:VCALENDAR
VERSION:2.0
PRODID:-//Tervisekool - ECPv6.2.9//NONSGML v1.0//EN
CALSCALE:GREGORIAN
METHOD:PUBLISH
X-WR-CALNAME:Tervisekool
X-ORIGINAL-URL:https://dev.manguteraapia.ee
X-WR-CALDESC:Events for Tervisekool
REFRESH-INTERVAL;VALUE=DURATION:PT1H
X-Robots-Tag:noindex
X-PUBLISHED-TTL:PT1H
BEGIN:VTIMEZONE
TZID:Europe/Tallinn
BEGIN:DAYLIGHT
TZOFFSETFROM:+0200
TZOFFSETTO:+0300
TZNAME:EEST
DTSTART:20210328T010000
END:DAYLIGHT
BEGIN:STANDARD
TZOFFSETFROM:+0300
TZOFFSETTO:+0200
TZNAME:EET
DTSTART:20211031T010000
END:STANDARD
END:VTIMEZONE
BEGIN:VEVENT
DTSTART;VALUE=DATE:20210518
DTEND;VALUE=DATE:20210519
DTSTAMP:20260422T075557
CREATED:20210330T123620Z
LAST-MODIFIED:20210428T201017Z
UID:9343-1621296000-1621382399@dev.manguteraapia.ee
SUMMARY:TT5 TT alused ja igapäevatöö (zoom)
DESCRIPTION:
URL:https://dev.manguteraapia.ee/syndmus/tt5-tt-alused-ja-igapaevatoo/
END:VEVENT
BEGIN:VEVENT
DTSTART;VALUE=DATE:20210517
DTEND;VALUE=DATE:20210518
DTSTAMP:20260422T075557
CREATED:20210420T104012Z
LAST-MODIFIED:20210420T104012Z
UID:9571-1621209600-1621295999@dev.manguteraapia.ee
SUMMARY:Mänguteraapia I tsükkel
DESCRIPTION:
URL:https://dev.manguteraapia.ee/syndmus/manguteraapia-i-tsukkel-3/
LOCATION:Tartu\, Kalevi 108\, Tartu\, 50104\, Eesti
END:VEVENT
BEGIN:VEVENT
DTSTART;VALUE=DATE:20210516
DTEND;VALUE=DATE:20210517
DTSTAMP:20260422T075557
CREATED:20201020T124529Z
LAST-MODIFIED:20210508T153631Z
UID:6936-1621123200-1621209599@dev.manguteraapia.ee
SUMMARY:Tln37 Toidutalumatus ja -allergia. Triin Muiste (zoom)
DESCRIPTION:
URL:https://dev.manguteraapia.ee/syndmus/tln37-toidutalumatus-ja-allergia/
LOCATION:Tallinn\, Pirita tee 26c-33\, Tallinn\, Eesti
END:VEVENT
BEGIN:VEVENT
DTSTART;VALUE=DATE:20210515
DTEND;VALUE=DATE:20210516
DTSTAMP:20260422T075557
CREATED:20201020T124549Z
LAST-MODIFIED:20210508T153627Z
UID:6938-1621036800-1621123199@dev.manguteraapia.ee
SUMMARY:Tln37 TN igapäevatöö. Pille Javed (zoom)
DESCRIPTION:
URL:https://dev.manguteraapia.ee/syndmus/tln37-tn-igapaevatoo/
LOCATION:Tallinn\, Pirita tee 26c-33\, Tallinn\, Eesti
END:VEVENT
BEGIN:VEVENT
DTSTART;VALUE=DATE:20210513
DTEND;VALUE=DATE:20210514
DTSTAMP:20260422T075557
CREATED:20210107T124109Z
LAST-MODIFIED:20210107T124109Z
UID:8219-1620864000-1620950399@dev.manguteraapia.ee
SUMMARY:Mänguteraapia supervisioon
DESCRIPTION:
URL:https://dev.manguteraapia.ee/syndmus/manguteraapia-supervisioon-6/
LOCATION:Zoom
END:VEVENT
BEGIN:VEVENT
DTSTART;VALUE=DATE:20210511
DTEND;VALUE=DATE:20210512
DTSTAMP:20260422T075557
CREATED:20201021T103149Z
LAST-MODIFIED:20210428T195815Z
UID:7077-1620691200-1620777599@dev.manguteraapia.ee
SUMMARY:Tartu15 Menüü analüüs ja koostamine. Mari-Liis Väli (zoom)
DESCRIPTION:
URL:https://dev.manguteraapia.ee/syndmus/tartu15-vit-min-tasakaalus-menuu-koostamine/
LOCATION:Tartu\, Kalevi 108\, Tartu\, 50104\, Eesti
END:VEVENT
BEGIN:VEVENT
DTSTART;VALUE=DATE:20210510
DTEND;VALUE=DATE:20210511
DTSTAMP:20260422T075557
CREATED:20201021T102700Z
LAST-MODIFIED:20210428T195807Z
UID:7075-1620604800-1620691199@dev.manguteraapia.ee
SUMMARY:Tartu15 Põhitoitained. Annely Soots (zoom)
DESCRIPTION:
URL:https://dev.manguteraapia.ee/syndmus/tartu15-pohitoitained/
LOCATION:Tartu\, Kalevi 108\, Tartu\, 50104\, Eesti
END:VEVENT
BEGIN:VEVENT
DTSTART;VALUE=DATE:20210509
DTEND;VALUE=DATE:20210510
DTSTAMP:20260422T075557
CREATED:20201022T084501Z
LAST-MODIFIED:20210428T195324Z
UID:7246-1620518400-1620604799@dev.manguteraapia.ee
SUMMARY:Tln41 II tsükkel (rasvad). Triin Muiste ja Mari-Liis Väli (zoom)
DESCRIPTION:
URL:https://dev.manguteraapia.ee/syndmus/tln41-ii-tsukkel-rasvad-triin-muiste/
LOCATION:Tallinn\, Pirita tee 26c-33\, Tallinn\, Eesti
END:VEVENT
BEGIN:VEVENT
DTSTART;VALUE=DATE:20210509
DTEND;VALUE=DATE:20210510
DTSTAMP:20260422T075557
CREATED:20201021T090220Z
LAST-MODIFIED:20210428T194451Z
UID:7050-1620518400-1620604799@dev.manguteraapia.ee
SUMMARY:Tartu14 Vaimne tervis. Pille Javed (zoom)
DESCRIPTION:
URL:https://dev.manguteraapia.ee/syndmus/tartu14-vaimne-tervis/
LOCATION:Tartu\, Kalevi 108\, Tartu\, 50104\, Eesti
END:VEVENT
BEGIN:VEVENT
DTSTART;VALUE=DATE:20210508
DTEND;VALUE=DATE:20210509
DTSTAMP:20260422T075557
CREATED:20201022T084430Z
LAST-MODIFIED:20210428T195320Z
UID:7244-1620432000-1620518399@dev.manguteraapia.ee
SUMMARY:Tln41 II tsükkel (rasvad). Annely Soots (zoom)
DESCRIPTION:
URL:https://dev.manguteraapia.ee/syndmus/tln41-ii-tsukkel-rasvad-annely-soots/
LOCATION:Tallinn\, Pirita tee 26c-33\, Tallinn\, Eesti
END:VEVENT
BEGIN:VEVENT
DTSTART;VALUE=DATE:20210508
DTEND;VALUE=DATE:20210509
DTSTAMP:20260422T075557
CREATED:20201021T090141Z
LAST-MODIFIED:20210508T024248Z
UID:7048-1620432000-1620518399@dev.manguteraapia.ee
SUMMARY:Tartu14 Südamehaigused ja diabeet. Pille Javed (zoom)
DESCRIPTION:
URL:https://dev.manguteraapia.ee/syndmus/tartu14-sudamehaigused-ja-diabeet/
LOCATION:Tartu\, Kalevi 108\, Tartu\, 50104\, Eesti
END:VEVENT
BEGIN:VEVENT
DTSTART;VALUE=DATE:20210506
DTEND;VALUE=DATE:20210507
DTSTAMP:20260422T075557
CREATED:20201021T111731Z
LAST-MODIFIED:20210430T115229Z
UID:7106-1620259200-1620345599@dev.manguteraapia.ee
SUMMARY:Tln40 Nõustamise tehnikad. Annely Soots (zoom)
DESCRIPTION:
URL:https://dev.manguteraapia.ee/syndmus/tln40-noustamise-tehnikad/
LOCATION:Tallinn\, Pirita tee 26c-33\, Tallinn\, Eesti
END:VEVENT
BEGIN:VEVENT
DTSTART;VALUE=DATE:20210505
DTEND;VALUE=DATE:20210506
DTSTAMP:20260422T075557
CREATED:20201021T112159Z
LAST-MODIFIED:20210430T115504Z
UID:7108-1620172800-1620259199@dev.manguteraapia.ee
SUMMARY:Tln40 Kaalunõustamise praktika. Mari-Liis Väli (zoom)
DESCRIPTION:
URL:https://dev.manguteraapia.ee/syndmus/tln40-kaalunoustamise-praktika/
LOCATION:Tallinn\, Pirita tee 26c-33\, Tallinn\, Eesti
END:VEVENT
BEGIN:VEVENT
DTSTART;VALUE=DATE:20210502
DTEND;VALUE=DATE:20210503
DTSTAMP:20260422T075557
CREATED:20201020T132501Z
LAST-MODIFIED:20210428T190835Z
UID:6999-1619913600-1619999999@dev.manguteraapia.ee
SUMMARY:Tln39 Anatoomia-füsioloogia. Annely Soots (zoom)
DESCRIPTION:
URL:https://dev.manguteraapia.ee/syndmus/tln39-anatoomia-fusioloogia/
LOCATION:Tallinn\, Pirita tee 26c-33\, Tallinn\, Eesti
END:VEVENT
BEGIN:VEVENT
DTSTART;VALUE=DATE:20210501
DTEND;VALUE=DATE:20210502
DTSTAMP:20260422T075557
CREATED:20201020T132525Z
LAST-MODIFIED:20210428T190829Z
UID:7001-1619827200-1619913599@dev.manguteraapia.ee
SUMMARY:Tln39 Kliendijuhtumid. Pille Javed (zoom)
DESCRIPTION:
URL:https://dev.manguteraapia.ee/syndmus/tln39-kliendijuhtumid/
LOCATION:Tallinn\, Pirita tee 26c-33\, Tallinn\, Eesti
END:VEVENT
BEGIN:VEVENT
DTSTART;VALUE=DATE:20210430
DTEND;VALUE=DATE:20210501
DTSTAMP:20260422T075557
CREATED:20201021T120435Z
LAST-MODIFIED:20201021T120530Z
UID:7123-1619740800-1619827199@dev.manguteraapia.ee
SUMMARY:Toidulisandite täiendkoolitus: Silmade tervis\, immuunsuse toetamine. Hormonaalse süsteemi toetamine
DESCRIPTION:Täiendkoolitus on osa toidulisandite jätkukoolituse nn pilootprojektist. Endistele ja praegustele Tervisekooli õpilastele kehtib soodushind (40 eurot õppepäeva eest koos käibemaksuga). \nTähelepanu! Koolitustesarj keskendub lähemalt justnimelt toidulisanditele\, sh nende erinevatele vormidele ja põhitoimetele. Ei keskenduta toitainetele üldiselt. \n9. õppepäev toimub 30. aprill \nTeema: Silmade tervis\, immuunsuse toetamine. Hormonaalse süsteemi toetamine – silmade tervis ja antioksüdantsed lisandid. Immunsüsteemi toimimine ja selleks vajalikud toitained inimkehas. Hormonaalse süsteemiga seotud probleemid ja toidulisandid. Tarbimissoovitused ja näidustused\, ohutud annused\, kõrvaltoimed ja vastunäidustused. \nKus: Zoomi teel algusega kell 9.30. \nMaht: 8 tundi. \nKoolituspäeva lõpus väljastatakse tõend. Kui teil on aga soov saada koolituspäeva eest kompetentsi kinnitav tunnistus\, tuleb sooritada iga teema kohta arvestus (kontrolltöö). Sel juhul lisandub koolitushinnale 6.50€ (sisaldab käibemaksu).
URL:https://dev.manguteraapia.ee/syndmus/taiendkoolitus-toidulisandid-toitumisnoustaja-ja-terapeudi-toovahendina-silmade-tervis-immuunsuse-toetamine-hormonaalse-susteemi-toetamine/
LOCATION:Zoom
END:VEVENT
BEGIN:VEVENT
DTSTART;VALUE=DATE:20210429
DTEND;VALUE=DATE:20210430
DTSTAMP:20260422T075557
CREATED:20210330T113721Z
LAST-MODIFIED:20210330T121233Z
UID:9310-1619654400-1619740799@dev.manguteraapia.ee
SUMMARY:Tln42 I tsükkel. Triin Muiste (zoom)
DESCRIPTION:
URL:https://dev.manguteraapia.ee/syndmus/tln42-i-tsukkel-2/
LOCATION:Zoom
END:VEVENT
BEGIN:VEVENT
DTSTART;VALUE=DATE:20210428
DTEND;VALUE=DATE:20210429
DTSTAMP:20260422T075557
CREATED:20210330T113703Z
LAST-MODIFIED:20210330T121216Z
UID:9308-1619568000-1619654399@dev.manguteraapia.ee
SUMMARY:Tln42 I tsükkel. Annely Soots (zoom)
DESCRIPTION:
URL:https://dev.manguteraapia.ee/syndmus/tln42-i-tsukkel/
LOCATION:Zoom
END:VEVENT
BEGIN:VEVENT
DTSTART;VALUE=DATE:20210427
DTEND;VALUE=DATE:20210428
DTSTAMP:20260422T075557
CREATED:20201020T130823Z
LAST-MODIFIED:20210330T121227Z
UID:6963-1619481600-1619567999@dev.manguteraapia.ee
SUMMARY:Tln38 Esmaabi. Reet Saia (zoom)
DESCRIPTION:
URL:https://dev.manguteraapia.ee/syndmus/tln38-esmaabi-reet-saia/
LOCATION:Tallinn\, Pirita tee 26c-33\, Tallinn\, Eesti
END:VEVENT
BEGIN:VEVENT
DTSTART;VALUE=DATE:20210426
DTEND;VALUE=DATE:20210427
DTSTAMP:20260422T075557
CREATED:20201020T130800Z
LAST-MODIFIED:20210330T121222Z
UID:6961-1619395200-1619481599@dev.manguteraapia.ee
SUMMARY:Tln38 Liikumine. Mari-Liis Väli (zoom)
DESCRIPTION:
URL:https://dev.manguteraapia.ee/syndmus/tln38-liikumine/
LOCATION:Tallinn\, Pirita tee 26c-33\, Tallinn\, Eesti
END:VEVENT
BEGIN:VEVENT
DTSTART;VALUE=DATE:20210425
DTEND;VALUE=DATE:20210426
DTSTAMP:20260422T075557
CREATED:20201029T132735Z
LAST-MODIFIED:20201029T132735Z
UID:7395-1619308800-1619395199@dev.manguteraapia.ee
SUMMARY:Mänguteraapia XIII tsükkel Enesevigastamine ja mänguteraapia.
DESCRIPTION:
URL:https://dev.manguteraapia.ee/syndmus/manguteraapia-xiii-tsukkel-enesevigastamine-ja-manguteraapia-2/
LOCATION:Tartu\, Kalevi 108\, Tartu\, 50104\, Eesti
END:VEVENT
BEGIN:VEVENT
DTSTART;VALUE=DATE:20210424
DTEND;VALUE=DATE:20210425
DTSTAMP:20260422T075557
CREATED:20201029T132718Z
LAST-MODIFIED:20201029T132718Z
UID:7393-1619222400-1619308799@dev.manguteraapia.ee
SUMMARY:Mänguteraapia XIII tsükkel Enesevigastamine ja mänguteraapia.
DESCRIPTION:
URL:https://dev.manguteraapia.ee/syndmus/manguteraapia-xiii-tsukkel-enesevigastamine-ja-manguteraapia/
LOCATION:Tartu\, Kalevi 108\, Tartu\, 50104\, Eesti
END:VEVENT
BEGIN:VEVENT
DTSTART;VALUE=DATE:20210422
DTEND;VALUE=DATE:20210423
DTSTAMP:20260422T075557
CREATED:20210107T124043Z
LAST-MODIFIED:20210107T124043Z
UID:8217-1619049600-1619135999@dev.manguteraapia.ee
SUMMARY:Mänguteraapia supervisioon
DESCRIPTION:
URL:https://dev.manguteraapia.ee/syndmus/manguteraapia-supervisioon-5/
LOCATION:Zoom
END:VEVENT
BEGIN:VEVENT
DTSTART;VALUE=DATE:20210421
DTEND;VALUE=DATE:20210422
DTSTAMP:20260422T075557
CREATED:20210330T123555Z
LAST-MODIFIED:20210420T104402Z
UID:9341-1618963200-1619049599@dev.manguteraapia.ee
SUMMARY:TT5 Toitumisnõustamise praktika. Annely Soots (zoom)
DESCRIPTION:
URL:https://dev.manguteraapia.ee/syndmus/tt5-toitumisnoustamine-haiguste-ennetamisel-ii/
END:VEVENT
BEGIN:VEVENT
DTSTART;VALUE=DATE:20210420
DTEND;VALUE=DATE:20210421
DTSTAMP:20260422T075557
CREATED:20210330T123449Z
LAST-MODIFIED:20210420T104357Z
UID:9339-1618876800-1618963199@dev.manguteraapia.ee
SUMMARY:TT5 Toitumisnõustamine haiguste ennetamisel I. Annely Soots ja Pille Javed (zoom)
DESCRIPTION:
URL:https://dev.manguteraapia.ee/syndmus/tt5-toitumisnoustamine-haiguste-ennetamisel-i/
END:VEVENT
BEGIN:VEVENT
DTSTART;VALUE=DATE:20210418
DTEND;VALUE=DATE:20210419
DTSTAMP:20260422T075557
CREATED:20201020T124002Z
LAST-MODIFIED:20210330T120943Z
UID:6934-1618704000-1618790399@dev.manguteraapia.ee
SUMMARY:Tln37 Vaimne tervis. Pille Javed (zoom)
DESCRIPTION:
URL:https://dev.manguteraapia.ee/syndmus/tln37-vaimne-tervis/
LOCATION:Tallinn\, Pirita tee 26c-33\, Tallinn\, Eesti
END:VEVENT
BEGIN:VEVENT
DTSTART;VALUE=DATE:20210417
DTEND;VALUE=DATE:20210418
DTSTAMP:20260422T075557
CREATED:20201020T123939Z
LAST-MODIFIED:20210407T103908Z
UID:6932-1618617600-1618703999@dev.manguteraapia.ee
SUMMARY:Tln37 veganitoitumine Pille Javed (zoom)
DESCRIPTION:
URL:https://dev.manguteraapia.ee/syndmus/tln37-sudamehaigused-ja-diabeet/
LOCATION:Tallinn\, Pirita tee 26c-33\, Tallinn\, Eesti
END:VEVENT
BEGIN:VEVENT
DTSTART;VALUE=DATE:20210416
DTEND;VALUE=DATE:20210417
DTSTAMP:20260422T075557
CREATED:20201021T084223Z
LAST-MODIFIED:20210330T115036Z
UID:7030-1618531200-1618617599@dev.manguteraapia.ee
SUMMARY:Tartu13 Referaadid + LÕPETAMINE. Annely Soots (zoom)
DESCRIPTION:
URL:https://dev.manguteraapia.ee/syndmus/tartu13-referaadid-lopetamine/
LOCATION:Tartu\, Kalevi 108\, Tartu\, 50104\, Eesti
END:VEVENT
BEGIN:VEVENT
DTSTART;VALUE=DATE:20210415
DTEND;VALUE=DATE:20210416
DTSTAMP:20260422T075557
CREATED:20201021T084158Z
LAST-MODIFIED:20210330T115034Z
UID:7028-1618444800-1618531199@dev.manguteraapia.ee
SUMMARY:Tartu13 TN praktika. Triin Muiste (zoom)
DESCRIPTION:
URL:https://dev.manguteraapia.ee/syndmus/tartu13-tn-praktika/
LOCATION:Tartu\, Kalevi 108\, Tartu\, 50104\, Eesti
END:VEVENT
BEGIN:VEVENT
DTSTART;VALUE=DATE:20210414
DTEND;VALUE=DATE:20210415
DTSTAMP:20260422T075557
CREATED:20201020T113929Z
LAST-MODIFIED:20201020T113929Z
UID:6889-1618358400-1618444799@dev.manguteraapia.ee
SUMMARY:FTT Autoimmuunsuse praktika.
DESCRIPTION:
URL:https://dev.manguteraapia.ee/syndmus/ftt-autoimmuunsuse-praktika/
LOCATION:Skype
END:VEVENT
END:VCALENDAR