BEGIN:VCALENDAR
VERSION:2.0
PRODID:-//Tervisekool - ECPv6.2.9//NONSGML v1.0//EN
CALSCALE:GREGORIAN
METHOD:PUBLISH
X-WR-CALNAME:Tervisekool
X-ORIGINAL-URL:https://dev.manguteraapia.ee
X-WR-CALDESC:Events for Tervisekool
REFRESH-INTERVAL;VALUE=DURATION:PT1H
X-Robots-Tag:noindex
X-PUBLISHED-TTL:PT1H
BEGIN:VTIMEZONE
TZID:Europe/Tallinn
BEGIN:DAYLIGHT
TZOFFSETFROM:+0200
TZOFFSETTO:+0300
TZNAME:EEST
DTSTART:20210328T010000
END:DAYLIGHT
BEGIN:STANDARD
TZOFFSETFROM:+0300
TZOFFSETTO:+0200
TZNAME:EET
DTSTART:20211031T010000
END:STANDARD
END:VTIMEZONE
BEGIN:VEVENT
DTSTART;VALUE=DATE:20210413
DTEND;VALUE=DATE:20210414
DTSTAMP:20260423T045656
CREATED:20201021T103226Z
LAST-MODIFIED:20210330T113556Z
UID:7079-1618272000-1618358399@dev.manguteraapia.ee
SUMMARY:Tartu15 Vit-min tasakaalus menüü koostamine. Triin Muiste (zoom)
DESCRIPTION:
URL:https://dev.manguteraapia.ee/syndmus/tartu15-menuu-analuus-ja-koostamine/
LOCATION:Tartu\, Kalevi 108\, Tartu\, 50104\, Eesti
END:VEVENT
BEGIN:VEVENT
DTSTART;VALUE=DATE:20210412
DTEND;VALUE=DATE:20210413
DTSTAMP:20260423T045656
CREATED:20201021T102614Z
LAST-MODIFIED:20210330T113552Z
UID:7073-1618185600-1618271999@dev.manguteraapia.ee
SUMMARY:Tartu15 Vitamiinide ja mineraalainete praktika. Annely Soots (zoom)
DESCRIPTION:
URL:https://dev.manguteraapia.ee/syndmus/tartu15-vitamiinide-ja-mineraalainete-praktika/
LOCATION:Tartu\, Kalevi 108\, Tartu\, 50104\, Eesti
END:VEVENT
BEGIN:VEVENT
DTSTART;VALUE=DATE:20210411
DTEND;VALUE=DATE:20210412
DTSTAMP:20260423T045656
CREATED:20201022T084239Z
LAST-MODIFIED:20210407T110016Z
UID:7242-1618099200-1618185599@dev.manguteraapia.ee
SUMMARY:Tln41 I tsükkel. Triin Muiste ja M-L Väli.
DESCRIPTION:
URL:https://dev.manguteraapia.ee/syndmus/tln41-i-tsukkel-triin-muiste/
LOCATION:Tallinn\, Pirita tee 26c-33\, Tallinn\, Eesti
END:VEVENT
BEGIN:VEVENT
DTSTART;VALUE=DATE:20210411
DTEND;VALUE=DATE:20210412
DTSTAMP:20260423T045656
CREATED:20201021T090042Z
LAST-MODIFIED:20210330T113544Z
UID:7044-1618099200-1618185599@dev.manguteraapia.ee
SUMMARY:Tartu14 Probleemne klient. Annely Soots (zoom)
DESCRIPTION:
URL:https://dev.manguteraapia.ee/syndmus/tartu14-probleemne-klient/
LOCATION:Tartu\, Kalevi 108\, Tartu\, 50104\, Eesti
END:VEVENT
BEGIN:VEVENT
DTSTART;VALUE=DATE:20210410
DTEND;VALUE=DATE:20210411
DTSTAMP:20260423T045656
CREATED:20201022T084046Z
LAST-MODIFIED:20201022T084046Z
UID:7240-1618012800-1618099199@dev.manguteraapia.ee
SUMMARY:Tln41 I tsükkel. Annely Soots
DESCRIPTION:
URL:https://dev.manguteraapia.ee/syndmus/tln41-i-tsukkel-annely-soots/
LOCATION:Tallinn\, Pirita tee 26c-33\, Tallinn\, Eesti
END:VEVENT
BEGIN:VEVENT
DTSTART;VALUE=DATE:20210410
DTEND;VALUE=DATE:20210411
DTSTAMP:20260423T045656
CREATED:20201021T090112Z
LAST-MODIFIED:20210330T113548Z
UID:7046-1618012800-1618099199@dev.manguteraapia.ee
SUMMARY:Tartu14 Toiduhügieen ja töötubade läbiviimine. Laivi Mesikäpp (zoom)
DESCRIPTION:
URL:https://dev.manguteraapia.ee/syndmus/tartu14-toiduhugieen-ja-tootubade-labiviimine-laivi-mesikapp/
LOCATION:Tartu\, Kalevi 108\, Tartu\, 50104\, Eesti
END:VEVENT
BEGIN:VEVENT
DTSTART;VALUE=DATE:20210408
DTEND;VALUE=DATE:20210409
DTSTAMP:20260423T045656
CREATED:20201021T111656Z
LAST-MODIFIED:20210330T112859Z
UID:7104-1617840000-1617926399@dev.manguteraapia.ee
SUMMARY:Tln40 Tervislik kehakaal. Triin Muiste (zoom)
DESCRIPTION:
URL:https://dev.manguteraapia.ee/syndmus/tln40-tervislik-kehakaal/
LOCATION:Tallinn\, Pirita tee 26c-33\, Tallinn\, Eesti
END:VEVENT
BEGIN:VEVENT
DTSTART;VALUE=DATE:20210407
DTEND;VALUE=DATE:20210408
DTSTAMP:20260423T045656
CREATED:20201021T111621Z
LAST-MODIFIED:20210330T112854Z
UID:7102-1617753600-1617839999@dev.manguteraapia.ee
SUMMARY:Tln40 TN alused. Pille Javed (zoom)
DESCRIPTION:
URL:https://dev.manguteraapia.ee/syndmus/tln40-tn-alused/
LOCATION:Tallinn\, Pirita tee 26c-33\, Tallinn\, Eesti
END:VEVENT
BEGIN:VEVENT
DTSTART;VALUE=DATE:20210404
DTEND;VALUE=DATE:20210405
DTSTAMP:20260423T045656
CREATED:20201020T132437Z
LAST-MODIFIED:20210330T112850Z
UID:6997-1617494400-1617580799@dev.manguteraapia.ee
SUMMARY:Tln39 Kaalunõustamise praktika. Mari-Liis Väli (zoom)
DESCRIPTION:
URL:https://dev.manguteraapia.ee/syndmus/tln39-kaalunoustamise-praktika/
LOCATION:Tallinn\, Pirita tee 26c-33\, Tallinn\, Eesti
END:VEVENT
BEGIN:VEVENT
DTSTART;VALUE=DATE:20210403
DTEND;VALUE=DATE:20210404
DTSTAMP:20260423T045656
CREATED:20201020T132359Z
LAST-MODIFIED:20210407T103821Z
UID:6995-1617408000-1617494399@dev.manguteraapia.ee
SUMMARY:Tln39 Tervislik kehakaal. Mari-Liis Väli (zoom)
DESCRIPTION:
URL:https://dev.manguteraapia.ee/syndmus/tln39-tervislik-kehakaal/
LOCATION:Tallinn\, Pirita tee 26c-33\, Tallinn\, Eesti
END:VEVENT
BEGIN:VEVENT
DTSTART;VALUE=DATE:20210401
DTEND;VALUE=DATE:20210402
DTSTAMP:20260423T045656
CREATED:20201021T115913Z
LAST-MODIFIED:20210330T114503Z
UID:7119-1617235200-1617321599@dev.manguteraapia.ee
SUMMARY:Toidulisandite täiendkoolitus: Südame tervis\, kolesterooli normaliseerimine
DESCRIPTION:Täiendkoolitus on osa toidulisandite jätkukoolituse nn pilootprojektist. Endistele ja praegustele Tervisekooli õpilastele kehtib soodushind (40 eurot õppepäeva eest koos käibemaksuga). \nTähelepanu! Koolitustesarj keskendub lähemalt justnimelt toidulisanditele\, sh nende erinevatele vormidele ja põhitoimetele. Ei keskenduta toitainetele üldiselt. \n8. õppepäev toimub 1. aprillil \nTeema: Südameveresoonkonna tervis\, kolesteroolitaseme normaliseerimine – veresoonte tervise seos toitainetega\, nende puuduse ja lisamanutamise mõju. Erinevad toidulisandid ja toitained kolesteroolitaseme mõjutajatena. Tarbimissoovitused ja näidustused\, ohutud annused\, kõrvaltoimed ja vastunäidustused. \nKus: Zoomi teel algusega kell 9.30. \nMaht: 8 tundi. \nKoolituspäeva lõpus väljastatakse tõend. Kui teil on aga soov saada koolituspäeva eest kompetentsi kinnitav tunnistus\, tuleb sooritada iga teema kohta arvestus (kontrolltöö). Sel juhul lisandub koolitushinnale 6.50€ (sisaldab käibemaksu). \nVAATA LISA
URL:https://dev.manguteraapia.ee/syndmus/taiendkoolitus-toidulisandid-toitumisnoustaja-ja-terapeudi-toovahendina-svk-tervis-kolesterooli-normaliseerimine/
LOCATION:Zoom
END:VEVENT
BEGIN:VEVENT
DTSTART;VALUE=DATE:20210330
DTEND;VALUE=DATE:20210331
DTSTAMP:20260423T045656
CREATED:20201020T130713Z
LAST-MODIFIED:20210226T122305Z
UID:6959-1617062400-1617148799@dev.manguteraapia.ee
SUMMARY:Tln38 Seedimise toetamine toitumisega. Triin Muiste (zoom)
DESCRIPTION:
URL:https://dev.manguteraapia.ee/syndmus/tln38-seedimise-toetamine-toitumisega/
LOCATION:Tallinn\, Pirita tee 26c-33\, Tallinn\, Eesti
END:VEVENT
BEGIN:VEVENT
DTSTART;VALUE=DATE:20210329
DTEND;VALUE=DATE:20210330
DTSTAMP:20260423T045656
CREATED:20201020T130631Z
LAST-MODIFIED:20210226T122302Z
UID:6957-1616976000-1617062399@dev.manguteraapia.ee
SUMMARY:Tln38 Seedeelundkonna anatoomia-füsioloogia. Pille Javed (zoom)
DESCRIPTION:
URL:https://dev.manguteraapia.ee/syndmus/tln38-seedeelundkonna-anatoomia-fusioloogia/
LOCATION:Tallinn\, Pirita tee 26c-33\, Tallinn\, Eesti
END:VEVENT
BEGIN:VEVENT
DTSTART;VALUE=DATE:20210321
DTEND;VALUE=DATE:20210322
DTSTAMP:20260423T045656
CREATED:20201029T132433Z
LAST-MODIFIED:20201029T132433Z
UID:7383-1616284800-1616371199@dev.manguteraapia.ee
SUMMARY:Mänguteraapia XXIII tsükkel LÕPETAMINE.
DESCRIPTION:
URL:https://dev.manguteraapia.ee/syndmus/manguteraapia-xxiii-tsukkel-lopetamine-2/
LOCATION:Tartu\, Kalevi 108\, Tartu\, 50104\, Eesti
END:VEVENT
BEGIN:VEVENT
DTSTART;VALUE=DATE:20210321
DTEND;VALUE=DATE:20210322
DTSTAMP:20260423T045656
CREATED:20201020T123518Z
LAST-MODIFIED:20210226T130150Z
UID:6929-1616284800-1616371199@dev.manguteraapia.ee
SUMMARY:Tln37 Toiduhügieen ja töötubade läbiviimine. Laivi Mesikäpp (zoom)
DESCRIPTION:
URL:https://dev.manguteraapia.ee/syndmus/tln37-toiduhugieen-ja-tootubade-labiviimine-laivi-mesikapp/
LOCATION:Tallinn\, Pirita tee 26c-33\, Tallinn\, Eesti
END:VEVENT
BEGIN:VEVENT
DTSTART;VALUE=DATE:20210321
DTEND;VALUE=DATE:20210322
DTSTAMP:20260423T045656
CREATED:20201020T122807Z
LAST-MODIFIED:20210226T124625Z
UID:6916-1616284800-1616371199@dev.manguteraapia.ee
SUMMARY:Tln36 Referaadid + LÕPETAMINE. Annely Soots (skype)
DESCRIPTION:
URL:https://dev.manguteraapia.ee/syndmus/tln36-referaadid-lopetamine/
LOCATION:Tallinn\, Pirita tee 26c-33\, Tallinn\, Eesti
END:VEVENT
BEGIN:VEVENT
DTSTART;VALUE=DATE:20210320
DTEND;VALUE=DATE:20210321
DTSTAMP:20260423T045656
CREATED:20201029T132416Z
LAST-MODIFIED:20201029T132416Z
UID:7381-1616198400-1616284799@dev.manguteraapia.ee
SUMMARY:Mänguteraapia XXIII tsükkel LÕPETAMINE.
DESCRIPTION:
URL:https://dev.manguteraapia.ee/syndmus/manguteraapia-xxiii-tsukkel-lopetamine/
LOCATION:Tartu\, Kalevi 108\, Tartu\, 50104\, Eesti
END:VEVENT
BEGIN:VEVENT
DTSTART;VALUE=DATE:20210320
DTEND;VALUE=DATE:20210321
DTSTAMP:20260423T045656
CREATED:20201020T123447Z
LAST-MODIFIED:20210226T130143Z
UID:6927-1616198400-1616284799@dev.manguteraapia.ee
SUMMARY:Tln37 Probleemne klient. Annely Soots (zoom)
DESCRIPTION:
URL:https://dev.manguteraapia.ee/syndmus/tln37-probleemne-klient/
LOCATION:Tallinn\, Pirita tee 26c-33\, Tallinn\, Eesti
END:VEVENT
BEGIN:VEVENT
DTSTART;VALUE=DATE:20210320
DTEND;VALUE=DATE:20210321
DTSTAMP:20260423T045656
CREATED:20201020T122729Z
LAST-MODIFIED:20210226T124630Z
UID:6914-1616198400-1616284799@dev.manguteraapia.ee
SUMMARY:Tln36 TN praktika. Pille Javed (skype)
DESCRIPTION:
URL:https://dev.manguteraapia.ee/syndmus/tln36-tn-praktika/
LOCATION:Tallinn\, Pirita tee 26c-33\, Tallinn\, Eesti
END:VEVENT
BEGIN:VEVENT
DTSTART;VALUE=DATE:20210318
DTEND;VALUE=DATE:20210319
DTSTAMP:20260423T045656
CREATED:20210107T124024Z
LAST-MODIFIED:20210107T124024Z
UID:8215-1616025600-1616111999@dev.manguteraapia.ee
SUMMARY:Mänguteraapia supervisioon
DESCRIPTION:
URL:https://dev.manguteraapia.ee/syndmus/manguteraapia-supervisioon-4/
LOCATION:Zoom
END:VEVENT
BEGIN:VEVENT
DTSTART;VALUE=DATE:20210317
DTEND;VALUE=DATE:20210318
DTSTAMP:20260423T045656
CREATED:20201020T113848Z
LAST-MODIFIED:20201020T113902Z
UID:6885-1615939200-1616025599@dev.manguteraapia.ee
SUMMARY:FTT Teooria ja praktika.
DESCRIPTION:
URL:https://dev.manguteraapia.ee/syndmus/ftt-teooria-ja-praktika/
LOCATION:Skype
END:VEVENT
BEGIN:VEVENT
DTSTART;VALUE=DATE:20210316
DTEND;VALUE=DATE:20210317
DTSTAMP:20260423T045656
CREATED:20201021T091153Z
LAST-MODIFIED:20210226T124644Z
UID:7071-1615852800-1615939199@dev.manguteraapia.ee
SUMMARY:Tartu15 III tsükkel (süsivesikud). Triin Muiste (zoom)
DESCRIPTION:
URL:https://dev.manguteraapia.ee/syndmus/tartu15-iii-tsukkel-susivesikud-2/
LOCATION:Tartu\, Kalevi 108\, Tartu\, 50104\, Eesti
END:VEVENT
BEGIN:VEVENT
DTSTART;VALUE=DATE:20210315
DTEND;VALUE=DATE:20210316
DTSTAMP:20260423T045656
CREATED:20201021T091117Z
LAST-MODIFIED:20210226T124638Z
UID:7069-1615766400-1615852799@dev.manguteraapia.ee
SUMMARY:Tartu15 III tsükkel (süsivesikud). Triin Muiste (zoom)
DESCRIPTION:
URL:https://dev.manguteraapia.ee/syndmus/tartu15-iii-tsukkel-susivesikud/
LOCATION:Tartu\, Kalevi 108\, Tartu\, 50104\, Eesti
END:VEVENT
BEGIN:VEVENT
DTSTART;VALUE=DATE:20210314
DTEND;VALUE=DATE:20210315
DTSTAMP:20260423T045656
CREATED:20201021T090009Z
LAST-MODIFIED:20210226T124357Z
UID:7042-1615680000-1615766399@dev.manguteraapia.ee
SUMMARY:Tartu14 Esmaabi. Reet Saia (zoom)
DESCRIPTION:
URL:https://dev.manguteraapia.ee/syndmus/tartu14-esmaabi-reet-saia/
LOCATION:Tartu\, Kalevi 108\, Tartu\, 50104\, Eesti
END:VEVENT
BEGIN:VEVENT
DTSTART;VALUE=DATE:20210314
DTEND;VALUE=DATE:20210315
DTSTAMP:20260423T045657
CREATED:20201020T121534Z
LAST-MODIFIED:20210226T123137Z
UID:6901-1615680000-1615766399@dev.manguteraapia.ee
SUMMARY:TT4 Videoseansside analüüsid. LÕPETAMINE. Annely Soots (skype)
DESCRIPTION:
URL:https://dev.manguteraapia.ee/syndmus/tt4-arvestus-lopetamine/
LOCATION:Tallinn\, Pirita tee 26c-33\, Tallinn\, Eesti
END:VEVENT
BEGIN:VEVENT
DTSTART;VALUE=DATE:20210313
DTEND;VALUE=DATE:20210314
DTSTAMP:20260423T045657
CREATED:20201021T085928Z
LAST-MODIFIED:20210226T124351Z
UID:7040-1615593600-1615679999@dev.manguteraapia.ee
SUMMARY:Tartu14 Liikumine. Mari-Liis Väli (zoom)
DESCRIPTION:
URL:https://dev.manguteraapia.ee/syndmus/tartu14-liikumine/
LOCATION:Tartu\, Kalevi 108\, Tartu\, 50104\, Eesti
END:VEVENT
BEGIN:VEVENT
DTSTART;VALUE=DATE:20210313
DTEND;VALUE=DATE:20210314
DTSTAMP:20260423T045657
CREATED:20201020T121507Z
LAST-MODIFIED:20210226T123131Z
UID:6899-1615593600-1615679999@dev.manguteraapia.ee
SUMMARY:TT4 seminar\, ettekanded. Pille Javed (skype)
DESCRIPTION:
URL:https://dev.manguteraapia.ee/syndmus/tt4-praktika-menuude-ja-juhtumite-analuusid/
LOCATION:Tallinn\, Pirita tee 26c-33\, Tallinn\, Eesti
END:VEVENT
BEGIN:VEVENT
DTSTART;VALUE=DATE:20210311
DTEND;VALUE=DATE:20210312
DTSTAMP:20260423T045657
CREATED:20201021T111547Z
LAST-MODIFIED:20210226T123010Z
UID:7100-1615420800-1615507199@dev.manguteraapia.ee
SUMMARY:Tln40 Menüü analüüs ja koostamine. Mari-Liis Väli (zoom)
DESCRIPTION:
URL:https://dev.manguteraapia.ee/syndmus/tln40-menuu-analuus-ja-koostamine/
LOCATION:Tartu\, Kalevi 108\, Tartu\, 50104\, Eesti
END:VEVENT
BEGIN:VEVENT
DTSTART;VALUE=DATE:20210310
DTEND;VALUE=DATE:20210311
DTSTAMP:20260423T045657
CREATED:20201021T110422Z
LAST-MODIFIED:20210226T123006Z
UID:7098-1615334400-1615420799@dev.manguteraapia.ee
SUMMARY:Tln40 Vit-min tasakaalus menüü koostamine. Triin Muiste (zoom)
DESCRIPTION:
URL:https://dev.manguteraapia.ee/syndmus/tln40-vit-min-tasakaalus-menuu-koostamine/
LOCATION:Tallinn\, Pirita tee 26c-33\, Tallinn\, Eesti
END:VEVENT
BEGIN:VEVENT
DTSTART;VALUE=DATE:20210307
DTEND;VALUE=DATE:20210308
DTSTAMP:20260423T045657
CREATED:20201020T132315Z
LAST-MODIFIED:20210226T122627Z
UID:6993-1615075200-1615161599@dev.manguteraapia.ee
SUMMARY:Tln39 Nõustamise tehnikad. Annely Soots (zoom)
DESCRIPTION:
URL:https://dev.manguteraapia.ee/syndmus/tln39-noustamise-tehnikad/
LOCATION:Tallinn\, Pirita tee 26c-33\, Tallinn\, Eesti
END:VEVENT
END:VCALENDAR