BEGIN:VCALENDAR
VERSION:2.0
PRODID:-//Tervisekool - ECPv6.2.9//NONSGML v1.0//EN
CALSCALE:GREGORIAN
METHOD:PUBLISH
X-WR-CALNAME:Tervisekool
X-ORIGINAL-URL:https://dev.manguteraapia.ee
X-WR-CALDESC:Events for Tervisekool
REFRESH-INTERVAL;VALUE=DURATION:PT1H
X-Robots-Tag:noindex
X-PUBLISHED-TTL:PT1H
BEGIN:VTIMEZONE
TZID:Europe/Tallinn
BEGIN:DAYLIGHT
TZOFFSETFROM:+0200
TZOFFSETTO:+0300
TZNAME:EEST
DTSTART:20200329T010000
END:DAYLIGHT
BEGIN:STANDARD
TZOFFSETFROM:+0300
TZOFFSETTO:+0200
TZNAME:EET
DTSTART:20201025T010000
END:STANDARD
BEGIN:DAYLIGHT
TZOFFSETFROM:+0200
TZOFFSETTO:+0300
TZNAME:EEST
DTSTART:20210328T010000
END:DAYLIGHT
BEGIN:STANDARD
TZOFFSETFROM:+0300
TZOFFSETTO:+0200
TZNAME:EET
DTSTART:20211031T010000
END:STANDARD
END:VTIMEZONE
BEGIN:VEVENT
DTSTART;VALUE=DATE:20210123
DTEND;VALUE=DATE:20210124
DTSTAMP:20260422T232922
CREATED:20201021T085116Z
LAST-MODIFIED:20210107T151148Z
UID:7032-1611360000-1611446399@dev.manguteraapia.ee
SUMMARY:Tartu14 Raseda toitumine. Külli Holsting (zoom)
DESCRIPTION:
URL:https://dev.manguteraapia.ee/syndmus/tartu14-raseda-toitumine-kulli-holsting/
LOCATION:Tartu\, Kalevi 108\, Tartu\, 50104\, Eesti
END:VEVENT
BEGIN:VEVENT
DTSTART;VALUE=DATE:20210122
DTEND;VALUE=DATE:20210123
DTSTAMP:20260422T232922
CREATED:20201028T082856Z
LAST-MODIFIED:20210107T151152Z
UID:7339-1611273600-1611359999@dev.manguteraapia.ee
SUMMARY:Tln40b III tsükkel (süsivesikud). Mari-Liis Väli (zoom)
DESCRIPTION:
URL:https://dev.manguteraapia.ee/syndmus/tln40b-iii-tsukkel-susivesikud-mari-liis-vali/
LOCATION:Tallinn\, Pirita tee 26c-33\, Tallinn\, Eesti
END:VEVENT
BEGIN:VEVENT
DTSTART;VALUE=DATE:20210121
DTEND;VALUE=DATE:20210122
DTSTAMP:20260422T232922
CREATED:20210107T123946Z
LAST-MODIFIED:20210107T123946Z
UID:8211-1611187200-1611273599@dev.manguteraapia.ee
SUMMARY:Mänguteraapia supervisioon
DESCRIPTION:
URL:https://dev.manguteraapia.ee/syndmus/manguteraapia-supervisioon-2/
LOCATION:Zoom
END:VEVENT
BEGIN:VEVENT
DTSTART;VALUE=DATE:20210121
DTEND;VALUE=DATE:20210122
DTSTAMP:20260422T232922
CREATED:20201028T082831Z
LAST-MODIFIED:20210107T151155Z
UID:7337-1611187200-1611273599@dev.manguteraapia.ee
SUMMARY:Tln40b III tsükkel (süsivesikud). Pille Javed (zoom)
DESCRIPTION:
URL:https://dev.manguteraapia.ee/syndmus/tln40b-iii-tsukkel-susivesikud-pille-javed/
LOCATION:Tallinn\, Pirita tee 26c-33\, Tallinn\, Eesti
END:VEVENT
BEGIN:VEVENT
DTSTART;VALUE=DATE:20210119
DTEND;VALUE=DATE:20210120
DTSTAMP:20260422T232922
CREATED:20201029T132537Z
LAST-MODIFIED:20201029T132537Z
UID:7387-1611014400-1611100799@dev.manguteraapia.ee
SUMMARY:Mänguteraapia X tsükkel Nõustamise alused III.
DESCRIPTION:
URL:https://dev.manguteraapia.ee/syndmus/manguteraapia-x-tsukkel-noustamise-alused-iii-2/
LOCATION:Tartu\, Kalevi 108\, Tartu\, 50104\, Eesti
END:VEVENT
BEGIN:VEVENT
DTSTART;VALUE=DATE:20210119
DTEND;VALUE=DATE:20210120
DTSTAMP:20260422T232922
CREATED:20201020T121956Z
LAST-MODIFIED:20210107T151159Z
UID:6905-1611014400-1611100799@dev.manguteraapia.ee
SUMMARY:Tln35 TN praktika. Pille Javed (zoom)
DESCRIPTION:
URL:https://dev.manguteraapia.ee/syndmus/tln35-tn-praktika-2/
LOCATION:Tallinn\, Pirita tee 26c-33\, Tallinn\, Eesti
END:VEVENT
BEGIN:VEVENT
DTSTART;VALUE=DATE:20210118
DTEND;VALUE=DATE:20210119
DTSTAMP:20260422T232922
CREATED:20201029T132522Z
LAST-MODIFIED:20201029T132522Z
UID:7385-1610928000-1611014399@dev.manguteraapia.ee
SUMMARY:Mänguteraapia X tsükkel Nõustamise alused III.
DESCRIPTION:
URL:https://dev.manguteraapia.ee/syndmus/manguteraapia-x-tsukkel-noustamise-alused-iii/
LOCATION:Tartu\, Kalevi 108\, Tartu\, 50104\, Eesti
END:VEVENT
BEGIN:VEVENT
DTSTART;VALUE=DATE:20210118
DTEND;VALUE=DATE:20210119
DTSTAMP:20260422T232922
CREATED:20201020T121938Z
LAST-MODIFIED:20210107T151203Z
UID:6903-1610928000-1611014399@dev.manguteraapia.ee
SUMMARY:Tln35 TN praktika. Annely Soots (zoom)
DESCRIPTION:
URL:https://dev.manguteraapia.ee/syndmus/tln35-tn-praktika/
LOCATION:Tallinn\, Pirita tee 26c-33\, Tallinn\, Eesti
END:VEVENT
BEGIN:VEVENT
DTSTART;VALUE=DATE:20210117
DTEND;VALUE=DATE:20210118
DTSTAMP:20260422T232922
CREATED:20201020T131956Z
LAST-MODIFIED:20210107T151116Z
UID:6977-1610841600-1610927999@dev.manguteraapia.ee
SUMMARY:Tln39 Vitamiinid ja mineraalained - praktika. Annely Soots (zoom)
DESCRIPTION:
URL:https://dev.manguteraapia.ee/syndmus/tln39-vitamiinid-ja-mineraalained-praktika/
LOCATION:Tallinn\, Pirita tee 26c-33\, Tallinn\, Eesti
END:VEVENT
BEGIN:VEVENT
DTSTART;VALUE=DATE:20210117
DTEND;VALUE=DATE:20210118
DTSTAMP:20260422T232922
CREATED:20201020T123321Z
LAST-MODIFIED:20210107T151052Z
UID:6921-1610841600-1610927999@dev.manguteraapia.ee
SUMMARY:Tln37 Seedimise toetamine toitumisega. Pille Javed (zoom)
DESCRIPTION:
URL:https://dev.manguteraapia.ee/syndmus/tln37-seedimise-toetamine-toitumisega/
LOCATION:Tallinn\, Pirita tee 26c-33\, Tallinn\, Eesti
END:VEVENT
BEGIN:VEVENT
DTSTART;VALUE=DATE:20210116
DTEND;VALUE=DATE:20210117
DTSTAMP:20260422T232922
CREATED:20201020T132024Z
LAST-MODIFIED:20210107T151119Z
UID:6979-1610755200-1610841599@dev.manguteraapia.ee
SUMMARY:Tln39 Põhitoitained. Pille Javed (zoom)
DESCRIPTION:
URL:https://dev.manguteraapia.ee/syndmus/tln39-pohitoitained/
LOCATION:Tallinn\, Pirita tee 26c-33\, Tallinn\, Eesti
END:VEVENT
BEGIN:VEVENT
DTSTART;VALUE=DATE:20210116
DTEND;VALUE=DATE:20210117
DTSTAMP:20260422T232922
CREATED:20201020T123302Z
LAST-MODIFIED:20210107T151048Z
UID:6919-1610755200-1610841599@dev.manguteraapia.ee
SUMMARY:Tln37 Seedeelundkonna anatoomia-füsioloogia. Annely Soots (zoom)
DESCRIPTION:
URL:https://dev.manguteraapia.ee/syndmus/tln37-seedeelundkonna-anatoomia-fusioloogia/
LOCATION:Tallinn\, Pirita tee 26c-33\, Tallinn\, Eesti
END:VEVENT
BEGIN:VEVENT
DTSTART;VALUE=DATE:20210115
DTEND;VALUE=DATE:20210116
DTSTAMP:20260422T232922
CREATED:20201021T084023Z
LAST-MODIFIED:20210107T151034Z
UID:7022-1610668800-1610755199@dev.manguteraapia.ee
SUMMARY:Tartu13 TN igapäevatöö. Triin Muiste
DESCRIPTION:
URL:https://dev.manguteraapia.ee/syndmus/tartu13-tn-igapaevatoo/
LOCATION:Tartu\, Kalevi 108\, Tartu\, 50104\, Eesti
END:VEVENT
BEGIN:VEVENT
DTSTART;VALUE=DATE:20210114
DTEND;VALUE=DATE:20210115
DTSTAMP:20260422T232922
CREATED:20201021T083947Z
LAST-MODIFIED:20210107T151037Z
UID:7020-1610582400-1610668799@dev.manguteraapia.ee
SUMMARY:Tartu13 Toidutalumatus ja -allergia. Triin Muiste
DESCRIPTION:
URL:https://dev.manguteraapia.ee/syndmus/tartu13-toidutalumatus-ja-allergia/
LOCATION:Tartu\, Kalevi 108\, Tartu\, 50104\, Eesti
END:VEVENT
BEGIN:VEVENT
DTSTART;VALUE=DATE:20210113
DTEND;VALUE=DATE:20210114
DTSTAMP:20260422T232922
CREATED:20201020T132824Z
LAST-MODIFIED:20210107T151021Z
UID:7013-1610496000-1610582399@dev.manguteraapia.ee
SUMMARY:Tln40a III tsükkel (süsivesikud). Mari-Liis Väli (zoom)
DESCRIPTION:
URL:https://dev.manguteraapia.ee/syndmus/tln40-iii-tsukkel-susivesikud-2/
LOCATION:Tallinn\, Pirita tee 26c-33\, Tallinn\, Eesti
END:VEVENT
BEGIN:VEVENT
DTSTART;VALUE=DATE:20210113
DTEND;VALUE=DATE:20210114
DTSTAMP:20260422T232922
CREATED:20201020T113731Z
LAST-MODIFIED:20201020T113836Z
UID:6881-1610496000-1610582399@dev.manguteraapia.ee
SUMMARY:FTT Hormoonid.
DESCRIPTION:
URL:https://dev.manguteraapia.ee/syndmus/ftt-hormoonid/
LOCATION:Skype
END:VEVENT
BEGIN:VEVENT
DTSTART;VALUE=DATE:20210112
DTEND;VALUE=DATE:20210113
DTSTAMP:20260422T232922
CREATED:20201021T090606Z
LAST-MODIFIED:20201021T090606Z
UID:7062-1610409600-1610495999@dev.manguteraapia.ee
SUMMARY:Tartu15 I tsükkel. Triin Muiste
DESCRIPTION:
URL:https://dev.manguteraapia.ee/syndmus/tartu15-i-tsukkel-triin-muiste/
LOCATION:Tartu\, Kalevi 108\, Tartu\, 50104\, Eesti
END:VEVENT
BEGIN:VEVENT
DTSTART;VALUE=DATE:20210112
DTEND;VALUE=DATE:20210113
DTSTAMP:20260422T232922
CREATED:20201020T132800Z
LAST-MODIFIED:20210107T151016Z
UID:7011-1610409600-1610495999@dev.manguteraapia.ee
SUMMARY:Tln40a III tsükkel (süsivesikud). Pille Javed (zoom)
DESCRIPTION:
URL:https://dev.manguteraapia.ee/syndmus/tln40-iii-tsukkel-susivesikud/
LOCATION:Tallinn\, Pirita tee 26c-33\, Tallinn\, Eesti
END:VEVENT
BEGIN:VEVENT
DTSTART;VALUE=DATE:20210111
DTEND;VALUE=DATE:20210112
DTSTAMP:20260422T232922
CREATED:20201021T090534Z
LAST-MODIFIED:20210107T151012Z
UID:7060-1610323200-1610409599@dev.manguteraapia.ee
SUMMARY:Tartu15 I tsükkel. Annely Soots (zoom)
DESCRIPTION:
URL:https://dev.manguteraapia.ee/syndmus/tartu15-i-tsukkel-annely-soots/
LOCATION:Tartu\, Kalevi 108\, Tartu\, 50104\, Eesti
END:VEVENT
BEGIN:VEVENT
DTSTART;VALUE=DATE:20210110
DTEND;VALUE=DATE:20210111
DTSTAMP:20260422T232922
CREATED:20201029T111047Z
LAST-MODIFIED:20201029T111047Z
UID:7345-1610236800-1610323199@dev.manguteraapia.ee
SUMMARY:Mänguteraapia XXI tsükkel Legode ja lauamängude kasutamine mänguteraapias.
DESCRIPTION:
URL:https://dev.manguteraapia.ee/syndmus/manguteraapia-xxi-tsukkel-legode-ja-lauamangude-kasutamine-manguteraapias-4/
LOCATION:Tartu\, Kalevi 108\, Tartu\, 50104\, Eesti
END:VEVENT
BEGIN:VEVENT
DTSTART;VALUE=DATE:20210110
DTEND;VALUE=DATE:20210111
DTSTAMP:20260422T232922
CREATED:20201020T122658Z
LAST-MODIFIED:20210107T151006Z
UID:6912-1610236800-1610323199@dev.manguteraapia.ee
SUMMARY:Tln36 TN praktiline eksam. Annely Soots (zoom)
DESCRIPTION:
URL:https://dev.manguteraapia.ee/syndmus/tln35-tn-praktiline-eksam/
LOCATION:Tallinn\, Pirita tee 26c-33\, Tallinn\, Eesti
END:VEVENT
BEGIN:VEVENT
DTSTART;VALUE=DATE:20210109
DTEND;VALUE=DATE:20210110
DTSTAMP:20260422T232922
CREATED:20201029T111028Z
LAST-MODIFIED:20201029T111028Z
UID:7343-1610150400-1610236799@dev.manguteraapia.ee
SUMMARY:Mänguteraapia XXI tsükkel Legode ja lauamängude kasutamine mänguteraapias.
DESCRIPTION:
URL:https://dev.manguteraapia.ee/syndmus/manguteraapia-xxi-tsukkel-legode-ja-lauamangude-kasutamine-manguteraapias-3/
LOCATION:Tartu\, Kalevi 108\, Tartu\, 50104\, Eesti
END:VEVENT
BEGIN:VEVENT
DTSTART;VALUE=DATE:20210109
DTEND;VALUE=DATE:20210110
DTSTAMP:20260422T232922
CREATED:20201020T122630Z
LAST-MODIFIED:20210107T151002Z
UID:6909-1610150400-1610236799@dev.manguteraapia.ee
SUMMARY:Tln36 TN teooria ja praktika. Pille Javed (zoom)
DESCRIPTION:
URL:https://dev.manguteraapia.ee/syndmus/tln35-tn-teooria-ja-praktika/
LOCATION:Tallinn\, Pirita tee 26c-33\, Tallinn\, Eesti
END:VEVENT
BEGIN:VEVENT
DTSTART;VALUE=DATE:20210106
DTEND;VALUE=DATE:20210107
DTSTAMP:20260422T232922
CREATED:20210107T123732Z
LAST-MODIFIED:20210107T123732Z
UID:8209-1609891200-1609977599@dev.manguteraapia.ee
SUMMARY:Mänguteraapia supervisioon
DESCRIPTION:
URL:https://dev.manguteraapia.ee/syndmus/manguteraapia-supervisioon/
LOCATION:Zoom
END:VEVENT
BEGIN:VEVENT
DTSTART;VALUE=DATE:20201217
DTEND;VALUE=DATE:20201218
DTSTAMP:20260422T232922
CREATED:20201028T082122Z
LAST-MODIFIED:20201123T144403Z
UID:7333-1608163200-1608249599@dev.manguteraapia.ee
SUMMARY:Tln40b II tsükkel (rasvad). Annely Soots (zoom)
DESCRIPTION:
URL:https://dev.manguteraapia.ee/syndmus/tln40b-ii-tsukkel-rasvad-annely-soots/
LOCATION:Tallinn\, Pirita tee 26c-33\, Tallinn\, Eesti
END:VEVENT
BEGIN:VEVENT
DTSTART;VALUE=DATE:20201216
DTEND;VALUE=DATE:20201217
DTSTAMP:20260422T232922
CREATED:20201028T082145Z
LAST-MODIFIED:20201123T144359Z
UID:7335-1608076800-1608163199@dev.manguteraapia.ee
SUMMARY:Tln40b II tsükkel (rasvad). Triin Muiste (zoom)
DESCRIPTION:
URL:https://dev.manguteraapia.ee/syndmus/tln40b-ii-tsukkel-rasvad-triin-muiste/
LOCATION:Tallinn\, Pirita tee 26c-33\, Tallinn\, Eesti
END:VEVENT
BEGIN:VEVENT
DTSTART;VALUE=DATE:20201215
DTEND;VALUE=DATE:20201216
DTSTAMP:20260422T232922
CREATED:20200129T133110Z
LAST-MODIFIED:20200608T082643Z
UID:4039-1607990400-1608076799@dev.manguteraapia.ee
SUMMARY:Mänguteraapia IX tsükkel Terapeutilised suhtlemisoskused
DESCRIPTION:
URL:https://dev.manguteraapia.ee/syndmus/manguteraapia-xi-tsukkel-lugude-jutustamine-draama-juhtumid-2/
LOCATION:Tartu\, Kalevi 108\, Tartu\, 50104\, Eesti
END:VEVENT
BEGIN:VEVENT
DTSTART;VALUE=DATE:20201215
DTEND;VALUE=DATE:20201216
DTSTAMP:20260422T232922
CREATED:20200123T130003Z
LAST-MODIFIED:20201123T144407Z
UID:3855-1607990400-1608076799@dev.manguteraapia.ee
SUMMARY:Tln 38 Kliendijuhtumid. Pille Javed (zoom)
DESCRIPTION:
URL:https://dev.manguteraapia.ee/syndmus/tln-38-kliendijuhtumid/
LOCATION:Tallinn\, Pirita tee 26c-33\, Tallinn\, Eesti
END:VEVENT
BEGIN:VEVENT
DTSTART;VALUE=DATE:20201214
DTEND;VALUE=DATE:20201215
DTSTAMP:20260422T232922
CREATED:20200129T133057Z
LAST-MODIFIED:20200608T082637Z
UID:4037-1607904000-1607990399@dev.manguteraapia.ee
SUMMARY:Mänguteraapia IX tsükkel Terapeutilised suhtlemisoskused
DESCRIPTION:
URL:https://dev.manguteraapia.ee/syndmus/manguteraapia-xi-tsukkel-lugude-jutustamine-draama-juhtumid/
LOCATION:Tartu\, Kalevi 108\, Tartu\, 50104\, Eesti
END:VEVENT
BEGIN:VEVENT
DTSTART;VALUE=DATE:20201214
DTEND;VALUE=DATE:20201215
DTSTAMP:20260422T232922
CREATED:20200123T125945Z
LAST-MODIFIED:20201123T144413Z
UID:3853-1607904000-1607990399@dev.manguteraapia.ee
SUMMARY:Tln 38 Anatoomia-füsioloogia. Annely Soots (zoom)
DESCRIPTION:
URL:https://dev.manguteraapia.ee/syndmus/tln-38-anatoomia-fusioloogia/
LOCATION:Tallinn\, Pirita tee 26c-33\, Tallinn\, Eesti
END:VEVENT
END:VCALENDAR