BEGIN:VCALENDAR
VERSION:2.0
PRODID:-//Tervisekool - ECPv6.2.9//NONSGML v1.0//EN
CALSCALE:GREGORIAN
METHOD:PUBLISH
X-WR-CALNAME:Tervisekool
X-ORIGINAL-URL:https://dev.manguteraapia.ee
X-WR-CALDESC:Events for Tervisekool
REFRESH-INTERVAL;VALUE=DURATION:PT1H
X-Robots-Tag:noindex
X-PUBLISHED-TTL:PT1H
BEGIN:VTIMEZONE
TZID:Europe/Tallinn
BEGIN:DAYLIGHT
TZOFFSETFROM:+0200
TZOFFSETTO:+0300
TZNAME:EEST
DTSTART:20200329T010000
END:DAYLIGHT
BEGIN:STANDARD
TZOFFSETFROM:+0300
TZOFFSETTO:+0200
TZNAME:EET
DTSTART:20201025T010000
END:STANDARD
END:VTIMEZONE
BEGIN:VEVENT
DTSTART;VALUE=DATE:20201213
DTEND;VALUE=DATE:20201214
DTSTAMP:20260423T054919
CREATED:20200123T125214Z
LAST-MODIFIED:20201123T144342Z
UID:3831-1607817600-1607903999@dev.manguteraapia.ee
SUMMARY:Tln 37 Söömishäired. Pille Javed (zoom)
DESCRIPTION:
URL:https://dev.manguteraapia.ee/syndmus/tln-37-soomishaired/
LOCATION:Tallinn\, Pirita tee 26c-33\, Tallinn\, Eesti
END:VEVENT
BEGIN:VEVENT
DTSTART;VALUE=DATE:20201213
DTEND;VALUE=DATE:20201214
DTSTAMP:20260423T054919
CREATED:20200123T090629Z
LAST-MODIFIED:20201123T144338Z
UID:3716-1607817600-1607903999@dev.manguteraapia.ee
SUMMARY:Tln 36 Psüühikahäired. Annely Soots (zoom)
DESCRIPTION:
URL:https://dev.manguteraapia.ee/syndmus/tln-36-psuuhikahaired/
LOCATION:Tallinn\, Pirita tee 26c-33\, Tallinn\, Eesti
END:VEVENT
BEGIN:VEVENT
DTSTART;VALUE=DATE:20201212
DTEND;VALUE=DATE:20201213
DTSTAMP:20260423T054919
CREATED:20200123T125013Z
LAST-MODIFIED:20201020T123819Z
UID:3821-1607731200-1607817599@dev.manguteraapia.ee
SUMMARY:Tln 37 Anatoomia-füsioloogia. Annely Soots (zoom)
DESCRIPTION:
URL:https://dev.manguteraapia.ee/syndmus/tln-37-anatoomia-fusioloogia/
LOCATION:Tallinn\, Pirita tee 26c-33\, Tallinn\, Eesti
END:VEVENT
BEGIN:VEVENT
DTSTART;VALUE=DATE:20201212
DTEND;VALUE=DATE:20201213
DTSTAMP:20260423T054919
CREATED:20200123T090607Z
LAST-MODIFIED:20201123T144333Z
UID:3714-1607731200-1607817599@dev.manguteraapia.ee
SUMMARY:Tln 36 Taimetoitlus. Pille Javed (zoom)
DESCRIPTION:
URL:https://dev.manguteraapia.ee/syndmus/tln-36-taimetoitlus/
LOCATION:Tallinn\, Pirita tee 26c-33\, Tallinn\, Eesti
END:VEVENT
BEGIN:VEVENT
DTSTART;VALUE=DATE:20201210
DTEND;VALUE=DATE:20201211
DTSTAMP:20260423T054919
CREATED:20200706T110807Z
LAST-MODIFIED:20201020T121224Z
UID:5041-1607558400-1607644799@dev.manguteraapia.ee
SUMMARY:FTT Hormoonid.
DESCRIPTION:
URL:https://dev.manguteraapia.ee/syndmus/ftt-hormoonid-2/
LOCATION:Skype
END:VEVENT
BEGIN:VEVENT
DTSTART;VALUE=DATE:20201208
DTEND;VALUE=DATE:20201209
DTSTAMP:20260423T054919
CREATED:20200123T085526Z
LAST-MODIFIED:20201016T060805Z
UID:3682-1607385600-1607471999@dev.manguteraapia.ee
SUMMARY:Tartu 13 Toiduhügieen ja töötoad. Laivi Mesikäpp (zoom)
DESCRIPTION:
URL:https://dev.manguteraapia.ee/syndmus/tartu-13-toiduohutus-ja-tootoad/
LOCATION:Tartu\, Kalevi 108\, Tartu\, 50104\, Eesti
END:VEVENT
BEGIN:VEVENT
DTSTART;VALUE=DATE:20201207
DTEND;VALUE=DATE:20201208
DTSTAMP:20260423T054919
CREATED:20200123T085914Z
LAST-MODIFIED:20201123T144030Z
UID:3694-1607299200-1607385599@dev.manguteraapia.ee
SUMMARY:Tartu 13 Taimetoitlus. Pille Javed (zoom)
DESCRIPTION:
URL:https://dev.manguteraapia.ee/syndmus/tartu-13-taimetoitlus/
LOCATION:Tartu\, Kalevi 108\, Tartu\, 50104\, Eesti
END:VEVENT
BEGIN:VEVENT
DTSTART;VALUE=DATE:20201206
DTEND;VALUE=DATE:20201207
DTSTAMP:20260423T054919
CREATED:20200908T083439Z
LAST-MODIFIED:20201123T144327Z
UID:5777-1607212800-1607299199@dev.manguteraapia.ee
SUMMARY:Tln39b III tsükkel (süsivesikud). Triin Muiste (zoom)
DESCRIPTION:
URL:https://dev.manguteraapia.ee/syndmus/tln39b-iii-tsukkel-susivesikud-2/
LOCATION:Tallinn\, Pirita tee 26c-33\, Tallinn\, Eesti
END:VEVENT
BEGIN:VEVENT
DTSTART;VALUE=DATE:20201206
DTEND;VALUE=DATE:20201207
DTSTAMP:20260423T054919
CREATED:20200707T074300Z
LAST-MODIFIED:20201126T141230Z
UID:5089-1607212800-1607299199@dev.manguteraapia.ee
SUMMARY:TT4 Toiduallergia ja -talumatus\, dieedid. Pille Javed (skype)
DESCRIPTION:
URL:https://dev.manguteraapia.ee/syndmus/tt4-toiduallergia-ja-talumatus-dieedid-pille-javed-tln/
LOCATION:Tallinn\, Pirita tee 26c-33\, Tallinn\, Eesti
END:VEVENT
BEGIN:VEVENT
DTSTART;VALUE=DATE:20201206
DTEND;VALUE=DATE:20201207
DTSTAMP:20260423T054919
CREATED:20200129T125313Z
LAST-MODIFIED:20200603T090047Z
UID:4007-1607212800-1607299199@dev.manguteraapia.ee
SUMMARY:Mänguteraapia XX tsükkel Lugude jutustamine\, sümbolid ja mandalad.
DESCRIPTION:
URL:https://dev.manguteraapia.ee/syndmus/manguteraapia-xxii-tsukkel-maskid-kapiknukud-rollimangud-2/
LOCATION:Tartu\, Kalevi 108\, Tartu\, 50104\, Eesti
END:VEVENT
BEGIN:VEVENT
DTSTART;VALUE=DATE:20201206
DTEND;VALUE=DATE:20201207
DTSTAMP:20260423T054919
CREATED:20200123T093550Z
LAST-MODIFIED:20201126T141213Z
UID:3776-1607212800-1607299199@dev.manguteraapia.ee
SUMMARY:Tartu 14 Eaka toitumine. Annely Soots (skype)
DESCRIPTION:
URL:https://dev.manguteraapia.ee/syndmus/tartu-14-eaka-toitumine/
LOCATION:Tartu\, Kalevi 108\, Tartu\, 50104\, Eesti
END:VEVENT
BEGIN:VEVENT
DTSTART;VALUE=DATE:20201205
DTEND;VALUE=DATE:20201206
DTSTAMP:20260423T054919
CREATED:20200908T083423Z
LAST-MODIFIED:20201123T144322Z
UID:5775-1607126400-1607212799@dev.manguteraapia.ee
SUMMARY:Tln39b III tsükkel (süsivesikud). Pille Javed (zoom)
DESCRIPTION:
URL:https://dev.manguteraapia.ee/syndmus/tln39b-iii-tsukkel-susivesikud/
LOCATION:Tallinn\, Pirita tee 26c-33\, Tallinn\, Eesti
END:VEVENT
BEGIN:VEVENT
DTSTART;VALUE=DATE:20201205
DTEND;VALUE=DATE:20201206
DTSTAMP:20260423T054919
CREATED:20200707T074224Z
LAST-MODIFIED:20201126T141225Z
UID:5087-1607126400-1607212799@dev.manguteraapia.ee
SUMMARY:TT4 Seedeelundkonna haigused. Annely Soots (skype)
DESCRIPTION:
URL:https://dev.manguteraapia.ee/syndmus/tt4-seedeelundkonna-haigused-annely-soots-skype/
LOCATION:Zoom
END:VEVENT
BEGIN:VEVENT
DTSTART;VALUE=DATE:20201205
DTEND;VALUE=DATE:20201206
DTSTAMP:20260423T054919
CREATED:20200129T125258Z
LAST-MODIFIED:20200603T090039Z
UID:4005-1607126400-1607212799@dev.manguteraapia.ee
SUMMARY:Mänguteraapia XX tsükkel Lugude jutustamine\, sümbolid ja mandalad.
DESCRIPTION:
URL:https://dev.manguteraapia.ee/syndmus/manguteraapia-xxii-tsukkel-maskid-kapiknukud-rollimangud/
LOCATION:Tartu\, Kalevi 108\, Tartu\, 50104\, Eesti
END:VEVENT
BEGIN:VEVENT
DTSTART;VALUE=DATE:20201205
DTEND;VALUE=DATE:20201206
DTSTAMP:20260423T054919
CREATED:20200123T093520Z
LAST-MODIFIED:20201126T141220Z
UID:3774-1607126400-1607212799@dev.manguteraapia.ee
SUMMARY:Tartu 14 Lapse toitumine. Triin Muiste (skype)
DESCRIPTION:
URL:https://dev.manguteraapia.ee/syndmus/tartu-14-lapse-toitumine-%f0%9f%92%bb/
LOCATION:Tartu\, Kalevi 108\, Tartu\, 50104\, Eesti
END:VEVENT
BEGIN:VEVENT
DTSTART;VALUE=DATE:20201203
DTEND;VALUE=DATE:20201204
DTSTAMP:20260423T054919
CREATED:20200427T100718Z
LAST-MODIFIED:20201123T144147Z
UID:4496-1606953600-1607039999@dev.manguteraapia.ee
SUMMARY:Tln40a II tsükkel (rasvad). Triin Muiste (zoom)
DESCRIPTION:
URL:https://dev.manguteraapia.ee/syndmus/tln40-ii-tsukkel-rasvad-2/
LOCATION:Tallinn\, Pirita tee 26c-33\, Tallinn\, Eesti
END:VEVENT
BEGIN:VEVENT
DTSTART;VALUE=DATE:20201202
DTEND;VALUE=DATE:20201203
DTSTAMP:20260423T054919
CREATED:20200427T100705Z
LAST-MODIFIED:20201123T144142Z
UID:4494-1606867200-1606953599@dev.manguteraapia.ee
SUMMARY:Tln40a II tsükkel (rasvad). Annely Soots (zoom)
DESCRIPTION:
URL:https://dev.manguteraapia.ee/syndmus/tln40-ii-tsukkel-rasvad/
LOCATION:Tallinn\, Pirita tee 26c-33\, Tallinn\, Eesti
END:VEVENT
BEGIN:VEVENT
DTSTART;VALUE=DATE:20201130
DTEND;VALUE=DATE:20201201
DTSTAMP:20260423T054919
CREATED:20201021T120905Z
LAST-MODIFIED:20201029T124956Z
UID:7130-1606694400-1606780799@dev.manguteraapia.ee
SUMMARY:Täiendkoolitus:  “Mänguterapeutilised tehnikad ärevusega toimetulekuks ja enesehinnangu tõstmiseks” (läbi zoomi)
DESCRIPTION:See kursus on mõeldud kõigile\, kes soovivad õppida terapeutilisi oskusi ärevuse ja/või enesehinnanguprobleemidega laste aitamiseks. Kursusel tutvume probleemi sümptomite\, nende väljendumise ja väljendamisega läbi mitte-direktiivsete mänguteraapia meetodite. Vaatame võimalusi\, kuidas saame aidata lastel ise oma probleemidega toime tulla ja enesehinnangut tõsta nii\, et nad saaksid taas hakata tundma rõõmu laps olemisest. Kursus on peamiselt praktilise suunitlusega ning seetõttu ootame osalejatelt valmisolekut ka iseendaga tööd teha. NB! Õpitakse terapeutilisi\, mitte õpetamise/kiire lahenduse pakkumise tehnikaid. \nMillal: 30. november 2020 kell 10.00-17.00\, veebikoolitusena \nSihtgrupp: mänguterapeudid\, sotsiaaltöötajad\, õpetajad\, lapsehoidjad\, psühholoogid\, lapsevanemad jt lastest hoolivad ja lastega töötavad inimesed. \nKoolituse maht: 8 tundi \nKoolitaja: Mänguterapeut Emma Moat Inglismaalt. \nHind: registreerudes kuni 9. novembrini on kursuse hind 86 €\, registreerudes pärast 9. novembrit on kursuse hind 96 € (sisaldab käibemaksu). \nKursus on inglise keeles\, tõlkega eesti keelde. \nInfo ja registreerimine:\n+372 744 1340\nmerike@tervisekool.ee \nLisainfo SIIT
URL:https://dev.manguteraapia.ee/syndmus/taiendkoolitus-manguterapeutilised-tehnikad-arevusega-toimetulekuks-ja-enesehinnangu-tostmiseks-labi-veebi/
LOCATION:Zoom
END:VEVENT
BEGIN:VEVENT
DTSTART;VALUE=DATE:20201126
DTEND;VALUE=DATE:20201127
DTSTAMP:20260423T054919
CREATED:20201028T082039Z
LAST-MODIFIED:20201029T124333Z
UID:7331-1606348800-1606435199@dev.manguteraapia.ee
SUMMARY:Tln40b I tsükkel. Triin Muiste (zoom)
DESCRIPTION:
URL:https://dev.manguteraapia.ee/syndmus/tln40b-i-tsukkel-triin-muiste/
LOCATION:Tallinn\, Pirita tee 26c-33\, Tallinn\, Eesti
END:VEVENT
BEGIN:VEVENT
DTSTART;VALUE=DATE:20201125
DTEND;VALUE=DATE:20201126
DTSTAMP:20260423T054919
CREATED:20201028T082009Z
LAST-MODIFIED:20201029T124324Z
UID:7320-1606262400-1606348799@dev.manguteraapia.ee
SUMMARY:Tln40b I tsükkel. Annely Soots (zoom)
DESCRIPTION:
URL:https://dev.manguteraapia.ee/syndmus/tln40b-i-tsukkel-annely-soots/
LOCATION:Tallinn\, Pirita tee 26c-33\, Tallinn\, Eesti
END:VEVENT
BEGIN:VEVENT
DTSTART;VALUE=DATE:20201124
DTEND;VALUE=DATE:20201125
DTSTAMP:20260423T054919
CREATED:20200129T132945Z
LAST-MODIFIED:20200608T082610Z
UID:4035-1606176000-1606262399@dev.manguteraapia.ee
SUMMARY:Mänguteraapia VIII tsükkel Kaardid & projektiivtestid
DESCRIPTION:
URL:https://dev.manguteraapia.ee/syndmus/manguteraapia-x-tsukkel-terapeutilised-suhtlemisoskused-2/
LOCATION:Tartu\, Kalevi 108\, Tartu\, 50104\, Eesti
END:VEVENT
BEGIN:VEVENT
DTSTART;VALUE=DATE:20201123
DTEND;VALUE=DATE:20201124
DTSTAMP:20260423T054919
CREATED:20200129T132930Z
LAST-MODIFIED:20200608T082604Z
UID:4033-1606089600-1606175999@dev.manguteraapia.ee
SUMMARY:Mänguteraapia VIII tsükkel Kaardid & projektiivtestid
DESCRIPTION:
URL:https://dev.manguteraapia.ee/syndmus/manguteraapia-x-tsukkel-terapeutilised-suhtlemisoskused/
LOCATION:Tartu\, Kalevi 108\, Tartu\, 50104\, Eesti
END:VEVENT
BEGIN:VEVENT
DTSTART;VALUE=DATE:20201122
DTEND;VALUE=DATE:20201123
DTSTAMP:20260423T054919
CREATED:20200427T100536Z
LAST-MODIFIED:20201029T124313Z
UID:4488-1606003200-1606089599@dev.manguteraapia.ee
SUMMARY:Tln39a III tsükkel (süsivesikud). Triin Muiste (zoom)
DESCRIPTION:
URL:https://dev.manguteraapia.ee/syndmus/tln39-iii-tsukkel-susivesikud-2/
LOCATION:Tallinn\, Pirita tee 26c-33\, Tallinn\, Eesti
END:VEVENT
BEGIN:VEVENT
DTSTART;VALUE=DATE:20201121
DTEND;VALUE=DATE:20201122
DTSTAMP:20260423T054919
CREATED:20200427T100518Z
LAST-MODIFIED:20201029T124248Z
UID:4486-1605916800-1606003199@dev.manguteraapia.ee
SUMMARY:Tln39a III tsükkel (süsivesikud). Pille Javed (zoom)
DESCRIPTION:
URL:https://dev.manguteraapia.ee/syndmus/tln39-iii-tsukkel-susivesikud/
LOCATION:Tallinn\, Pirita tee 26c-33\, Tallinn\, Eesti
END:VEVENT
BEGIN:VEVENT
DTSTART;VALUE=DATE:20201119
DTEND;VALUE=DATE:20201120
DTSTAMP:20260423T054919
CREATED:20200706T110816Z
LAST-MODIFIED:20201020T121219Z
UID:5042-1605744000-1605830399@dev.manguteraapia.ee
SUMMARY:FTT Hormoonid.
DESCRIPTION:
URL:https://dev.manguteraapia.ee/syndmus/ftt-funktsionaalse-toitumise-teraapia/
LOCATION:Skype
END:VEVENT
BEGIN:VEVENT
DTSTART;VALUE=DATE:20201117
DTEND;VALUE=DATE:20201118
DTSTAMP:20260423T054919
CREATED:20200123T125917Z
LAST-MODIFIED:20201029T124239Z
UID:3851-1605571200-1605657599@dev.manguteraapia.ee
SUMMARY:Tln 38 Kaalunõustamise praktika. Mari-Liis Väli (zoom)
DESCRIPTION:
URL:https://dev.manguteraapia.ee/syndmus/tln-38-kaalunoustamise-praktika/
LOCATION:Tallinn\, Pirita tee 26c-33\, Tallinn\, Eesti
END:VEVENT
BEGIN:VEVENT
DTSTART;VALUE=DATE:20201116
DTEND;VALUE=DATE:20201117
DTSTAMP:20260423T054919
CREATED:20200123T125851Z
LAST-MODIFIED:20201029T124233Z
UID:3849-1605484800-1605571199@dev.manguteraapia.ee
SUMMARY:Tln 38 Nõustamise tehnikad. Annely Soots (zoom)
DESCRIPTION:
URL:https://dev.manguteraapia.ee/syndmus/tln-38-noustamise-tehnikad/
LOCATION:Tallinn\, Pirita tee 26c-33\, Tallinn\, Eesti
END:VEVENT
BEGIN:VEVENT
DTSTART;VALUE=DATE:20201115
DTEND;VALUE=DATE:20201116
DTSTAMP:20260423T054919
CREATED:20200707T074157Z
LAST-MODIFIED:20201029T124900Z
UID:5085-1605398400-1605484799@dev.manguteraapia.ee
SUMMARY:TT4 Aneemiad. Annely Soots (skype)
DESCRIPTION:
URL:https://dev.manguteraapia.ee/syndmus/tt4-aneemiad-annely-soots-tln/
LOCATION:Tallinn\, Pirita tee 26c-33\, Tallinn\, Eesti
END:VEVENT
BEGIN:VEVENT
DTSTART;VALUE=DATE:20201115
DTEND;VALUE=DATE:20201116
DTSTAMP:20260423T054919
CREATED:20200129T125211Z
LAST-MODIFIED:20200603T085946Z
UID:4003-1605398400-1605484799@dev.manguteraapia.ee
SUMMARY:Mänguteraapia XIX tsükkel Suhtlemine perekonnaga.
DESCRIPTION:
URL:https://dev.manguteraapia.ee/syndmus/manguteraapia-xxi-tsukkel-legod-ja-lauamangud-2/
LOCATION:Tartu\, Kalevi 108\, Tartu\, 50104\, Eesti
END:VEVENT
BEGIN:VEVENT
DTSTART;VALUE=DATE:20201115
DTEND;VALUE=DATE:20201116
DTSTAMP:20260423T054919
CREATED:20200123T090537Z
LAST-MODIFIED:20201026T164406Z
UID:3712-1605398400-1605484799@dev.manguteraapia.ee
SUMMARY:Tln 36 TN igapäevatöö. Pille Javed (zoom)
DESCRIPTION:
URL:https://dev.manguteraapia.ee/syndmus/tln-36-tn-igapaevatoo/
LOCATION:Tallinn\, Pirita tee 26c-33\, Tallinn\, Eesti
END:VEVENT
END:VCALENDAR