BEGIN:VCALENDAR
VERSION:2.0
PRODID:-//Tervisekool - ECPv6.2.9//NONSGML v1.0//EN
CALSCALE:GREGORIAN
METHOD:PUBLISH
X-WR-CALNAME:Tervisekool
X-ORIGINAL-URL:https://dev.manguteraapia.ee
X-WR-CALDESC:Events for Tervisekool
REFRESH-INTERVAL;VALUE=DURATION:PT1H
X-Robots-Tag:noindex
X-PUBLISHED-TTL:PT1H
BEGIN:VTIMEZONE
TZID:Europe/Tallinn
BEGIN:DAYLIGHT
TZOFFSETFROM:+0200
TZOFFSETTO:+0300
TZNAME:EEST
DTSTART:20200329T010000
END:DAYLIGHT
BEGIN:STANDARD
TZOFFSETFROM:+0300
TZOFFSETTO:+0200
TZNAME:EET
DTSTART:20201025T010000
END:STANDARD
END:VTIMEZONE
BEGIN:VEVENT
DTSTART;VALUE=DATE:20201114
DTEND;VALUE=DATE:20201115
DTSTAMP:20260423T112810
CREATED:20200707T074130Z
LAST-MODIFIED:20201029T124855Z
UID:5083-1605312000-1605398399@dev.manguteraapia.ee
SUMMARY:TT4 Neerupuudulikkus\, allergilised seisundid. Pille Javed (skype)
DESCRIPTION:
URL:https://dev.manguteraapia.ee/syndmus/tt4-neerupuudulikkus-allergilised-seisundid-pille-javed-tln/
LOCATION:Tallinn\, Pirita tee 26c-33\, Tallinn\, Eesti
END:VEVENT
BEGIN:VEVENT
DTSTART;VALUE=DATE:20201114
DTEND;VALUE=DATE:20201115
DTSTAMP:20260423T112810
CREATED:20200129T125150Z
LAST-MODIFIED:20200603T085950Z
UID:4001-1605312000-1605398399@dev.manguteraapia.ee
SUMMARY:Mänguteraapia XIX tsükkel Suhtlemine perekonnaga.
DESCRIPTION:
URL:https://dev.manguteraapia.ee/syndmus/manguteraapia-xxi-tsukkel-legod-ja-lauamangud/
LOCATION:Tartu\, Kalevi 108\, Tartu\, 50104\, Eesti
END:VEVENT
BEGIN:VEVENT
DTSTART;VALUE=DATE:20201114
DTEND;VALUE=DATE:20201115
DTSTAMP:20260423T112810
CREATED:20200123T090514Z
LAST-MODIFIED:20201026T164401Z
UID:3710-1605312000-1605398399@dev.manguteraapia.ee
SUMMARY:Tln 36 Toidutalumatus ja – allergia. Triin Muiste (zoom)
DESCRIPTION:
URL:https://dev.manguteraapia.ee/syndmus/tln-36-toidutalumatus-ja-allergia/
LOCATION:Tallinn\, Pirita tee 26c-33\, Tallinn\, Eesti
END:VEVENT
BEGIN:VEVENT
DTSTART;VALUE=DATE:20201110
DTEND;VALUE=DATE:20201111
DTSTAMP:20260423T112810
CREATED:20200123T085630Z
LAST-MODIFIED:20200904T064056Z
UID:3684-1604966400-1605052799@dev.manguteraapia.ee
SUMMARY:Tartu 13 Südamehaigused ja diabeet. Triin Muiste
DESCRIPTION:
URL:https://dev.manguteraapia.ee/syndmus/tartu-13-sudamehaigused-ja-diabeet/
LOCATION:Tartu\, Kalevi 108\, Tartu\, 50104\, Eesti
END:VEVENT
BEGIN:VEVENT
DTSTART;VALUE=DATE:20201109
DTEND;VALUE=DATE:20201110
DTSTAMP:20260423T112810
CREATED:20200123T085952Z
LAST-MODIFIED:20201015T070104Z
UID:3696-1604880000-1604966399@dev.manguteraapia.ee
SUMMARY:Tartu 13 Psüühikahäired. Annely Soots
DESCRIPTION:
URL:https://dev.manguteraapia.ee/syndmus/tartu-13-psuuhikahaired/
LOCATION:Tartu\, Kalevi 108\, Tartu\, 50104\, Eesti
END:VEVENT
BEGIN:VEVENT
DTSTART;VALUE=DATE:20201108
DTEND;VALUE=DATE:20201109
DTSTAMP:20260423T112810
CREATED:20200908T083242Z
LAST-MODIFIED:20201029T124206Z
UID:5773-1604793600-1604879999@dev.manguteraapia.ee
SUMMARY:Tln39b II tsükkel (rasvad). Mari-Liis Väli (zoom)
DESCRIPTION:
URL:https://dev.manguteraapia.ee/syndmus/tln39b-ii-tsukkel-rasvad-2/
LOCATION:Tallinn\, Pirita tee 26c-33\, Tallinn\, Eesti
END:VEVENT
BEGIN:VEVENT
DTSTART;VALUE=DATE:20201108
DTEND;VALUE=DATE:20201109
DTSTAMP:20260423T112810
CREATED:20200123T125112Z
LAST-MODIFIED:20201026T164315Z
UID:3827-1604793600-1604879999@dev.manguteraapia.ee
SUMMARY:Tln 37 Eaka toitumine. Pille Javed (zoom)
DESCRIPTION:
URL:https://dev.manguteraapia.ee/syndmus/tln-37-eaka-toitumine/
LOCATION:Tallinn\, Pirita tee 26c-33\, Tallinn\, Eesti
END:VEVENT
BEGIN:VEVENT
DTSTART;VALUE=DATE:20201108
DTEND;VALUE=DATE:20201109
DTSTAMP:20260423T112810
CREATED:20200123T093400Z
LAST-MODIFIED:20200911T113019Z
UID:3770-1604793600-1604879999@dev.manguteraapia.ee
SUMMARY:Tartu 14 Anatoomia-füsioloogia. Annely Soots
DESCRIPTION:
URL:https://dev.manguteraapia.ee/syndmus/tartu-14-anatoomia-fusioloogia/
LOCATION:Tartu\, Kalevi 108\, Tartu\, 50104\, Eesti
END:VEVENT
BEGIN:VEVENT
DTSTART;VALUE=DATE:20201107
DTEND;VALUE=DATE:20201108
DTSTAMP:20260423T112810
CREATED:20200908T083228Z
LAST-MODIFIED:20201029T124211Z
UID:5771-1604707200-1604793599@dev.manguteraapia.ee
SUMMARY:Tln39b II tsükkel (rasvad). Annely Soots (zoom)
DESCRIPTION:
URL:https://dev.manguteraapia.ee/syndmus/tln39b-ii-tsukkel-rasvad/
LOCATION:Tallinn\, Pirita tee 26c-33\, Tallinn\, Eesti
END:VEVENT
BEGIN:VEVENT
DTSTART;VALUE=DATE:20201107
DTEND;VALUE=DATE:20201108
DTSTAMP:20260423T112810
CREATED:20200123T125055Z
LAST-MODIFIED:20201026T164321Z
UID:3825-1604707200-1604793599@dev.manguteraapia.ee
SUMMARY:Tln 37 Raseda toitumine. Külli Holsting (zoom)
DESCRIPTION:
URL:https://dev.manguteraapia.ee/syndmus/tln-37-lapse-toitumine/
LOCATION:Tallinn\, Pirita tee 26c-33\, Tallinn\, Eesti
END:VEVENT
BEGIN:VEVENT
DTSTART;VALUE=DATE:20201107
DTEND;VALUE=DATE:20201108
DTSTAMP:20260423T112810
CREATED:20200123T093442Z
LAST-MODIFIED:20201030T124843Z
UID:3772-1604707200-1604793599@dev.manguteraapia.ee
SUMMARY:Tartu 14 Kliendijuhtumid. Pille Javed (skype)
DESCRIPTION:
URL:https://dev.manguteraapia.ee/syndmus/tartu-14-kliendijuhtumid/
LOCATION:Tartu\, Kalevi 108\, Tartu\, 50104\, Eesti
END:VEVENT
BEGIN:VEVENT
DTSTART;VALUE=DATE:20201105
DTEND;VALUE=DATE:20201106
DTSTAMP:20260423T112810
CREATED:20200427T100638Z
LAST-MODIFIED:20201029T124155Z
UID:4492-1604534400-1604620799@dev.manguteraapia.ee
SUMMARY:Tln40a I tsükkel. Triin Muiste (zoom)
DESCRIPTION:
URL:https://dev.manguteraapia.ee/syndmus/tln40-i-tsukkel-2/
LOCATION:Tallinn\, Pirita tee 26c-33\, Tallinn\, Eesti
END:VEVENT
BEGIN:VEVENT
DTSTART;VALUE=DATE:20201104
DTEND;VALUE=DATE:20201105
DTSTAMP:20260423T112810
CREATED:20200427T100624Z
LAST-MODIFIED:20201029T124150Z
UID:4490-1604448000-1604534399@dev.manguteraapia.ee
SUMMARY:Tln40a I tsükkel. Annely Soots (zoom)
DESCRIPTION:
URL:https://dev.manguteraapia.ee/syndmus/tln40-i-tsukkel/
LOCATION:Tallinn\, Pirita tee 26c-33\, Tallinn\, Eesti
END:VEVENT
BEGIN:VEVENT
DTSTART;VALUE=DATE:20201103
DTEND;VALUE=DATE:20201104
DTSTAMP:20260423T112810
CREATED:20200123T091943Z
LAST-MODIFIED:20201029T124416Z
UID:3734-1604361600-1604447999@dev.manguteraapia.ee
SUMMARY:Tln 35 TN praktiline eksam. Annely Soots (zoom)
DESCRIPTION:
URL:https://dev.manguteraapia.ee/syndmus/tln-35-tn-teooria-ja-praktika/
LOCATION:Tallinn\, Pirita tee 26c-33\, Tallinn\, Eesti
END:VEVENT
BEGIN:VEVENT
DTSTART;VALUE=DATE:20201102
DTEND;VALUE=DATE:20201103
DTSTAMP:20260423T112810
CREATED:20200123T091918Z
LAST-MODIFIED:20201029T124410Z
UID:3732-1604275200-1604361599@dev.manguteraapia.ee
SUMMARY:Tln 35 TN teooria ja praktika. Pille Javed (zoom)
DESCRIPTION:
URL:https://dev.manguteraapia.ee/syndmus/tln-35-tn-praktiline-eksam/
END:VEVENT
BEGIN:VEVENT
DTSTART;VALUE=DATE:20201101
DTEND;VALUE=DATE:20201102
DTSTAMP:20260423T112810
CREATED:20200427T100439Z
LAST-MODIFIED:20201029T123723Z
UID:4484-1604188800-1604275199@dev.manguteraapia.ee
SUMMARY:Tln39a II tsükkel (rasvad). Triin Muiste (zoom)
DESCRIPTION:
URL:https://dev.manguteraapia.ee/syndmus/tln39-ii-tsukkel-rasvad-2/
LOCATION:Tallinn\, Pirita tee 26c-33\, Tallinn\, Eesti
END:VEVENT
BEGIN:VEVENT
DTSTART;VALUE=DATE:20201031
DTEND;VALUE=DATE:20201101
DTSTAMP:20260423T112810
CREATED:20200427T100423Z
LAST-MODIFIED:20201029T123729Z
UID:4482-1604102400-1604188799@dev.manguteraapia.ee
SUMMARY:Tln39a II tsükkel (rasvad). Annely Soots (zoom)
DESCRIPTION:
URL:https://dev.manguteraapia.ee/syndmus/tln39-ii-tsukkel-rasvad/
LOCATION:Tallinn\, Pirita tee 26c-33\, Tallinn\, Eesti
END:VEVENT
BEGIN:VEVENT
DTSTART;TZID=Europe/Tallinn:20201027T080000
DTEND;TZID=Europe/Tallinn:20201027T170000
DTSTAMP:20260423T112810
CREATED:20200706T110042Z
LAST-MODIFIED:20201020T121221Z
UID:5015-1603785600-1603818000@dev.manguteraapia.ee
SUMMARY:FTT Tõenduspõhisus.
DESCRIPTION:
URL:https://dev.manguteraapia.ee/syndmus/ftt-seedimine/
LOCATION:Skype
END:VEVENT
BEGIN:VEVENT
DTSTART;VALUE=DATE:20201025
DTEND;VALUE=DATE:20201026
DTSTAMP:20260423T112810
CREATED:20200706T141804Z
LAST-MODIFIED:20200825T082921Z
UID:5080-1603584000-1603670399@dev.manguteraapia.ee
SUMMARY:TT4 Valkude biokeemia ning rakubioloogia. Eliisa Lukk (zoom)
DESCRIPTION:
URL:https://dev.manguteraapia.ee/syndmus/tt4-sudame-veresoonkonnahaigused-diabeet-ja-toitumine-pille-javed-tln/
LOCATION:Zoom
END:VEVENT
BEGIN:VEVENT
DTSTART;VALUE=DATE:20201024
DTEND;VALUE=DATE:20201025
DTSTAMP:20260423T112810
CREATED:20200706T141727Z
LAST-MODIFIED:20201022T083047Z
UID:5078-1603497600-1603583999@dev.manguteraapia.ee
SUMMARY:TT4 Bariaatriline kaalukirurgia ja toidulisandid. Pille Javed & Jaanika Tapver (zoom)
DESCRIPTION:
URL:https://dev.manguteraapia.ee/syndmus/tt4-bariaatriline-kaalukirurgia-ja-toidulisandid-pille-javed-tln/
LOCATION:Tallinn\, Pirita tee 26c-33\, Tallinn\, Eesti
END:VEVENT
BEGIN:VEVENT
DTSTART;TZID=Europe/Tallinn:20201023T090000
DTEND;TZID=Europe/Tallinn:20201023T180000
DTSTAMP:20260423T112810
CREATED:20200124T114254Z
LAST-MODIFIED:20201021T115734Z
UID:3897-1603443600-1603476000@dev.manguteraapia.ee
SUMMARY:Täiendkoolitus "Toidulisandid toitumisnõustaja ja -terapeudi töövahendina - Luud\, liigesed\, nahk\, juuksed\, küüned"
DESCRIPTION:Alustame sel aastal esimest korda toidulisandite jätkukoolituse nn pilootprojektiga\, kuulutades täpse koolituspäeva sisu ja õpetajad välja ükshaaval. Endistele ja praegustele Tervisekooli õpilastele kehtib soodushind (40 eurot õppepäeva eest koos käibemaksuga). \nTähelepanu! Koolitustesarj keskendub lähemalt justnimelt toidulisanditele\, sh nende erinevatele vormidele ja põhitoimetele. Ei keskenduta toitainetele üldiselt. \n6. õppepäev toimub 23. oktoobril \nTeema: Luud\, liigesed\, nahk\, juuksed\, küüned \nÕppepäeva kava:\n9.30 – 12.00 Luustik ja liigeskond\, nende homöostaasiks vajalikud toitained. Nahk\, juuksed\, küüned ja toidulisandid. Annely Soots & Katriin Kalling\n12.00 – 13.00 PAUS (60 min)\n13.00 – 14.00 Osteoporoosi ennetamine toidulisanditega\, liigeste terviseks olulised toidulisandid. Annely Soots.\n14.00 – 16.00 Konkreetsete toidulisandite näited ja kasutamine. Sirli Kivisaar \nKus: Zoomi teel algusega kell 9.30. \nKoolituspäeva lõpus väljastatakse tõend. Kui teil on aga soov saada koolituspäeva eest kompetentsi kinnitav tunnistus\, tuleb sooritada iga teema kohta arvestus (kontrolltöö). Sel juhul lisandub koolitushinnale 6.50€ (sisaldab käibemaksu). \nVAATA LISA
URL:https://dev.manguteraapia.ee/syndmus/toidulisandite-taiendkoolitus-luud-liigesed-nahk-juuksed-kuuned/
END:VEVENT
BEGIN:VEVENT
DTSTART;VALUE=DATE:20201022
DTEND;VALUE=DATE:20201023
DTSTAMP:20260423T112810
CREATED:20200123T125736Z
LAST-MODIFIED:20200922T084841Z
UID:3843-1603324800-1603411199@dev.manguteraapia.ee
SUMMARY:Tln 38 Menüü analüüs ja koostamine. Hiie Järva (zoom)
DESCRIPTION:
URL:https://dev.manguteraapia.ee/syndmus/tln-38-menuu-analuus-ja-koostamine-hiie-jarva-%f0%9f%92%bb/
LOCATION:Tallinn\, Pirita tee 26c-33\, Tallinn\, Eesti
END:VEVENT
BEGIN:VEVENT
DTSTART;VALUE=DATE:20201021
DTEND;VALUE=DATE:20201022
DTSTAMP:20260423T112810
CREATED:20200123T125755Z
LAST-MODIFIED:20200706T105914Z
UID:3845-1603238400-1603324799@dev.manguteraapia.ee
SUMMARY:Tln 38 TN alused. Pille Javed
DESCRIPTION:
URL:https://dev.manguteraapia.ee/syndmus/tln-38-tn-alused/
LOCATION:Tallinn\, Pirita tee 26c-33\, Tallinn\, Eesti
END:VEVENT
BEGIN:VEVENT
DTSTART;VALUE=DATE:20201020
DTEND;VALUE=DATE:20201021
DTSTAMP:20260423T112810
CREATED:20200129T132827Z
LAST-MODIFIED:20200608T082530Z
UID:4031-1603152000-1603238399@dev.manguteraapia.ee
SUMMARY:Mänguteraapia VII tsükkel Laps ja haigus
DESCRIPTION:
URL:https://dev.manguteraapia.ee/syndmus/manguteraapia-ix-tsukkel-kaardid-projektiivtestid-2/
LOCATION:Tartu\, Kalevi 108\, Tartu\, 50104\, Eesti
END:VEVENT
BEGIN:VEVENT
DTSTART;VALUE=DATE:20201019
DTEND;VALUE=DATE:20201020
DTSTAMP:20260423T112810
CREATED:20200129T132812Z
LAST-MODIFIED:20200608T082541Z
UID:4029-1603065600-1603151999@dev.manguteraapia.ee
SUMMARY:Mänguteraapia VII tsükkel Laps ja haigus
DESCRIPTION:
URL:https://dev.manguteraapia.ee/syndmus/manguteraapia-ix-tsukkel-kaardid-projektiivtestid/
LOCATION:Tartu\, Kalevi 108\, Tartu\, 50104\, Eesti
END:VEVENT
BEGIN:VEVENT
DTSTART;VALUE=DATE:20201018
DTEND;VALUE=DATE:20201019
DTSTAMP:20260423T112810
CREATED:20200908T083143Z
LAST-MODIFIED:20200911T112838Z
UID:5769-1602979200-1603065599@dev.manguteraapia.ee
SUMMARY:Tln39b I tsükkel. Triin Muiste
DESCRIPTION:
URL:https://dev.manguteraapia.ee/syndmus/tln39b-i-tsukkel-2/
LOCATION:Tallinn\, Pirita tee 26c-33\, Tallinn\, Eesti
END:VEVENT
BEGIN:VEVENT
DTSTART;VALUE=DATE:20201018
DTEND;VALUE=DATE:20201019
DTSTAMP:20260423T112810
CREATED:20200129T125121Z
LAST-MODIFIED:20200603T083419Z
UID:3999-1602979200-1603065599@dev.manguteraapia.ee
SUMMARY:Mänguteraapia XVIII tsükkel Autism
DESCRIPTION:
URL:https://dev.manguteraapia.ee/syndmus/manguteraapia-xx-tsukkel-autism-2/
LOCATION:Tartu\, Kalevi 108\, Tartu\, 50104\, Eesti
END:VEVENT
BEGIN:VEVENT
DTSTART;VALUE=DATE:20201018
DTEND;VALUE=DATE:20201019
DTSTAMP:20260423T112810
CREATED:20200123T124858Z
LAST-MODIFIED:20201013T102101Z
UID:3819-1602979200-1603065599@dev.manguteraapia.ee
SUMMARY:Tln 37 Kaalunõustamise praktika. Mari-Liis Väli (zoom)
DESCRIPTION:
URL:https://dev.manguteraapia.ee/syndmus/tln-37-kaalunoustamise-praktika/
LOCATION:Tallinn\, Pirita tee 26c-33\, Tallinn\, Eesti
END:VEVENT
BEGIN:VEVENT
DTSTART;VALUE=DATE:20201017
DTEND;VALUE=DATE:20201018
DTSTAMP:20260423T112810
CREATED:20200908T083126Z
LAST-MODIFIED:20200911T112830Z
UID:5767-1602892800-1602979199@dev.manguteraapia.ee
SUMMARY:Tln39b I tsükkel. Annely Soots
DESCRIPTION:
URL:https://dev.manguteraapia.ee/syndmus/tln39b-i-tsukkel/
LOCATION:Tallinn\, Pirita tee 26c-33\, Tallinn\, Eesti
END:VEVENT
BEGIN:VEVENT
DTSTART;VALUE=DATE:20201017
DTEND;VALUE=DATE:20201018
DTSTAMP:20260423T112810
CREATED:20200129T125104Z
LAST-MODIFIED:20200603T083417Z
UID:3997-1602892800-1602979199@dev.manguteraapia.ee
SUMMARY:Mänguteraapia XVIII tsükkel Autism
DESCRIPTION:
URL:https://dev.manguteraapia.ee/syndmus/manguteraapia-xx-tsukkel-autism/
LOCATION:Tartu\, Kalevi 108\, Tartu\, 50104\, Eesti
END:VEVENT
END:VCALENDAR