BEGIN:VCALENDAR
VERSION:2.0
PRODID:-//Tervisekool - ECPv6.2.9//NONSGML v1.0//EN
CALSCALE:GREGORIAN
METHOD:PUBLISH
X-WR-CALNAME:Tervisekool
X-ORIGINAL-URL:https://dev.manguteraapia.ee
X-WR-CALDESC:Events for Tervisekool
REFRESH-INTERVAL;VALUE=DURATION:PT1H
X-Robots-Tag:noindex
X-PUBLISHED-TTL:PT1H
BEGIN:VTIMEZONE
TZID:Europe/Tallinn
BEGIN:DAYLIGHT
TZOFFSETFROM:+0200
TZOFFSETTO:+0300
TZNAME:EEST
DTSTART:20200329T010000
END:DAYLIGHT
BEGIN:STANDARD
TZOFFSETFROM:+0300
TZOFFSETTO:+0200
TZNAME:EET
DTSTART:20201025T010000
END:STANDARD
END:VTIMEZONE
BEGIN:VEVENT
DTSTART;VALUE=DATE:20201017
DTEND;VALUE=DATE:20201018
DTSTAMP:20260423T171227
CREATED:20200123T125145Z
LAST-MODIFIED:20200929T070915Z
UID:3829-1602892800-1602979199@dev.manguteraapia.ee
SUMMARY:Tln 37 Lapse toitumine. Triin Muiste (zoom)
DESCRIPTION:
URL:https://dev.manguteraapia.ee/syndmus/tln-37-raseda-toitumine-kulli-holsting/
LOCATION:Tallinn\, Pirita tee 26c-33\, Tallinn\, Eesti
END:VEVENT
BEGIN:VEVENT
DTSTART;VALUE=DATE:20201013
DTEND;VALUE=DATE:20201014
DTSTAMP:20260423T171228
CREATED:20200123T085723Z
LAST-MODIFIED:20201015T070050Z
UID:3686-1602547200-1602633599@dev.manguteraapia.ee
SUMMARY:Tartu 13 Probleemne klient. Annely Soots
DESCRIPTION:
URL:https://dev.manguteraapia.ee/syndmus/tartu13-probleemne-klient/
LOCATION:Tartu\, Kalevi 108\, Tartu\, 50104\, Eesti
END:VEVENT
BEGIN:VEVENT
DTSTART;VALUE=DATE:20201012
DTEND;VALUE=DATE:20201013
DTSTAMP:20260423T171228
CREATED:20200123T085451Z
LAST-MODIFIED:20200921T072200Z
UID:3680-1602460800-1602547199@dev.manguteraapia.ee
SUMMARY:Tartu 13 Vaimne tervis. Triin Muiste
DESCRIPTION:
URL:https://dev.manguteraapia.ee/syndmus/tartu-13-vaimne-tervis/
LOCATION:Tartu\, Kalevi 108\, Tartu\, 50104\, Eesti
END:VEVENT
BEGIN:VEVENT
DTSTART;VALUE=DATE:20201011
DTEND;VALUE=DATE:20201012
DTSTAMP:20260423T171228
CREATED:20200123T090450Z
LAST-MODIFIED:20200921T072052Z
UID:3708-1602374400-1602460799@dev.manguteraapia.ee
SUMMARY:Tln 36 Liikumine. Eliisa Lukk (zoom)
DESCRIPTION:
URL:https://dev.manguteraapia.ee/syndmus/tln-36-vaimne-tervis/
LOCATION:Tallinn\, Pirita tee 26c-33\, Tallinn\, Eesti
END:VEVENT
BEGIN:VEVENT
DTSTART;VALUE=DATE:20201010
DTEND;VALUE=DATE:20201011
DTSTAMP:20260423T171229
CREATED:20200123T090428Z
LAST-MODIFIED:20200921T072032Z
UID:3706-1602288000-1602374399@dev.manguteraapia.ee
SUMMARY:Tln 36 Probleemne klient. Annely Soots (zoom)
DESCRIPTION:
URL:https://dev.manguteraapia.ee/syndmus/tln-36-sudamehaigused-ja-diabeet/
LOCATION:Tallinn\, Pirita tee 26c-33\, Tallinn\, Eesti
END:VEVENT
BEGIN:VEVENT
DTSTART;VALUE=DATE:20201006
DTEND;VALUE=DATE:20201007
DTSTAMP:20260423T171229
CREATED:20200123T091855Z
LAST-MODIFIED:20200921T072106Z
UID:3730-1601942400-1602028799@dev.manguteraapia.ee
SUMMARY:Tln 35 Taimetoitlus. Pille Javed (zoom+kohal)
DESCRIPTION:
URL:https://dev.manguteraapia.ee/syndmus/tln-35-taimetoitlus/
LOCATION:Tallinn\, Pirita tee 26c-33\, Tallinn\, Eesti
END:VEVENT
BEGIN:VEVENT
DTSTART;VALUE=DATE:20201005
DTEND;VALUE=DATE:20201006
DTSTAMP:20260423T171229
CREATED:20200123T091834Z
LAST-MODIFIED:20200921T072118Z
UID:3728-1601856000-1601942399@dev.manguteraapia.ee
SUMMARY:Tln 35 Psüühikahäired. Annely Soots (zoom)
DESCRIPTION:
URL:https://dev.manguteraapia.ee/syndmus/tln-35-psuuhikahaired/
LOCATION:Tallinn\, Pirita tee 26c-33\, Tallinn\, Eesti
END:VEVENT
BEGIN:VEVENT
DTSTART;VALUE=DATE:20201004
DTEND;VALUE=DATE:20201005
DTSTAMP:20260423T171229
CREATED:20200123T093331Z
LAST-MODIFIED:20200706T105653Z
UID:3768-1601769600-1601855999@dev.manguteraapia.ee
SUMMARY:Tartu 14 Kaalunõustamise praktika. Triin Muiste
DESCRIPTION:
URL:https://dev.manguteraapia.ee/syndmus/tartu-14-kaalunoustamise-praktika/
LOCATION:Tartu\, Kalevi 108\, Tartu\, 50104\, Eesti
END:VEVENT
BEGIN:VEVENT
DTSTART;VALUE=DATE:20201003
DTEND;VALUE=DATE:20201004
DTSTAMP:20260423T171229
CREATED:20200123T093240Z
LAST-MODIFIED:20200706T105647Z
UID:3766-1601683200-1601769599@dev.manguteraapia.ee
SUMMARY:Tartu 14 Tervislik kehakaal. Annely Soots
DESCRIPTION:
URL:https://dev.manguteraapia.ee/syndmus/tartu-14-tervislik-kehakaal/
LOCATION:Tartu\, Kalevi 108\, Tartu\, 50104\, Eesti
END:VEVENT
BEGIN:VEVENT
DTSTART;VALUE=DATE:20200930
DTEND;VALUE=DATE:20201001
DTSTAMP:20260423T171229
CREATED:20200819T084119Z
LAST-MODIFIED:20200819T084119Z
UID:5315-1601424000-1601510399@dev.manguteraapia.ee
SUMMARY:Mängulised tehnikad lastele tervisliku toitumise õpetamiseks
DESCRIPTION:Millal: 30. september 2020 kell 10.00-17.00\, Tartus Kalevi 108 \nKoolitaja: Mängu- ja funktsionaalse toitumise terapeut Sirli Kivisaar. \nHind: 75 euri (Tervisekooli õpilastele soodushind 60€ \n\n\nTöötad lastega ning vajad ideid\, kuidas tervislik toitumine mänguliselt lasteni viia? Siis on see koolitus just sinu jaoks! Kursusel räägime laste mängu olulisusest lastega töös ja õpime seda\, kuidas saab läbi erinevate mänguliste lähenemiste ja tehnikate lastele tervislikku toitumist õpetada.  Samuti saad teada\, kas ütlus “Toiduga ei mängita!” vastab ikka tõele? Koolitus on praktiline\, seega ole valmis õpitut ise läbi tegema!
URL:https://dev.manguteraapia.ee/syndmus/mangulised-tehnikad-lastele-tervisliku-toitumise-opetamiseks/
LOCATION:Tartu\, Kalevi 108\, Tartu\, 50104\, Eesti
END:VEVENT
BEGIN:VEVENT
DTSTART;VALUE=DATE:20200929
DTEND;VALUE=DATE:20200930
DTSTAMP:20260423T171229
CREATED:20200123T125814Z
LAST-MODIFIED:20200928T071714Z
UID:3847-1601337600-1601423999@dev.manguteraapia.ee
SUMMARY:Tln 38 Tervislik kehakaal. Annely Soots (zoom)
DESCRIPTION:
URL:https://dev.manguteraapia.ee/syndmus/tln-38-tervislik-kehakaal/
LOCATION:Tallinn\, Pirita tee 26c-33\, Tallinn\, Eesti
END:VEVENT
BEGIN:VEVENT
DTSTART;VALUE=DATE:20200928
DTEND;VALUE=DATE:20200929
DTSTAMP:20260423T171229
CREATED:20200123T125657Z
LAST-MODIFIED:20200706T105602Z
UID:3841-1601251200-1601337599@dev.manguteraapia.ee
SUMMARY:Tln 38 Põhitoitained. Pille Javed
DESCRIPTION:
URL:https://dev.manguteraapia.ee/syndmus/tln-38-mineraalained/
LOCATION:Tallinn\, Pirita tee 26c-33\, Tallinn\, Eesti
END:VEVENT
BEGIN:VEVENT
DTSTART;VALUE=DATE:20200927
DTEND;VALUE=DATE:20200928
DTSTAMP:20260423T171229
CREATED:20200706T122726Z
LAST-MODIFIED:20200922T071118Z
UID:5074-1601164800-1601251199@dev.manguteraapia.ee
SUMMARY:TT4 Süsivesikute ja rasvade biokeemia. Annely Soots (zoom)
DESCRIPTION:
URL:https://dev.manguteraapia.ee/syndmus/tt4-susivesikute-ja-rasvade-biokeemia-annely-soots-skype/
LOCATION:Zoom
END:VEVENT
BEGIN:VEVENT
DTSTART;VALUE=DATE:20200927
DTEND;VALUE=DATE:20200928
DTSTAMP:20260423T171229
CREATED:20200123T125032Z
LAST-MODIFIED:20200923T065933Z
UID:3823-1601164800-1601251199@dev.manguteraapia.ee
SUMMARY:Tln 37 Kliendijuhtumid. Pille Javed (zoom)
DESCRIPTION:
URL:https://dev.manguteraapia.ee/syndmus/tln-37-kliendijuhtumid/
LOCATION:Tallinn\, Pirita tee 26c-33\, Tallinn\, Eesti
END:VEVENT
BEGIN:VEVENT
DTSTART;VALUE=DATE:20200926
DTEND;VALUE=DATE:20200927
DTSTAMP:20260423T171229
CREATED:20200706T122800Z
LAST-MODIFIED:20200922T071128Z
UID:5076-1601078400-1601164799@dev.manguteraapia.ee
SUMMARY:TT4 Südame-veresoonkonnahaigused\, diabeet ja toitumine. Pille Javed (TLN+zoom)
DESCRIPTION:
URL:https://dev.manguteraapia.ee/syndmus/tt4-podagra-osteoporoos-vahk-pille-javed-tln/
LOCATION:Tallinn\, Pirita tee 26c-33\, Tallinn\, Eesti
END:VEVENT
BEGIN:VEVENT
DTSTART;VALUE=DATE:20200926
DTEND;VALUE=DATE:20200927
DTSTAMP:20260423T171229
CREATED:20200123T124820Z
LAST-MODIFIED:20200923T065928Z
UID:3817-1601078400-1601164799@dev.manguteraapia.ee
SUMMARY:Tln 37 Tervislik kehakaal. Triin Muiste (zoom)
DESCRIPTION:
URL:https://dev.manguteraapia.ee/syndmus/tln-37-tervislik-kehakaal/
LOCATION:Tallinn\, Pirita tee 26c-33\, Tallinn\, Eesti
END:VEVENT
BEGIN:VEVENT
DTSTART;VALUE=DATE:20200924
DTEND;VALUE=DATE:20200925
DTSTAMP:20260423T171229
CREATED:20200123T085408Z
LAST-MODIFIED:20200123T085812Z
UID:3678-1600905600-1600991999@dev.manguteraapia.ee
SUMMARY:Tartu 13 Esmaabi. Reet Saia
DESCRIPTION:
URL:https://dev.manguteraapia.ee/syndmus/tartu-13-esmaabi-reet-saia/
LOCATION:Tartu\, Kalevi 108\, Tartu\, 50104\, Eesti
END:VEVENT
BEGIN:VEVENT
DTSTART;VALUE=DATE:20200923
DTEND;VALUE=DATE:20200924
DTSTAMP:20260423T171229
CREATED:20200123T085123Z
LAST-MODIFIED:20200921T072223Z
UID:3676-1600819200-1600905599@dev.manguteraapia.ee
SUMMARY:Tartu 13 Liikumine. Eliisa Lukk
DESCRIPTION:
URL:https://dev.manguteraapia.ee/syndmus/tartu-13-liikumine-%f0%9f%92%bb/
LOCATION:Tartu\, Kalevi 108\, Tartu\, 50104\, Eesti
END:VEVENT
BEGIN:VEVENT
DTSTART;VALUE=DATE:20200922
DTEND;VALUE=DATE:20200923
DTSTAMP:20260423T171229
CREATED:20200129T125029Z
LAST-MODIFIED:20200603T085845Z
UID:3995-1600732800-1600819199@dev.manguteraapia.ee
SUMMARY:Mänguteraapia XVII tsükkel Muusikateraapia
DESCRIPTION:
URL:https://dev.manguteraapia.ee/syndmus/manguteraapia-xix-tsukkel-muusikateraapia-2/
LOCATION:Tartu\, Kalevi 108\, Tartu\, 50104\, Eesti
END:VEVENT
BEGIN:VEVENT
DTSTART;VALUE=DATE:20200921
DTEND;VALUE=DATE:20200922
DTSTAMP:20260423T171229
CREATED:20200129T125015Z
LAST-MODIFIED:20200603T085842Z
UID:3993-1600646400-1600732799@dev.manguteraapia.ee
SUMMARY:Mänguteraapia XVII tsükkel Muusikateraapia
DESCRIPTION:
URL:https://dev.manguteraapia.ee/syndmus/manguteraapia-xix-tsukkel-muusikateraapia/
LOCATION:Tartu\, Kalevi 108\, Tartu\, 50104\, Eesti
END:VEVENT
BEGIN:VEVENT
DTSTART;VALUE=DATE:20200920
DTEND;VALUE=DATE:20200921
DTSTAMP:20260423T171229
CREATED:20200427T100349Z
LAST-MODIFIED:20200908T080837Z
UID:4480-1600560000-1600646399@dev.manguteraapia.ee
SUMMARY:Tln39a I tsükkel. Triin Muiste
DESCRIPTION:
URL:https://dev.manguteraapia.ee/syndmus/tln39-i-tsukkel/
LOCATION:Tallinn\, Pirita tee 26c-33\, Tallinn\, Eesti
END:VEVENT
BEGIN:VEVENT
DTSTART;VALUE=DATE:20200920
DTEND;VALUE=DATE:20200921
DTSTAMP:20260423T171229
CREATED:20200123T093114Z
LAST-MODIFIED:20200706T104800Z
UID:3762-1600560000-1600646399@dev.manguteraapia.ee
SUMMARY:Tartu 14 TN tehnikad. Annely Soots
DESCRIPTION:
URL:https://dev.manguteraapia.ee/syndmus/tartu-14-tn-tehnikad/
LOCATION:Tartu\, Kalevi 108\, Tartu\, 50104\, Eesti
END:VEVENT
BEGIN:VEVENT
DTSTART;VALUE=DATE:20200919
DTEND;VALUE=DATE:20200920
DTSTAMP:20260423T171230
CREATED:20200427T100332Z
LAST-MODIFIED:20200908T080828Z
UID:4478-1600473600-1600559999@dev.manguteraapia.ee
SUMMARY:Tln39a I tsükkel. Annely Soots
DESCRIPTION:
URL:https://dev.manguteraapia.ee/syndmus/tln39-i-tsukkel-annely-soots/
LOCATION:Tallinn\, Pirita tee 26c-33\, Tallinn\, Eesti
END:VEVENT
BEGIN:VEVENT
DTSTART;VALUE=DATE:20200919
DTEND;VALUE=DATE:20200920
DTSTAMP:20260423T171230
CREATED:20200123T093056Z
LAST-MODIFIED:20200706T104754Z
UID:3760-1600473600-1600559999@dev.manguteraapia.ee
SUMMARY:Tartu 14 TN alused. Triin Muiste
DESCRIPTION:
URL:https://dev.manguteraapia.ee/syndmus/tartu-14-tn-alused/
LOCATION:Tartu\, Kalevi 108\, Tartu\, 50104\, Eesti
END:VEVENT
BEGIN:VEVENT
DTSTART;VALUE=DATE:20200917
DTEND;VALUE=DATE:20200918
DTSTAMP:20260423T171230
CREATED:20200706T104708Z
LAST-MODIFIED:20200831T065549Z
UID:4987-1600300800-1600387199@dev.manguteraapia.ee
SUMMARY:FTT Liigesehaiguste praktika.
DESCRIPTION:
URL:https://dev.manguteraapia.ee/syndmus/ftt-detox/
LOCATION:Skype
END:VEVENT
BEGIN:VEVENT
DTSTART;VALUE=DATE:20200916
DTEND;VALUE=DATE:20200917
DTSTAMP:20260423T171230
CREATED:20200124T114131Z
LAST-MODIFIED:20200819T084050Z
UID:3895-1600214400-1600300799@dev.manguteraapia.ee
SUMMARY:Täiendkoolitus "Toidulisandid toitumisnõustaja ja -terapeudi töövahendina - Närvisüsteem ja aju"
DESCRIPTION:Alustame sel aastal esimest korda toidulisandite jätkukoolituse nn pilootprojektiga\, kuulutades täpse koolituspäeva sisu ja õpetajad välja ükshaaval. Endistele ja praegustele Tervisekooli õpilastele kehtib soodushind (40 eurot õppepäeva eest koos käibemaksuga). \nTähelepanu! Koolitustesarj keskendub lähemalt justnimelt toidulisanditele\, sh nende erinevatele vormidele ja põhitoimetele. Ei keskenduta toitainetele üldiselt. \n5. õppepäev toimub 16. septembril \nTeema: Närvisüsteem ja aju – NS ja aju funktsioneerimine\, närvivahendusained\, toitained nende funktsioneerimise toetamiseks. Tarbimissoovitused ja näidustused\, ohutud annused\, kõrvaltoimed ja vastunäidustused. \nKus: Skype teel algusega kell 9.30\, aga õpilased võivad tulla kohale nii Tartu kui Tallinna koolitusruumidesse (õpetajaid on mõlemast linnast). \nMaht: 8 tundi. \nKoolituspäeva lõpus väljastatakse tõend. Kui teil on aga soov saada koolituspäeva eest kompetentsi kinnitav tunnistus\, tuleb sooritada iga teema kohta arvestus (kontrolltöö). Sel juhul lisandub koolitushinnale 6.50€ (sisaldab käibemaksu). \nVAATA LISA
URL:https://dev.manguteraapia.ee/syndmus/toidulisandite-taiendkoolitus-narvisusteem-ja-aju/
LOCATION:Skype
END:VEVENT
BEGIN:VEVENT
DTSTART;VALUE=DATE:20200915
DTEND;VALUE=DATE:20200916
DTSTAMP:20260423T171230
CREATED:20200123T091620Z
LAST-MODIFIED:20200706T104620Z
UID:3726-1600128000-1600214399@dev.manguteraapia.ee
SUMMARY:Tln 35 Toiduallergia ja -talumatus. Triin Muiste
DESCRIPTION:
URL:https://dev.manguteraapia.ee/syndmus/tln-35-toiduallergia-ja-talumatus/
LOCATION:Tallinn\, Pirita tee 26c-33\, Tallinn\, Eesti
END:VEVENT
BEGIN:VEVENT
DTSTART;VALUE=DATE:20200914
DTEND;VALUE=DATE:20200915
DTSTAMP:20260423T171230
CREATED:20200123T091558Z
LAST-MODIFIED:20200706T104614Z
UID:3724-1600041600-1600127999@dev.manguteraapia.ee
SUMMARY:Tln 35 Liikumine. Eliisa Lukk (läbi veebi)
DESCRIPTION:
URL:https://dev.manguteraapia.ee/syndmus/tln-35-probleemne-klient/
LOCATION:Tallinn\, Pirita tee 26c-33\, Tallinn\, Eesti
END:VEVENT
BEGIN:VEVENT
DTSTART;VALUE=DATE:20200913
DTEND;VALUE=DATE:20200914
DTSTAMP:20260423T171230
CREATED:20200129T130243Z
LAST-MODIFIED:20200608T082505Z
UID:4027-1599955200-1600041599@dev.manguteraapia.ee
SUMMARY:Mänguteraapia VI tsükkel Viha
DESCRIPTION:
URL:https://dev.manguteraapia.ee/syndmus/manguteraapia-viii-tsukkel-laps-ja-haigus-2/
LOCATION:Tartu\, Kalevi 108\, Tartu\, 50104\, Eesti
END:VEVENT
BEGIN:VEVENT
DTSTART;VALUE=DATE:20200913
DTEND;VALUE=DATE:20200914
DTSTAMP:20260423T171230
CREATED:20200123T090351Z
LAST-MODIFIED:20200716T203413Z
UID:3704-1599955200-1600041599@dev.manguteraapia.ee
SUMMARY:Tln 36 Esmaabi. Reet Saia
DESCRIPTION:
URL:https://dev.manguteraapia.ee/syndmus/tln-36-esmaabi/
LOCATION:Tallinn\, Pirita tee 26c-33\, Tallinn\, Eesti
END:VEVENT
END:VCALENDAR