BEGIN:VCALENDAR
VERSION:2.0
PRODID:-//Tervisekool - ECPv6.2.9//NONSGML v1.0//EN
CALSCALE:GREGORIAN
METHOD:PUBLISH
X-WR-CALNAME:Tervisekool
X-ORIGINAL-URL:https://dev.manguteraapia.ee
X-WR-CALDESC:Events for Tervisekool
REFRESH-INTERVAL;VALUE=DURATION:PT1H
X-Robots-Tag:noindex
X-PUBLISHED-TTL:PT1H
BEGIN:VTIMEZONE
TZID:Europe/Tallinn
BEGIN:DAYLIGHT
TZOFFSETFROM:+0200
TZOFFSETTO:+0300
TZNAME:EEST
DTSTART:20200329T010000
END:DAYLIGHT
BEGIN:STANDARD
TZOFFSETFROM:+0300
TZOFFSETTO:+0200
TZNAME:EET
DTSTART:20201025T010000
END:STANDARD
END:VTIMEZONE
BEGIN:VEVENT
DTSTART;VALUE=DATE:20200912
DTEND;VALUE=DATE:20200913
DTSTAMP:20260423T230738
CREATED:20200129T130231Z
LAST-MODIFIED:20200608T082454Z
UID:4025-1599868800-1599955199@dev.manguteraapia.ee
SUMMARY:Mänguteraapia VI tsükkel Viha
DESCRIPTION:
URL:https://dev.manguteraapia.ee/syndmus/manguteraapia-viii-tsukkel-laps-ja-haigus/
LOCATION:Tartu\, Kalevi 108\, Tartu\, 50104\, Eesti
END:VEVENT
BEGIN:VEVENT
DTSTART;VALUE=DATE:20200912
DTEND;VALUE=DATE:20200913
DTSTAMP:20260423T230738
CREATED:20200123T090302Z
LAST-MODIFIED:20200716T203428Z
UID:3702-1599868800-1599955199@dev.manguteraapia.ee
SUMMARY:Tln 36 Toiduhügieen ja töötoad. Laivi Mesikäpp
DESCRIPTION:
URL:https://dev.manguteraapia.ee/syndmus/tln-36-toiduhugieen-ja-tootoad/
LOCATION:Tallinn\, Pirita tee 26c-33\, Tallinn\, Eesti
END:VEVENT
BEGIN:VEVENT
DTSTART;VALUE=DATE:20200906
DTEND;VALUE=DATE:20200907
DTSTAMP:20260423T230738
CREATED:20200123T092103Z
LAST-MODIFIED:20200706T104536Z
UID:3738-1599350400-1599436799@dev.manguteraapia.ee
SUMMARY:Tln 33+34 Referaadid\, LÕPETAMINE. Annely Soots
DESCRIPTION:
URL:https://dev.manguteraapia.ee/syndmus/tln-34-referaadid-lopetamine/
LOCATION:Tallinn\, Pirita tee 26c-33\, Tallinn\, Eesti
END:VEVENT
BEGIN:VEVENT
DTSTART;VALUE=DATE:20200905
DTEND;VALUE=DATE:20200906
DTSTAMP:20260423T230738
CREATED:20200123T092036Z
LAST-MODIFIED:20200706T104530Z
UID:3736-1599264000-1599350399@dev.manguteraapia.ee
SUMMARY:Tln 34 TN praktika. Pille Javed
DESCRIPTION:
URL:https://dev.manguteraapia.ee/syndmus/tln-34-tn-praktika/
LOCATION:Tallinn\, Pirita tee 26c-33\, Tallinn\, Eesti
END:VEVENT
BEGIN:VEVENT
DTSTART;VALUE=DATE:20200830
DTEND;VALUE=DATE:20200831
DTSTAMP:20260423T230738
CREATED:20200706T122649Z
LAST-MODIFIED:20200825T081644Z
UID:5072-1598745600-1598831999@dev.manguteraapia.ee
SUMMARY:TT4 Osteoporoos\, vähk\, TT alused. Pille Javed & Annely Soots (TLN)
DESCRIPTION:
URL:https://dev.manguteraapia.ee/syndmus/tt4-valkude-biokeemia-ning-rakubioloogia-eliisa-lukk-skype/
LOCATION:Tallinn\, Pirita tee 26c-33\, Tallinn\, Eesti
END:VEVENT
BEGIN:VEVENT
DTSTART;VALUE=DATE:20200829
DTEND;VALUE=DATE:20200830
DTSTAMP:20260423T230738
CREATED:20200706T122612Z
LAST-MODIFIED:20200825T081709Z
UID:5069-1598659200-1598745599@dev.manguteraapia.ee
SUMMARY:TT4 Sissejuhatus toitumisteraapiasse\, söömishäired. Pille Javed & Mari-Liis Väli (Zoom)
DESCRIPTION:
URL:https://dev.manguteraapia.ee/syndmus/tt4-toitumisteraapia-alused-annely-soots-tln/
LOCATION:Zoom
END:VEVENT
BEGIN:VEVENT
DTSTART;VALUE=DATE:20200828
DTEND;VALUE=DATE:20200829
DTSTAMP:20260423T230738
CREATED:20200123T125600Z
LAST-MODIFIED:20200825T083131Z
UID:3839-1598572800-1598659199@dev.manguteraapia.ee
SUMMARY:Tln 38 Vitamiinid ja mineraalained – praktika. Annely Soots 💻
DESCRIPTION:
URL:https://dev.manguteraapia.ee/syndmus/tln-38-pohitoitained/
LOCATION:Tallinn\, Pirita tee 26c-33\, Tallinn\, Eesti
END:VEVENT
BEGIN:VEVENT
DTSTART;VALUE=DATE:20200827
DTEND;VALUE=DATE:20200828
DTSTAMP:20260423T230738
CREATED:20200123T125539Z
LAST-MODIFIED:20200811T133557Z
UID:3837-1598486400-1598572799@dev.manguteraapia.ee
SUMMARY:Tln 38 Vit-min menüü analüüs ja koostamine. Hiie Järva (läbi veebi)
DESCRIPTION:Ainult e-õpe!
URL:https://dev.manguteraapia.ee/syndmus/tln-38-vitamiinid/
END:VEVENT
BEGIN:VEVENT
DTSTART;VALUE=DATE:20200825
DTEND;VALUE=DATE:20200826
DTSTAMP:20260423T230738
CREATED:20200123T085039Z
LAST-MODIFIED:20200706T104158Z
UID:3674-1598313600-1598399999@dev.manguteraapia.ee
SUMMARY:Tartu 13 Seedimise toetamine toiduga. Pille Javed
DESCRIPTION:
URL:https://dev.manguteraapia.ee/syndmus/tartu-13-seedimise-toetamine-toiduga/
LOCATION:Tartu\, Kalevi 108\, Tartu\, 50104\, Eesti
END:VEVENT
BEGIN:VEVENT
DTSTART;VALUE=DATE:20200824
DTEND;VALUE=DATE:20200825
DTSTAMP:20260423T230738
CREATED:20200123T085011Z
LAST-MODIFIED:20200706T104152Z
UID:3672-1598227200-1598313599@dev.manguteraapia.ee
SUMMARY:Tartu 13 Seedeelundkond. Annely Soots
DESCRIPTION:
URL:https://dev.manguteraapia.ee/syndmus/tartu-13-seedeelundkond/
LOCATION:Tartu\, Kalevi 108\, Tartu\, 50104\, Eesti
END:VEVENT
BEGIN:VEVENT
DTSTART;VALUE=DATE:20200823
DTEND;VALUE=DATE:20200824
DTSTAMP:20260423T230738
CREATED:20200123T123907Z
LAST-MODIFIED:20200706T104115Z
UID:3811-1598140800-1598227199@dev.manguteraapia.ee
SUMMARY:Tln 37 Nõustamise tehnikad. Annely Soots
DESCRIPTION:
URL:https://dev.manguteraapia.ee/syndmus/tln-37-noustamise-tehnikad/
LOCATION:Tallinn\, Pirita tee 26c-33\, Tallinn\, Eesti
END:VEVENT
BEGIN:VEVENT
DTSTART;VALUE=DATE:20200823
DTEND;VALUE=DATE:20200824
DTSTAMP:20260423T230738
CREATED:20200123T092940Z
LAST-MODIFIED:20200819T121141Z
UID:3756-1598140800-1598227199@dev.manguteraapia.ee
SUMMARY:Tartu 14 Põhitoitained. Pille Javed (läbi veebi)
DESCRIPTION:
URL:https://dev.manguteraapia.ee/syndmus/tartu-14-pohitoitained/
LOCATION:Tartu\, Kalevi 108\, Tartu\, 50104\, Eesti
END:VEVENT
BEGIN:VEVENT
DTSTART;VALUE=DATE:20200822
DTEND;VALUE=DATE:20200823
DTSTAMP:20260423T230738
CREATED:20200123T123845Z
LAST-MODIFIED:20200706T104109Z
UID:3809-1598054400-1598140799@dev.manguteraapia.ee
SUMMARY:Tln 37 TN alused. Triin Muiste
DESCRIPTION:
URL:https://dev.manguteraapia.ee/syndmus/tln37-tn-alused/
LOCATION:Tallinn\, Pirita tee 26c-33\, Tallinn\, Eesti
END:VEVENT
BEGIN:VEVENT
DTSTART;VALUE=DATE:20200822
DTEND;VALUE=DATE:20200823
DTSTAMP:20260423T230738
CREATED:20200123T093013Z
LAST-MODIFIED:20200819T121124Z
UID:3758-1598054400-1598140799@dev.manguteraapia.ee
SUMMARY:Tartu 14 Menüü analüüs ja koostamine. Hiie Järva (läbi veebi)
DESCRIPTION:Ainult e-õpe!
URL:https://dev.manguteraapia.ee/syndmus/tartu-14-menuu-analuus-ja-koostamine-hiie-jarva-%f0%9f%92%bb/
END:VEVENT
BEGIN:VEVENT
DTSTART;VALUE=DATE:20200818
DTEND;VALUE=DATE:20200819
DTSTAMP:20260423T230738
CREATED:20200603T082818Z
LAST-MODIFIED:20200706T104058Z
UID:4700-1597708800-1597795199@dev.manguteraapia.ee
SUMMARY:FTT Eakas.
DESCRIPTION:
URL:https://dev.manguteraapia.ee/syndmus/ftt-seedeelundkonna-haiguste-praktika-koolikeskkonas/
LOCATION:Skype
END:VEVENT
BEGIN:VEVENT
DTSTART;VALUE=DATE:20200818
DTEND;VALUE=DATE:20200819
DTSTAMP:20260423T230738
CREATED:20200129T124932Z
LAST-MODIFIED:20200603T083246Z
UID:3991-1597708800-1597795199@dev.manguteraapia.ee
SUMMARY:Mänguteraapia XVI tsükkel Lapsendamine ja mänguteraapia.
DESCRIPTION:
URL:https://dev.manguteraapia.ee/syndmus/manguteraapia-xviii-tsukkel-lugude-jutustamine-sumbolid-ja-mandalad-2/
LOCATION:Tartu\, Kalevi 108\, Tartu\, 50104\, Eesti
END:VEVENT
BEGIN:VEVENT
DTSTART;VALUE=DATE:20200817
DTEND;VALUE=DATE:20200818
DTSTAMP:20260423T230738
CREATED:20200129T124914Z
LAST-MODIFIED:20200603T083242Z
UID:3989-1597622400-1597708799@dev.manguteraapia.ee
SUMMARY:Mänguteraapia XVI tsükkel Lapsendamine ja mänguteraapia.
DESCRIPTION:
URL:https://dev.manguteraapia.ee/syndmus/manguteraapia-xviii-tsukkel-lugude-jutustamine-sumbolid-ja-mandalad/
LOCATION:Tartu\, Kalevi 108\, Tartu\, 50104\, Eesti
END:VEVENT
BEGIN:VEVENT
DTSTART;VALUE=DATE:20200816
DTEND;VALUE=DATE:20200817
DTSTAMP:20260423T230738
CREATED:20200129T125807Z
LAST-MODIFIED:20200603T090601Z
UID:4023-1597536000-1597622399@dev.manguteraapia.ee
SUMMARY:Mänguteraapia V tsükkel Liiv ja savi.
DESCRIPTION:
URL:https://dev.manguteraapia.ee/syndmus/manguteraapia-vii-tsukkel-vaarkohtlemine-2/
LOCATION:Tartu\, Kalevi 108\, Tartu\, 50104\, Eesti
END:VEVENT
BEGIN:VEVENT
DTSTART;VALUE=DATE:20200816
DTEND;VALUE=DATE:20200817
DTSTAMP:20260423T230738
CREATED:20200123T090224Z
LAST-MODIFIED:20200713T070910Z
UID:3700-1597536000-1597622399@dev.manguteraapia.ee
SUMMARY:Tln 36 Vaimne tervis. Pille Javed
DESCRIPTION:
URL:https://dev.manguteraapia.ee/syndmus/tln-36-esmaabi-reet-saia/
LOCATION:Tallinn\, Pirita tee 26c-33\, Tallinn\, Eesti
END:VEVENT
BEGIN:VEVENT
DTSTART;VALUE=DATE:20200815
DTEND;VALUE=DATE:20200816
DTSTAMP:20260423T230738
CREATED:20200129T125754Z
LAST-MODIFIED:20200603T090558Z
UID:4021-1597449600-1597535999@dev.manguteraapia.ee
SUMMARY:Mänguteraapia V tsükkel Liiv ja savi.
DESCRIPTION:
URL:https://dev.manguteraapia.ee/syndmus/manguteraapia-vii-tsukkel-vaarkohtlemine/
LOCATION:Tartu\, Kalevi 108\, Tartu\, 50104\, Eesti
END:VEVENT
BEGIN:VEVENT
DTSTART;VALUE=DATE:20200815
DTEND;VALUE=DATE:20200816
DTSTAMP:20260423T230738
CREATED:20200123T090153Z
LAST-MODIFIED:20200706T104031Z
UID:3698-1597449600-1597535999@dev.manguteraapia.ee
SUMMARY:Tln 36 Südamehaigused ja diabeet. Pille Javed
DESCRIPTION:
URL:https://dev.manguteraapia.ee/syndmus/tln-36-liikumine-%f0%9f%92%bb/
LOCATION:Tallinn\, Pirita tee 26c-33\, Tallinn\, Eesti
END:VEVENT
BEGIN:VEVENT
DTSTART;VALUE=DATE:20200814
DTEND;VALUE=DATE:20200815
DTSTAMP:20260423T230738
CREATED:20200123T091523Z
LAST-MODIFIED:20200706T104010Z
UID:3722-1597363200-1597449599@dev.manguteraapia.ee
SUMMARY:Tln 35 Vaimne tervis. Pille Javed
DESCRIPTION:
URL:https://dev.manguteraapia.ee/syndmus/tln-35-vaimne-tervis/
LOCATION:Tallinn\, Pirita tee 26c-33\, Tallinn\, Eesti
END:VEVENT
BEGIN:VEVENT
DTSTART;VALUE=DATE:20200813
DTEND;VALUE=DATE:20200814
DTSTAMP:20260423T230738
CREATED:20200123T091503Z
LAST-MODIFIED:20200706T103802Z
UID:3720-1597276800-1597363199@dev.manguteraapia.ee
SUMMARY:Tln 35 TN igapäevatöö. Pille Javed
DESCRIPTION:
URL:https://dev.manguteraapia.ee/syndmus/tln-35-tn-igapaevatoo/
LOCATION:Tallinn\, Pirita tee 26c-33\, Tallinn\, Eesti
END:VEVENT
BEGIN:VEVENT
DTSTART;VALUE=DATE:20200812
DTEND;VALUE=DATE:20200813
DTSTAMP:20260423T230738
CREATED:20200123T091421Z
LAST-MODIFIED:20200706T103747Z
UID:3718-1597190400-1597276799@dev.manguteraapia.ee
SUMMARY:Tln 35 Probleemne klient. Annely Soots
DESCRIPTION:
URL:https://dev.manguteraapia.ee/syndmus/tln-35-liikumine-%f0%9f%92%bb/
LOCATION:Tallinn\, Pirita tee 26c-33\, Tallinn\, Eesti
END:VEVENT
BEGIN:VEVENT
DTSTART;TZID=Europe/Tallinn:20200712T080000
DTEND;TZID=Europe/Tallinn:20200712T170000
DTSTAMP:20260423T230738
CREATED:20200123T094813Z
LAST-MODIFIED:20200603T065436Z
UID:3797-1594540800-1594573200@dev.manguteraapia.ee
SUMMARY:Tln 37 Menüü analüüs ja koostamine. Hiie Järva ?
DESCRIPTION:
URL:https://dev.manguteraapia.ee/syndmus/tln-37-menuu-analuus-ja-koostamine-hiie-jarva-%f0%9f%92%bb/
END:VEVENT
BEGIN:VEVENT
DTSTART;VALUE=DATE:20200712
DTEND;VALUE=DATE:20200713
DTSTAMP:20260423T230738
CREATED:20191028T122212Z
LAST-MODIFIED:20200123T131631Z
UID:2486-1594512000-1594598399@dev.manguteraapia.ee
SUMMARY:Tln 34 TN praktiline eksam. Annely Soots
DESCRIPTION:
URL:https://dev.manguteraapia.ee/syndmus/tln-34-tn-praktika-hiie-jarva/
LOCATION:Tallinn\, Pirita tee 26c-33\, Tallinn\, Eesti
END:VEVENT
BEGIN:VEVENT
DTSTART;VALUE=DATE:20200711
DTEND;VALUE=DATE:20200712
DTSTAMP:20260423T230738
CREATED:20200123T094747Z
LAST-MODIFIED:20201020T132211Z
UID:3794-1594425600-1594511999@dev.manguteraapia.ee
SUMMARY:Tln 37  Vit-min tasakaalus menüü koostamine. Hiie Järva
DESCRIPTION:
URL:https://dev.manguteraapia.ee/syndmus/tln-37-mineraalained-maiu-maret-taidre/
LOCATION:Tallinn\, Pirita tee 26c-33\, Tallinn\, Eesti
END:VEVENT
BEGIN:VEVENT
DTSTART;VALUE=DATE:20200711
DTEND;VALUE=DATE:20200712
DTSTAMP:20260423T230738
CREATED:20191028T122133Z
LAST-MODIFIED:20200603T065640Z
UID:2484-1594425600-1594511999@dev.manguteraapia.ee
SUMMARY:Tln 34 TN teooria ja praktika. Pille Javed
DESCRIPTION:
URL:https://dev.manguteraapia.ee/syndmus/tln-34-tn-igapaevatoo-teooriaeksami-teemad-pille-javed/
LOCATION:Tallinn\, Pirita tee 26c-33\, Tallinn\, Eesti
END:VEVENT
BEGIN:VEVENT
DTSTART;VALUE=DATE:20200708
DTEND;VALUE=DATE:20200709
DTSTAMP:20260423T230738
CREATED:20200518T083806Z
LAST-MODIFIED:20200518T083806Z
UID:4600-1594166400-1594252799@dev.manguteraapia.ee
SUMMARY:FTT Haige eakas.
DESCRIPTION:
URL:https://dev.manguteraapia.ee/syndmus/ftt-haige-eakas/
END:VEVENT
BEGIN:VEVENT
DTSTART;VALUE=DATE:20200708
DTEND;VALUE=DATE:20200709
DTSTAMP:20260423T230738
CREATED:20191028T134631Z
LAST-MODIFIED:20191028T134631Z
UID:2581-1594166400-1594252799@dev.manguteraapia.ee
SUMMARY:Tln 35 Südamehaigused ja diabeet. Pille Javed
DESCRIPTION:
URL:https://dev.manguteraapia.ee/syndmus/tln-35-sudamehaigused-ja-diabeet-pille-javed/
LOCATION:Tallinn\, Pirita tee 26c-33\, Tallinn\, Eesti
END:VEVENT
END:VCALENDAR